Workbook

Sheet European Airlines 2014 Pax
A1: European Airline Traffic Trends 2014: Passenger numbers
A2: Sources: Individual airlines, airline groups and UK CAA
A4: Airline | B4: Pax 2013 | C4: Jan | D4: Feb | E4: Mar | F4: Apr | G4: May | H4: Jun | I4: Jul | J4: Aug | K4: Sep | L4: Oct | M4: Nov | N4: Dec | O4: Pax 2014 | P4: vly | Q4: Source
A5: Aer Lingus | O5: =SUM(C5:N5) -> 0 | Q5: http://corporate.aerlingus.com/investorrelations/trafficstatistics/index.html
A6: Aer Lingus Regional | O6: =SUM(C6:N6) -> 0 | Q6: http://corporate.aerlingus.com/investorrelations/trafficstatistics/index.html
A7: Aeroflot | O7: =SUM(C7:N7) -> 0 | Q7: http://www.aeroflot.ru/cms/en/about/shareholders_and_investors
A8: Air France-KLM | O8: =SUM(C8:N8) -> 0 | Q8: http://www.airfranceklm.com/en/press/press-releases/
A9: airBaltic | O9: =SUM(C9:N9) -> 0 | Q9: http://www.airbaltic.com/public/press_releases.html
A10: airberlin | O10: =SUM(C10:N10) -> 0 | Q10: http://www.airberlin.com/site/pressreleases.php?LANG=eng
A11: Austrian Airlines | O11: =SUM(C11:N11) -> 0 | Q11: http://www.austrianairlines.ag/InvestorRelations/FinancialReports/TrafficResults.aspx?sc_lang=en
A12: bmi Regional | O12: =SUM(C12:N12) -> 0 | Q12: http://www.caa.co.uk/airlinestatistics
A13: Brussels Airlines | O13: =SUM(C13:N13) -> 0 | Q13: http://corporate.brusselsairlines.com/en_be/corp/news/press-releases/
A14: Croatia Airlines | O14: =SUM(C14:N14) -> 0 | Q14: stat@croatiaairlines.hr
A15: easyJet | O15: =SUM(C15:N15) -> 0 | Q15: http://corporate.easyjet.com/investors/monthly-traffic-statistics/2013.aspx?sc_lang=en
A16: Estonian Air | O16: =SUM(C16:N16) -> 0 | Q16: http://estonian-air.com/en/about-us/news/press-releases/?op=archive
... A33: Widerøe | O33: =SUM(C33:N33) -> 0 | Q33: http://www.sasgroup.net/SASGroup/default.asp
A35: ^ From May 2013 also includes Vueling

Sheet European Airlines 2014 vly
A1: European Airline Traffic Trends 2014: Change in passenger numbers
A2: Sources: Individual airlines, airline groups and UK CAA
C3: 3 | D3: 4 | E3: 5 | F3: 6 | G3: 7 | H3: 8 | I3: 9 | J3: 10 | K3: 11 | L3: 12 | M3: 13 | N3: 14
A4: Airline | B4: Pax 2013 | C4: Jan | D4: Feb | E4: Mar | F4: Apr | G4: May | H4: Jun | I4: Jul | J4: Aug | K4: Sep | L4: Oct | M4: Nov | N4: Dec
A5: Aer Lingus
A6: Aer Lingus Regional
A7: Aeroflot
A8: Air France-KLM
A9: airBaltic
A10: airberlin
A11: Austrian Airlines
A12: bmi Regional
A13: Brussels Airlines
A14: Croatia Airlines
A15: easyJet
A16: Estonian Air
... A35: ^ From May 2013 also includes Vueling

Sheet European Airlines 2014 LF
A1: European Airline Traffic Trends 2014: Load factors
A2: Sources: Individual airlines, airline groups and UK CAA
A4: Airline | B4: LF 2013 | C4: Jan | D4: Feb | E4: Mar | F4: Apr | G4: May | H4: Jun | I4: Jul | J4: Aug | K4: Sep | L4: Oct | M4: Nov | N4: Dec | O4: LF 2014 | P4: Var.
A5: Aer Lingus
A6: Aeroflot
A7: Air France-KLM
A8: airBaltic
A9: airberlin
A10: Austrian Airlines
A11: bmi Regional
A12: Brussels Airlines
A13: Croatia Airlines
A14: easyJet
A15: Estonian Air
A16: Finnair
... A33: ^ From May 2013 also includes Vueling

Sheet European Airlines 2013 Pax
A1: European Airline Traffic Trends 2013: Passenger numbers
A2: Sources: Individual airlines, airline groups and UK CAA
A4: Airline | B4: Pax 2012 | C4: Jan | D4: Feb | E4: Mar | F4: Apr | G4: May | H4: Jun | I4: Jul | J4: Aug | K4: Sep | L4: Oct | M4: Nov | N4: Dec | O4: Pax 2013 | P4: vly
A5: Aer Lingus | B5: 9653000 | C5: 573000 | D5: 575000 | E5: 757000 | F5: 785000 | G5: 931000 | H5: 949000 | I5: 1025000 | J5: 1005000 | K5: 883000 | L5: 854000 | M5: 641000 | N5: 648000 | O5: 9625000 | P5: -0.003
A6: Aer Lingus Regional | B6: 1010000 | C6: 65000 | D6: 73000 | E6: 87000 | F6: 83000 | G6: 90000 | H6: 95000 | I6: 116000 | J6: 121000 | K6: 106000 | L6: 103000 | M6: 87000 | N6: 85000 | O6: 1112000 | P6: 0.101
A7: Aeroflot | B7: ='European Airlines 2012 Pax'!O6 -> 17656300 | C7: 1395700 | D7: 1354600 | E7: 1573200 | F7: 1592400 | G7: 1702800 | H7: 1922900 | I7: 2104000 | L7: 1875600 | M7: 1664300 | N7: 1630200 | O7: 20902400 | P7: 0.184
A8: Air France-KLM | B8: ='European Airlines 2012 Pax'!O7 -> 77445000 | C8: 5537000 | D8: 5338000 | E8: 6453000 | F8: 6638000 | G8: 6804000 | H8: 7016000 | I8: 7501000 | J8: 7150000 | K8: 6930000 | L8: 6878000 | M8: 5992000 | N8: 6206000 | O8: 78444000 | P8: 0.013
A9: airBaltic | B9: ='European Airlines 2012 Pax'!O8 -> 2939839 | C9: 174564 | D9: 158558 | E9: 201757 | F9: 239544 | G9: 268892 | H9: 301646 | I9: 310746 | J9: 296345 | K9: 264028 | L9: 235855 | O9: =SUM(C9:N9) -> 2451935
A10: airberlin | B10: ='European Airlines 2012 Pax'!O9 -> 33346495 | C10: 1757109 | D10: 1801396 | E10: 2360545 | F10: 2481959 | G10: 2955682 | H10: 3246637 | I10: 3400676 | J10: 3382922 | K10: 3309554 | L10: 3013054 | M10: 2005879 | N10: 1820724 | O10: 31535867 | P10: -0.054
A11: Austrian Airlines | B11: ='European Airlines 2012 Pax'!O10 -> 11447900 | C11: 723200 | D11: 681000 | E11: 886600 | F11: 922300 | G11: 998900 | H11: 1059000 | I11: 1108500 | J11: 1101300 | K11: 1108600 | L11: 1037600 | M11: 837900 | N11: 801100 | O11: 11287800 | P11: -0.016
A12: bmi Regional | C12: 23203 | D12: 27442 | E12: 32494 | F12: 35719 | G12: 38377 | H12: 41631 | I12: 47508 | J12: 44243 | K12: 49090 | L12: 45932 | O12: =SUM(C12:N12) -> 385639
A13: Brussels Airlines | B13: 5761819 | C13: 367142 | D13: 364207 | E13: 465138 | F13: 522945 | G13: 537710 | H13: 551623 | I13: 581954 | J13: 522790 | K13: 557569 | L13: 526651 | M13: 420992 | N13: 433589 | O13: 5878179 | P13: =O13/B13-1 -> 0.020195011
A14: Croatia Airlines | B14: 1951499 | C14: 97188 | D14: 90594 | E14: 124836 | O14: =SUM(C14:N14) -> 312618
A15: easyJet | B15: 59204632 | C15: 3878640 | D15: 4112186 | E15: 4872934 | F15: 5253610 | G15: 5609351 | H15: 5537275 | I15: 5976704 | J15: 6101344 | K15: 5714152 | L15: 5530091 | M15: 4255978 | N15: 4490538 | O15: =SUM(C15:N15) -> 61332803 | P15: =O15/B15-1 -> 0.035946022
A16: Estonian Air | B16: 887563 | C16: 43627 | D16: 32613 | E16: 45451 | F16: 46513 | G16: 52755 | H16: 54297 | I16: 50806 | J16: 51976 | K16: 50119 | L16: 44430 | M16: 36834 | N16: 41083 | O16: 551169 | P16: =O16/B16-1 -> -0.37900859
A17: Finnair | B17: 8774100 | C17: 683600 | D17: 675300 | E17: 800900 | F17: 766300 | G17: 774600 | H17: 856100 | I17: 877100 | J17: 857900 | K17: 829700 | L17: 799300 | M17: 654600 | N17: 694100 | O17: =SUM(C17:N17) -> 9269500 | P17: =O17/B17-1 -> 0.056461631
A18: flybe | B18: 7052819 | C18: 409658 | D18: 463424 | E18: 547473 | F18: 579654 | G18: 661615 | H18: 711857 | I18: 759800 | J18: 767894 | K18: 719498 | L18: 653325 | O18: =SUM(C18:N18) -> 6274198
A19: IAG (BA+Iberia)^ | B19: 54600000 | C19: 3790000 | D19: 3611000 | E19: 4371000 | F19: 4371000 | G19: 6184000 | H19: 6531000 | I19: 7216000 | J19: 7293000 | K19: 6712000 | L19: 6254000 | M19: 5288000 | N19: 5228000 | O19: 67224000 | P19: =O19/B19-1 -> 0.23120879
A20: Icelandair | B20: 2020100 | C20: 109089 | D20: 104360 | E20: 145074 | F20: 148074 | G20: 192321 | H20: 268617 | I20: 306241 | J20: 300089 | K20: 215205 | L20: 184854 | M20: 143504 | N20: 140820 | O20: 2257485 | P20: =O20/B20-1 -> 0.11751151
A21: Jet2.com | B21: 4776257 | C21: 117496 | D21: 171432 | E21: 264255 | F21: 353545 | G21: 529134 | H21: 745949 | I21: 815937 | J21: 857101 | K21: 729801 | L21: 507505 | O21: =SUM(C21:N21) -> 5092155
A22: Lufthansa | B22: 74740000 | C22: 4854000 | D22: 4778000 | E22: 5858000 | F22: 6228000 | G22: 6906000 | H22: 7227000 | I22: 7533000 | J22: 7315000 | K22: 7305000 | L22: 7127000 | M22: 5772000 | N22: 5234000 | O22: 76261000 | P22: 0.014
A23: Monarch | B23: 6205453 | C23: 296743 | D23: 311347 | E23: 385693 | F23: 338656 | G23: 715800 | H23: 832303 | I23: 895451 | J23: 966372 | K23: 849251 | L23: 656549 | O23: =SUM(C23:N23) -> 6248165
A24: Norwegian | B24: 17685074 | C24: 1237195 | D24: 1254643 | E24: 1439943 | F24: 1710279 | G24: 1885648 | H24: 1911841 | I24: 2128835 | J24: 1973468 | K24: 1920329 | L24: 1955463 | M24: 1689049 | N24: 1604937 | O24: =SUM(C24:N24) -> 20711630 | P24: =O24/B24-1 -> 0.17113618
A25: Ryanair | B25: 79610000 | C25: 4350000 | D25: 4470000 | E25: 5400000 | F25: 7400000 | G25: 7860000 | H25: 7960000 | I25: 8840000 | J25: 9020000 | K25: 8100000 | L25: 8020000 | M25: 5200000 | N25: 5000000 | O25: 81400000 | P25: =O25/B25-1 -> 0.022484612
A26: SAS | B26: 25315000 | C26: 1666000 | D26: 1800000 | E26: 2079000 | F26: 2222000 | G26: 2368000 | H26: 2426000 | I26: 2132000 | J26: 2161000 | K26: 2410000 | L26: 2411000 | M26: 2154000 | N26: 1729000 | O26: =SUM(C26:N26) -> 25558000 | P26: =O26/B26-1 -> 0.0095990519
A27: SWISS^^ | B27: 16844000 | C27: 1246000 | D27: 1164000 | E27: 1434000 | F27: 1436000 | G27: 1472000 | H27: 1510000 | I27: 1662000 | J27: 1651000 | K27: 1511000 | L27: 1507000 | M27: 1220000 | N27: 1264000 | O27: 17039000 | P27: 0.005
A28: Thomson Airways | B28: 10705200 | C28: 521017 | D28: 494551 | E28: 572366 | F28: 541563 | G28: 1075484 | H28: 1328239 | I28: 1405382 | J28: 1470731 | K28: 1307653 | L28: 950880 | O28: =SUM(C28:N28) -> 9667866
A29: Transaero | B29: 10327560 | C29: 2190483 | F29: 3300559 | O29: =SUM(C29:N29) -> 5491042
A30: Turkish Airlines | B30: 39044600 | C30: 3206315 | D30: 3165978 | E30: 3640509 | F30: 3885623 | G30: 4132426 | H30: 4373652 | I30: 4470446 | J30: 4844849 | K30: 4481834 | L30: 4395331 | M30: 3849370 | N30: 3823672 | O30: =SUM(C30:N30) -> 48270005 | P30: =O30/B30-1 -> 0.23627864
A31: Virgin Atlantic | B31: 5448283 | C31: 414921 | D31: 365344 | E31: 452835 | F31: 466555 | G31: 497346 | H31: 548937 | I31: 574494 | J31: 611287 | K31: 526340 | L31: 513582 | O31: =SUM(C31:N31) -> 4971641
A32: Vueling | B32: 14795640 | C32: 804938 | D32: 778000 | E32: 1079000 | F32: 1358000 | G32: 1544000 | H32: 1701000 | O32: =SUM(C32:N32) -> 7264938
A33: Widerøe | B33: 2767000 | C33: 221000 | D33: 220000 | E33: 229000 | F33: 251000 | G33: 216000 | H33: 260000 | I33: 239000 | O33: =SUM(C33:N33) -> 1636000
A35: ^ From May 2013 also includes Vueling
A36: ^^ Includes Edelweiss Air

Sheet European Airlines 2013 vly
A1: European Airline Traffic Trends 2013: Change in passenger numbers
A2: Sources: Individual airlines, airline groups and UK CAA
C3: 3 | D3: 4 | E3: 5 | F3: 6 | G3: 7 | H3: 8 | I3: 9 | J3: 10 | K3: 11 | L3: 12 | M3: 13 | N3: 14
A4: Airline | B4: Pax 2012 | C4: Jan | D4: Feb | E4: Mar | F4: Apr | G4: May | H4: Jun | I4: Jul | J4: Aug | K4: Sep | L4: Oct | M4: Nov | N4: Dec
A5: Aer Lingus | B5: 9653000 | C5: 0.018 | D5: -0.04 | E5: 0.029 | F5: -0.032 | G5: 0.056 | H5: 0.034 | I5: 0.021 | J5: -0.004 | K5: -0.046 | L5: -0.022 | M5: -0.057 | N5: -0.005
A6: Aer Lingus Regional | B6: 1010000 | C6: 0.226 | D6: 0.237 | E6: 0.192 | F6: 0.051 | G6: 0.023 | H6: 0 | I6: 0.105 | J6: 0.131 | K6: 0.14 | L6: 0.157 | M6: 0.012 | N6: 0.024
A7: Aeroflot | B7: ='European Airlines 2012 Pax'!O6 -> 17656300 | C7: 0.191 | D7: =1354600/1146700-1 -> 0.18130287 | E7: 0.228 | F7: 0.185 | G7: =1702800/'European Airlines 2012 Pax'!G6-1 -> 0.2253886 | H7: 0.198 | I7: 0.17 | L7: 0.205 | M7: 0.178 | N7: 0.17
A8: Air France-KLM | B8: ='European Airlines 2012 Pax'!O7 -> 77445000 | C8: -0.038 | D8: 0 | E8: 0.013 | F8: 0.019 | G8: 0.039 | H8: 0.016 | I8: 0.01 | J8: 0.03 | K8: 0.002 | L8: 0.02 | M8: -0.002 | N8: 0.037
A9: airBaltic | B9: ='European Airlines 2012 Pax'!O8 -> 2939839 | C9: ='European Airlines 2013 Pax'!C9/'European Airlines 2012 Pax'!C8-1 -> -0.085889635 | D9: ='European Airlines 2013 Pax'!D9/'European Airlines 2012 Pax'!D8-1 -> -0.12144551 | E9: ='European Airlines 2013 Pax'!E9/'European Airlines 2012 Pax'!E8-1 -> -0.073106078 | F9: ='European Airlines 2013 Pax'!F9/'European Airlines 2012 Pax'!F8-1 -> -0.049556806 | G9: ='European Airlines 2013 Pax'!G9/'European Airlines 2012 Pax'!G8-1 -> -0.0077566293 | H9: ='European Airlines 2013 Pax'!H9/'European Airlines 2012 Pax'!H8-1 -> 0.011047428 | I9: ='European Airlines 2013 Pax'!I9/'European Airlines 2012 Pax'!I8-1 -> -0.036237323 | J9: ='European Airlines 2013 Pax'!J9/'European Airlines 2012 Pax'!J8-1 -> -0.045572392 | ... L9: ='European Airlines 2013 Pax'!L9/'European Airlines 2012 Pax'!L8-1 -> -0.062970541
A10: airberlin | B10: ='European Airlines 2012 Pax'!O9 -> 33346495 | C10: -0.076 | D10: ='European Airlines 2013 Pax'!D10/'European Airlines 2012 Pax'!D9-1 -> -0.11870589 | E10: -0.08 | F10: -0.067 | G10: -0.043 | H10: -0.016 | I10: -0.051 | J10: -0.053 | K10: -0.064 | L10: -0.052 | M10: -0.031 | N10: -0.015
A11: Austrian Airlines | B11: ='European Airlines 2012 Pax'!O10 -> 11447900 | C11: -0.023 | D11: -0.052 | E11: -0.01 | F11: -0.064 | G11: -0.036 | H11: -0.008 | I11: -0.006 | J11: 0.019 | K11: -0.013 | L11: 0.009 | M11: -0.029 | N11: -0.013
A12: bmi Regional
A13: Brussels Airlines | B13: 5761819 | C13: 0.006 | D13: -0.026 | E13: 0.014 | F13: 0.029 | G13: 0.041 | H13: 0.021 | I13: 0.006 | J13: -0.007 | K13: -0.006 | L13: 0.016 | M13: 0.015 | N13: 0.12
A14: Croatia Airlines | B14: 1951499 | C14: 0.037 | D14: 0.064 | E14: 0.075
A15: easyJet | B15: 59204632 | C15: 0.04 | D15: 0.034 | E15: 0.053 | F15: 0.025 | G15: 0.034 | H15: 0.019 | I15: 0.02 | J15: 0.039 | K15: 0.048 | L15: 0.054 | M15: 0.034 | N15: 0.035
A16: Estonian Air | B16: 887563 | C16: 0.022739527 | D16: ='European Airlines 2013 Pax'!D16/'European Airlines 2012 Pax'!D18-1 -> -0.1794646 | E16: =45451/56755-1 -> -0.19917188 | F16: =46513/85583-1 -> -0.4565159 | G16: =52755/98439-1 -> -0.46408436 | H16: ='European Airlines 2013 Pax'!H16/'European Airlines 2012 Pax'!H18-1 -> -0.45874038 | I16: ='European Airlines 2013 Pax'!I16/'European Airlines 2012 Pax'!I18-1 -> -0.44857602 | J16: ='European Airlines 2013 Pax'!J16/'European Airlines 2012 Pax'!J18-1 -> -0.4091152 | K16: ='European Airlines 2013 Pax'!K16/'European Airlines 2012 Pax'!K18-1 -> -0.40180703 | L16: ='European Airlines 2013 Pax'!L16/'European Airlines 2012 Pax'!L18-1 -> -0.43896557 | M16: ='European Airlines 2013 Pax'!M16/'European Airlines 2012 Pax'!M18-1 -> -0.45307141 | N16: ='European Airlines 2013 Pax'!N16/'European Airlines 2012 Pax'!N18-1 -> -0.23199297
A17: Finnair | B17: 8774100 | C17: 0.072 | D17: 0.013 | E17: 0.038 | F17: 0.064 | G17: 0.051 | H17: 0.072 | I17: 0.081 | J17: 0.102 | K17: 0.076 | L17: 0.064 | M17: -0.013 | N17: 0.041
A18: flybe | B18: 7052819 | C18: ='European Airlines 2013 Pax'!C18/'European Airlines 2012 Pax'!C20-1 -> -0.013271736 | D18: ='European Airlines 2013 Pax'!D18/'European Airlines 2012 Pax'!D20-1 -> -0.019173177 | E18: ='European Airlines 2013 Pax'!E18/'European Airlines 2012 Pax'!E20-1 -> -0.0060854173 | F18: ='European Airlines 2013 Pax'!F18/'European Airlines 2012 Pax'!F20-1 -> 0.015646792 | G18: ='European Airlines 2013 Pax'!G18/'European Airlines 2012 Pax'!G20-1 -> 0.063735886 | H18: ='European Airlines 2013 Pax'!H18/'European Airlines 2012 Pax'!H20-1 -> 0.057347367 | I18: ='European Airlines 2013 Pax'!I18/'European Airlines 2012 Pax'!I20-1 -> 0.08747769 | J18: ='European Airlines 2013 Pax'!J18/'European Airlines 2012 Pax'!J20-1 -> 0.088282063 | ... L18: ='European Airlines 2013 Pax'!L18/'European Airlines 2012 Pax'!L20-1 -> 0.03474081
A19: IAG (BA+Iberia)^ | B19: 54600000 | C19: 0.053 | D19: 0.014 | E19: 0.035 | F19: -0.025 | G19: 0.017 | H19: 0.011 | I19: 0.005 | J19: 0.028 | K19: 0.006 | L19: 0.019 | M19: 0.03 | N19: 0.043
A20: Icelandair | B20: 2020100 | C20: ='European Airlines 2013 Pax'!C20/'European Airlines 2012 Pax'!C22-1 -> 0.17189111 | D20: ='European Airlines 2013 Pax'!D20/'European Airlines 2012 Pax'!D22-1 -> 0.11879416 | E20: =145074/118541-1 -> 0.22382973 | F20: =148074/136413-1 -> 0.085483055 | G20: =192321/165251-1 -> 0.16381141 | H20: ='European Airlines 2013 Pax'!H20/'European Airlines 2012 Pax'!H22-1 -> 0.095090749 | I20: ='European Airlines 2013 Pax'!I20/'European Airlines 2012 Pax'!I22-1 -> 0.11040164 | J20: ='European Airlines 2013 Pax'!J20/'European Airlines 2012 Pax'!J22-1 -> 0.10723734 | K20: ='European Airlines 2013 Pax'!K20/'European Airlines 2012 Pax'!K22-1 -> 0.085758828 | L20: ='European Airlines 2013 Pax'!L20/'European Airlines 2012 Pax'!L22-1 -> 0.07463884 | M20: ='European Airlines 2013 Pax'!M20/'European Airlines 2012 Pax'!M22-1 -> 0.095274803 | N20: ='European Airlines 2013 Pax'!N20/'European Airlines 2012 Pax'!N22-1 -> 0.17762168
A21: Jet2.com | B21: 4776257 | C21: ='European Airlines 2013 Pax'!C21/'European Airlines 2012 Pax'!C24-1 -> -0.0074003987 | D21: ='European Airlines 2013 Pax'!D21/'European Airlines 2012 Pax'!D24-1 -> 0.10312343 | E21: ='European Airlines 2013 Pax'!E21/'European Airlines 2012 Pax'!E24-1 -> 0.32144018 | F21: ='European Airlines 2013 Pax'!F21/'European Airlines 2012 Pax'!F24-1 -> 0.0054460655 | G21: ='European Airlines 2013 Pax'!G21/'European Airlines 2012 Pax'!G24-1 -> 0.14989384 | H21: ='European Airlines 2013 Pax'!H21/'European Airlines 2012 Pax'!H24-1 -> 0.12624805 | I21: ='European Airlines 2013 Pax'!I21/'European Airlines 2012 Pax'!I24-1 -> 0.13345993 | J21: ='European Airlines 2013 Pax'!J21/'European Airlines 2012 Pax'!J24-1 -> 0.16126388 | ... L21: ='European Airlines 2013 Pax'!L21/'European Airlines 2012 Pax'!L24-1 -> 0.17994234
A22: Lufthansa | B22: 74740000 | C22: -0.048 | D22: -0.008 | E22: -0.013 | F22: -0.014 | G22: 0.009 | H22: 0.026 | I22: 0.006 | J22: 0.039 | K22: 0.046 | L22: 0.03 | M22: 0.026 | N22: 0.034
A23: Monarch | B23: 6205453 | C23: ='European Airlines 2013 Pax'!C23/'European Airlines 2012 Pax'!C26-1 -> 0.074669081 | D23: ='European Airlines 2013 Pax'!D23/'European Airlines 2012 Pax'!D26-1 -> 0.13948016 | E23: ='European Airlines 2013 Pax'!E23/'European Airlines 2012 Pax'!E26-1 -> 0.091890928 | F23: ='European Airlines 2013 Pax'!F23/'European Airlines 2012 Pax'!F26-1 -> -0.22871107 | G23: ='European Airlines 2013 Pax'!G23/'European Airlines 2012 Pax'!G26-1 -> 0.27336413 | H23: ='European Airlines 2013 Pax'!H23/'European Airlines 2012 Pax'!H26-1 -> 0.181096 | I23: ='European Airlines 2013 Pax'!I23/'European Airlines 2012 Pax'!I26-1 -> 0.14817455 | J23: ='European Airlines 2013 Pax'!J23/'European Airlines 2012 Pax'!J26-1 -> 0.14398208 | ... L23: ='European Airlines 2013 Pax'!L23/'European Airlines 2012 Pax'!L26-1 -> 0.025524517
A24: Norwegian | B24: 17685074 | C24: 0.09 | D24: 0.09 | E24: =1439943/1362830-1 -> 0.056582993 | F24: =1710279/1345293-1 -> 0.27130595 | G24: =1885648/1542723-1 -> 0.22228553 | H24: ='European Airlines 2013 Pax'!H24/'European Airlines 2012 Pax'!H27-1 -> 0.20717229 | I24: ='European Airlines 2013 Pax'!I24/'European Airlines 2012 Pax'!I27-1 -> 0.16958802 | J24: ='European Airlines 2013 Pax'!J24/'European Airlines 2012 Pax'!J27-1 -> 0.14467247 | K24: ='European Airlines 2013 Pax'!K24/'European Airlines 2012 Pax'!K27-1 -> 0.16545892 | L24: ='European Airlines 2013 Pax'!L24/'European Airlines 2012 Pax'!L27-1 -> 0.18733249 | M24: ='European Airlines 2013 Pax'!M24/'European Airlines 2012 Pax'!M27-1 -> 0.15777738 | N24: ='European Airlines 2013 Pax'!N24/'European Airlines 2012 Pax'!N27-1 -> 0.26691617
A25: Ryanair | B25: 79610000 | C25: -0.01 | D25: -0.06 | E25: -0.01 | F25: 0.02 | G25: 0.05 | H25: 0.02 | I25: 0.01 | J25: 0.01 | K25: 0.03 | L25: 0.06 | M25: 0.06 | N25: 0.04
A26: SAS | B26: 25315000 | C26: -0.018 | D26: -0.035 | E26: -0.064 | F26: 0.053 | G26: -0.016 | H26: 0.009 | I26: 0.049 | J26: 0.033 | K26: 0.003 | L26: -0.01 | M26: -0.02 | N26: 0.018
A27: SWISS^^ | B27: 16844000 | C27: 0.002 | D27: -0.019 | E27: -0.013 | F27: -0.014 | G27: 0.036 | H27: 0.015 | I27: 0.004 | J27: 0.024 | K27: -0.014 | L27: 0.005 | M27: -0.027 | N27: 0.016
A28: Thomson Airways | B28: 10705200 | C28: ='European Airlines 2013 Pax'!C28/'European Airlines 2012 Pax'!C31-1 -> -0.032480483 | D28: ='European Airlines 2013 Pax'!D28/'European Airlines 2012 Pax'!D31-1 -> -0.048733667 | E28: ='European Airlines 2013 Pax'!E28/'European Airlines 2012 Pax'!E31-1 -> -0.01341722 | F28: ='European Airlines 2013 Pax'!F28/'European Airlines 2012 Pax'!F31-1 -> -0.033011279 | G28: ='European Airlines 2013 Pax'!G28/'European Airlines 2012 Pax'!G31-1 -> 0.081411215 | H28: ='European Airlines 2013 Pax'!H28/'European Airlines 2012 Pax'!H31-1 -> 0.005032582 | I28: ='European Airlines 2013 Pax'!I28/'European Airlines 2012 Pax'!I31-1 -> 0.001201828 | J28: ='European Airlines 2013 Pax'!J28/'European Airlines 2012 Pax'!J31-1 -> -0.0046925386 | ... L28: ='European Airlines 2013 Pax'!L28/'European Airlines 2012 Pax'!L31-1 -> -0.045220681
A29: Transaero | B29: 10327560 | C29: 0.238 | F29: 0.282
A30: Turkish Airlines | B30: 39044600 | C30: 0.225 | D30: ='European Airlines 2013 Pax'!D30/'European Airlines 2012 Pax'!D33-1 -> 0.28844631 | E30: ='European Airlines 2013 Pax'!E30/'European Airlines 2012 Pax'!E33-1 -> 0.25364125 | F30: ='European Airlines 2013 Pax'!F30/'European Airlines 2012 Pax'!F33-1 -> 0.25867097 | G30: ='European Airlines 2013 Pax'!G30/'European Airlines 2012 Pax'!G33-1 -> 0.28098116 | H30: ='European Airlines 2013 Pax'!H30/'European Airlines 2012 Pax'!H33-1 -> 0.26317158 | I30: ='European Airlines 2013 Pax'!I30/'European Airlines 2012 Pax'!I33-1 -> 0.1646178 | J30: ='European Airlines 2013 Pax'!J30/'European Airlines 2012 Pax'!J33-1 -> 0.28017969 | K30: ='European Airlines 2013 Pax'!K30/'European Airlines 2012 Pax'!K33-1 -> 0.18996368 | ... N30: ='European Airlines 2013 Pax'!N30/'European Airlines 2012 Pax'!N33-1 -> 0.23508325
A31: Virgin Atlantic | B31: 5448283 | C31: ='European Airlines 2013 Pax'!C31/'European Airlines 2012 Pax'!C34-1 -> 0.051718937 | D31: ='European Airlines 2013 Pax'!D31/'European Airlines 2012 Pax'!D34-1 -> 0.0080874582 | E31: ='European Airlines 2013 Pax'!E31/'European Airlines 2012 Pax'!E34-1 -> 0.023577997 | F31: ='European Airlines 2013 Pax'!F31/'European Airlines 2012 Pax'!F34-1 -> 0.031461961 | G31: ='European Airlines 2013 Pax'!G31/'European Airlines 2012 Pax'!G34-1 -> 0.15663743 | H31: ='European Airlines 2013 Pax'!H31/'European Airlines 2012 Pax'!H34-1 -> 0.12734274 | I31: ='European Airlines 2013 Pax'!I31/'European Airlines 2012 Pax'!I34-1 -> 0.13338581 | J31: ='European Airlines 2013 Pax'!J31/'European Airlines 2012 Pax'!J34-1 -> 0.14137435 | ... L31: ='European Airlines 2013 Pax'!L31/'European Airlines 2012 Pax'!L34-1 -> 0.10642139
A32: Vueling | B32: 14795640 | C32: ='European Airlines 2013 Pax'!C32/'European Airlines 2012 Pax'!C35-1 -> 0.10613381 | D32: ='European Airlines 2013 Pax'!D32/'European Airlines 2012 Pax'!D35-1 -> -0.024429392 | E32: =1079000/1041729-1 -> 0.035778019 | F32: =1358000/1200140-1 -> 0.13153465 | G32: =1544/1274-1 -> 0.21193093 | H32: =1701/1410-1 -> 0.20638298
A33: Widerøe | B33: 2767000 | C33: 0.128 | D33: 0.056 | E33: 0.008 | F33: 0.183 | G33: -0.148 | H33: 0.088 | I33: 0.051
A35: ^ Pro-forma growth rates
A36: ^^ Includes Edelweiss Air

Sheet European Airlines 2013 LF
A1: European Airline Traffic Trends 2013: Load factors
A2: Sources: Individual airlines, airline groups and UK CAA
A4: Airline | B4: LF 2012 | C4: Jan | D4: Feb | E4: Mar | F4: Apr | G4: May | H4: Jun | I4: Jul | J4: Aug | K4: Sep | L4: Oct | M4: Nov | N4: Dec | O4: LF 2013 | P4: Var.
A5: Aer Lingus | B5: 0.76825 | C5: 0.646 | D5: 0.683 | E5: 0.799 | F5: 0.689 | G5: 0.798 | H5: 0.862 | I5: 0.879 | J5: 0.866 | K5: 0.817 | L5: 0.772 | M5: 0.733 | N5: 0.739 | O5: 0.784
A6: Aeroflot | B6: 0.779 | C6: 0.737 | D6: 0.785 | E6: 0.798 | F6: 0.776 | H6: 0.799 | L6: 0.793 | M6: 0.758 | N6: 0.734 | O6: 0.788
A7: Air France-KLM | B7: 0.83033333 | C7: 0.814 | D7: 0.804 | E7: 0.842 | F7: 0.828 | G7: 0.817 | H7: 0.852 | I7: 0.874 | J7: 0.879 | K7: 0.852 | L7: 0.84 | M7: 0.803 | N7: 0.828 | O7: 0.837
A8: airBaltic | B8: 0.71166667 | C8: 0.59 | D8: 0.61 | E8: 0.69 | F8: 0.68 | G8: 0.71 | H8: 0.78 | I8: 0.79 | J8: 0.74 | K8: 0.71 | L8: 0.68
A9: airberlin | B9: 0.79305833 | C9: 0.831 | D9: 0.853 | E9: 0.8773 | F9: 0.8401 | G9: 0.823 | H9: 0.8485 | I9: 0.866 | J9: 0.88 | K9: 0.873 | L9: 0.846 | M9: 0.8 | N9: 0.814 | O9: 0.849
A10: Austrian Airlines | B10: 0.77158333 | C10: 0.718 | D10: 0.725 | E10: 0.724 | F10: 0.707 | G10: 0.754 | H10: 0.793 | I10: 0.835 | J10: 0.861 | K10: 0.833 | L10: 0.8 | M10: 0.764 | N10: 0.769 | O10: 0.786
A11: bmi Regional | B11: 0.593 | C11: 0.377 | D11: 0.418 | E11: 0.449 | F11: 0.471 | G11: 0.462 | H11: 0.489 | I11: 0.552 | J11: 0.526 | K11: 0.553 | L11: 0.502
A12: Brussels Airlines | B12: 0.687 | C12: 0.618 | D12: 0.619 | E12: 0.696 | F12: 0.692 | G12: 0.688 | H12: 0.711 | I12: 0.764 | J12: 0.772 | K12: 0.719 | L12: 0.678 | M12: 0.623 | N12: 0.675 | O12: 0.691
A13: Croatia Airlines | B13: 0.67066282 | C13: 0.56 | D13: 0.55 | E13: 0.68
A14: easyJet | B14: 0.889 | C14: 0.844 | D14: 0.905 | E14: 0.905 | F14: 0.867 | G14: 0.881 | H14: 0.899 | I14: 0.916 | J14: 0.928 | K14: 0.897 | L14: 0.891 | M14: 0.89 | N14: 0.879 | O14: 0.893
A15: Estonian Air | B15: 0.708 | G15: 0.701 | H15: 0.771 | O15: 0.67
A16: Finnair | B16: 0.776 | C16: 0.779 | D16: 0.806 | E16: 0.803 | F16: 0.758 | G16: 0.751 | H16: 0.833 | I16: 0.865 | J16: 0.852 | K16: 0.811 | L16: 0.786 | M16: 0.713 | N16: 0.758 | O16: 0.795
A17: flybe | B17: 0.635 | C17: 0.564 | D17: 0.611 | E17: 0.64 | F17: 0.625 | G17: 0.638 | H17: 0.693 | I17: 0.716 | J17: 0.748 | K17: 0.7 | L17: 0.641
A18: IAG (BA+Iberia)^ | B18: 0.803 | C18: 0.77 | D18: 0.752 | E18: 0.797 | F18: 0.792 | G18: 0.795 | H18: 0.847 | I18: 0.842 | J18: 0.853 | K18: 0.844 | L18: 0.812 | M18: 0.764 | N18: 0.792 | O18: 0.808
A19: Icelandair | B19: 0.805 | C19: 0.69 | D19: 0.736 | E19: 0.793 | F19: 0.762 | G19: 0.787 | H19: 0.822 | I19: 0.862 | J19: 0.856 | K19: 0.781 | L19: 0.781 | M19: 0.738 | N19: 0.762 | O19: 0.793
A20: Jet2.com | B20: 0.89 | C20: 0.82 | D20: 0.871 | E20: 0.879 | F20: 0.86 | G20: 0.847 | H20: 0.916 | I20: 0.93 | J20: 0.944 | K20: 0.926 | L20: 0.906
A21: Lufthansa | B21: 0.781 | C21: 0.745 | D21: 0.728 | E21: 0.787 | F21: 0.77 | G21: 0.775 | H21: 0.821 | I21: 0.841 | J21: 0.847 | K21: 0.815 | L21: 0.797 | M21: 0.751 | N21: 0.775 | O21: 0.791
A22: Monarch | B22: 0.856 | C22: 0.785 | D22: 0.838 | E22: 0.838 | F22: 0.811 | G22: 0.812 | H22: 0.876 | I22: 0.892 | J22: 0.916 | K22: 0.888 | L22: 0.831
A23: Norwegian | B23: 0.782 | C23: 0.722 | D23: 0.783 | E23: 0.776 | F23: 0.736 | G23: 0.77 | H23: 0.796 | I23: 0.859 | J23: 0.792 | K23: 0.783 | L23: 0.793 | M23: 0.762 | N23: 0.78 | O23: 0.783
A24: Ryanair | B24: 0.81166667 | C24: 0.71 | D24: 0.77 | E24: 0.79 | F24: 0.81 | G24: 0.82 | H24: 0.84 | I24: 0.88 | J24: 0.89 | K24: 0.85 | L24: 0.83 | M24: 0.81 | N24: 0.81 | O24: 0.83
A25: SAS | B25: 0.74691667 | C25: 0.651 | D25: 0.669 | E25: 0.729 | F25: 0.7 | G25: 0.736 | H25: 0.801 | I25: 0.846 | J25: 0.784 | K25: 0.745 | L25: 0.723 | M25: 0.68 | N25: 0.71
A26: SWISS^^ | B26: 0.824 | C26: 0.762 | D26: 0.779 | E26: 0.838 | F26: 0.846 | G26: 0.828 | H26: 0.866 | I26: 0.879 | J26: 0.883 | K26: 0.85 | L26: 0.842 | M26: 0.786 | N26: 0.805 | O26: 0.833
A27: Thomson Airways | B27: 0.92 | C27: 0.928 | D27: 0.956 | E27: 0.953 | F27: 0.902 | G27: 0.914 | H27: 0.954 | I27: 0.953 | J27: 0.972 | K27: 0.934 | L27: 0.859
A28: Turkish Airlines | B28: 0.777 | C28: 0.759 | D28: 0.771 | E28: 0.8064665 | F28: 0.79233926 | G28: 0.792 | H28: 0.808 | I28: 0.775 | J28: 0.86102021 | K28: 0.80147461 | L28: 0.78075095 | M28: 0.76027814 | N28: 0.76243049 | O28: 0.79
A29: Virgin Atlantic | B29: 0.78 | C29: 0.752 | D29: 0.74 | E29: 0.782 | F29: 0.745 | G29: 0.759 | H29: 0.834 | I29: 0.831 | J29: 0.873 | K29: 0.821 | L29: 0.781
A30: Vueling | B30: 0.77215 | C30: 0.717 | D30: 0.777 | E30: 0.802 | F30: 0.742 | G30: 0.762 | H30: 0.795
A31: Widerøe | C31: 0.515 | D31: 0.558 | E31: 0.566 | F31: 0.562 | G31: 0.56 | H31: 0.61 | I31: 0.65
A33: ^ From May 2013 also includes Vueling
A34: ^^ Includes Edelweiss Air

Sheet European Airlines 2012 Pax
A1: European Airline Traffic Trends 2012: Passenger numbers
A2: Sources: Individual airlines, airline groups and UK CAA
A4: Airline | B4: Pax 2011 | C4: Jan | D4: Feb | E4: Mar | F4: Apr | G4: May | H4: Jun | I4: Jul | J4: Aug | K4: Sep | L4: Oct | M4: Nov | N4: Dec | O4: Pax 2012 | P4: vly
A5: Aer Lingus | B5: =IF(VLOOKUP(A5,'European Airlines 2011 Pax'!$A:$O,14,FALSE)=0,"",VLOOKUP(A5,'European Airlines 2011 Pax'!$A:$O,15,FALSE)) -> 9833000 | C5: 616000 | D5: 658000 | E5: 809000 | F5: 890000 | G5: 970000 | H5: 1013000 | I5: 1109000 | J5: 1116000 | K5: 1019000 | L5: 962000 | M5: 766000 | N5: 734000 | O5: =SUM(C5:N5) -> 10662000 | P5: 0.038
A6: Aeroflot | B6: =VLOOKUP(A6,'European Airlines 2011 Pax'!$A:$O,15,FALSE) -> 14173800 | C6: 1171900 | D6: 1146700 | E6: 1280900 | F6: 1344000 | G6: =7938400-6548800 -> 1389600 | H6: 1605300 | I6: 1793000 | J6: 1839100 | K6: 1722100 | L6: 1557100 | M6: 1413000 | N6: 1393600 | O6: =SUM(C6:N6) -> 17656300 | P6: =O6/B6-1 -> 0.24569981
A7: Air France-KLM | B7: 75819000 | C7: 5756000 | D7: 5339000 | E7: 6368000 | F7: 6515000 | G7: 6550000 | H7: 6904000 | I7: 7425000 | J7: 6940000 | K7: 6914000 | L7: 6742000 | M7: 6005000 | N7: 5987000 | O7: =SUM(C7:N7) -> 77445000 | P7: 0.018
A8: airBaltic | B8: 3351294 | C8: 190966 | D8: 180476 | E8: 217670 | F8: 252034 | G8: 270994 | H8: 298350 | I8: 322430 | J8: 310495 | K8: 287400 | L8: 251705 | M8: 175726 | N8: 181593 | O8: =SUM(C8:N8) -> 2939839 | P8: -0.12277496
A9: airberlin | B9: =IF(VLOOKUP(A9,'European Airlines 2011 Pax'!$A:$O,14,FALSE)=0,"",VLOOKUP(A9,'European Airlines 2011 Pax'!$A:$O,15,FALSE)) -> 35300209 | C9: 1901779 | D9: 2044035 | E9: 2565164 | F9: 2659549 | G9: 3088951 | H9: 3297750 | I9: 3583137 | J9: 3572827 | K9: 3537477 | L9: 3177080 | M9: 2070433 | N9: 1848313 | O9: =SUM(C9:N9) -> 33346495 | P9: -0.055345678
A10: Austrian Airlines | B10: 11261400 | C10: 737400 | D10: 715300 | E10: 893600 | F10: 985000 | G10: 1036300 | H10: =5440600-4367600 -> 1073000 | I10: 1115000 | J10: 1081600 | K10: 1122800 | L10: 1029000 | M10: 862600 | N10: 796300 | O10: =SUM(C10:N10) -> 11447900 | P10: 0.016560996
A11: Blue1* | B11: =IF(VLOOKUP(A11,'European Airlines 2011 Pax'!$A:$O,14,FALSE)=0,"",VLOOKUP(A11,'European Airlines 2011 Pax'!$A:$O,15,FALSE)) -> 1758785 | C11: 115000 | D11: 111000 | E11: 149000 | O11: =SUM(C11:N11) -> 375000
A12: bmi British Midland | B12: =5691857-B13 -> 3489142 | C12: =334810-C13 -> 246431 | D12: 218979 | E12: 251042 | F12: 260075 | G12: 246819 | H12: 193658 | I12: 87059 | O12: =SUM(C12:N12) -> 1504063
A13: bmibaby | B13: =IF(VLOOKUP(A13,'European Airlines 2011 Pax'!$A:$O,14,FALSE)=0,"",VLOOKUP(A13,'European Airlines 2011 Pax'!$A:$O,15,FALSE)) -> 2202715 | C13: 88379 | D13: 121698 | E13: 151409 | F13: 195325 | G13: 189931 | H13: 157750 | I13: 145244 | O13: =SUM(C13:N13) -> 1049736
A14: Brussels Airlines | B14: =IF(VLOOKUP(A14,'European Airlines 2011 Pax'!$A:$O,14,FALSE)=0,"",VLOOKUP(A14,'European Airlines 2011 Pax'!$A:$O,15,FALSE)) -> 5689176 | C14: 365048 | D14: =(2762922-1872434)/2 -> 445244 | E14: 458837 | F14: 508140 | G14: =(2762922-1872434)/2 -> 445244 | H14: 540409 | I14: 578396 | J14: 526725 | K14: 560693 | L14: 560693 | M14: 414935 | N14: 386477 | O14: =SUM(C14:N14) -> 5790841 | P14: 0.017869899
A15: Cimber Sterling | B15: =IF(VLOOKUP(A15,'European Airlines 2011 Pax'!$A:$O,14,FALSE)=0,"",VLOOKUP(A15,'European Airlines 2011 Pax'!$A:$O,15,FALSE)) -> 1988332 | C15: 108687 | D15: 112842 | E15: 131727 | O15: =SUM(C15:N15) -> 353256
A16: Croatia Airlines | B16: =IF(VLOOKUP(A16,'European Airlines 2011 Pax'!$A:$O,14,FALSE)=0,"",VLOOKUP(A16,'European Airlines 2011 Pax'!$A:$O,15,FALSE)) -> 1833129 | C16: 93726 | D16: 85158 | E16: 116113 | F16: 149014 | G16: 187459 | H16: 217197 | I16: 236511 | J16: 235747 | K16: 229195 | L16: 176321 | M16: 119036 | N16: 106022 | O16: =SUM(C16:N16) -> 1951499 | P16: =O16/B16-1 -> 0.064572651
A17: easyJet | B17: =IF(VLOOKUP(A17,'European Airlines 2011 Pax'!$A:$O,14,FALSE)=0,"",VLOOKUP(A17,'European Airlines 2011 Pax'!$A:$O,15,FALSE)) -> 55471760 | C17: 3728514 | D17: 3976741 | E17: 4629241 | F17: 5124597 | G17: 5423726 | H17: 5434763 | I17: 5860272 | J17: 5873948 | K17: 5451217 | L17: 5245201 | M17: 4116576 | N17: 4339836 | O17: =SUM(C17:N17) -> 59204632 | P17: 0.067293196
A18: Estonian Air | B18: 678119 | C18: 42657 | D18: 39746 | E18: 56661 | F18: 85583 | G18: 98439 | H18: 100316 | I18: 92136 | J18: 87963 | K18: 83784 | L18: 79193 | M18: 67347 | N18: 53493 | O18: 887563 | P18: 0.30655976
A19: Finnair | B19: 8013100 | C19: 637500 | D19: 666800 | E19: 771800 | F19: 720300 | G19: 737000 | H19: 798700 | I19: 811200 | J19: 778700 | K19: 771100 | L19: 751300 | M19: 612200 | N19: 597000 | O19: =SUM(C19:N19) -> 8653600 | P19: 0.079931612
A20: flybe | B20: =IF(VLOOKUP(A20,'European Airlines 2011 Pax'!$A:$O,14,FALSE)=0,"",VLOOKUP(A20,'European Airlines 2011 Pax'!$A:$O,15,FALSE)) -> 7094604 | C20: 415168 | D20: 472483 | E20: 550825 | F20: 570724 | G20: 621973 | H20: 673248 | I20: 698681 | J20: 705602 | K20: 662273 | L20: 631390 | M20: 561727 | N20: 488725 | O20: =SUM(C20:N20) -> 7052819 | P20: =O20/B20-1 -> -0.0058896874
A21: IAG (BA+Iberia) | B21: 51687000 | C21: 3600000 | D21: 3560000 | E21: 4223000 | F21: 4395000 | G21: 4807000 | H21: 5048000 | I21: 5433000 | J21: 5212000 | K21: 5117000 | L21: 4901000 | M21: 4171000 | N21: 4045000 | O21: =SUM(C21:N21) -> 54512000 | P21: 0.051823452
A22: Icelandair | B22: 1743728 | C22: 93088 | D22: 93279 | E22: 118602 | F22: 136554 | G22: 165420 | H22: 245292 | I22: 275793 | J22: 271025 | K22: 198207 | L22: 172015 | M22: 131021 | N22: 119580 | O22: 2020377 | P22: =O22/B22-1 -> 0.15865376
A23: Jat Airways | B23: =IF(VLOOKUP(A23,'European Airlines 2011 Pax'!$A:$O,14,FALSE)=0,"",VLOOKUP(A23,'European Airlines 2011 Pax'!$A:$O,15,FALSE)) -> 1154884 | C23: 74908 | D23: 62289 | E23: 83369 | F23: 107555 | G23: 122273 | H23: 134969 | I23: 180192 | J23: 184728 | K23: 145203 | L23: 107130 | M23: 85047 | O23: =SUM(C23:N23) -> 1287663
A24: Jet2.com | B24: =IF(VLOOKUP(A24,'European Airlines 2011 Pax'!$A:$O,14,FALSE)=0,"",VLOOKUP(A24,'European Airlines 2011 Pax'!$A:$O,15,FALSE)) -> 4235752 | C24: 118372 | D24: 155406 | E24: 199975 | F24: 351630 | G24: 460159 | H24: 662331 | I24: 719864 | J24: 738076 | K24: 639500 | L24: 430110 | M24: 164069 | N24: 136765 | O24: =SUM(C24:N24) -> 4776257 | P24: =O24/B24-1 -> 0.12760544
A25: Lufthansa | B25: 65458000 | C25: 5053000 | D25: 4785000 | E25: 5888000 | F25: 6262000 | G25: 6781000 | H25: 6980000 | I25: 7401000 | J25: 6950000 | K25: 6916000 | L25: 6864000 | M25: 5583000 | N25: 5032000 | O25: =SUM(C25:N25) -> 74495000 | P25: 0.12419053
A26: Monarch | B26: =IF(VLOOKUP(A26,'European Airlines 2011 Pax'!$A:$O,14,FALSE)=0,"",VLOOKUP(A26,'European Airlines 2011 Pax'!$A:$O,15,FALSE)) -> 5932463 | C26: 276125 | D26: 273236 | E26: 353234 | F26: 439078 | G26: 562133 | H26: 704687 | I26: 779891 | J26: 844744 | K26: 712854 | L26: 640208 | M26: 301922 | N26: 317341 | O26: =SUM(C26:N26) -> 6205453 | P26: =O26/B26-1 -> 0.0460163
A27: Norwegian | B27: =IF(VLOOKUP(A27,'European Airlines 2011 Pax'!$A:$O,14,FALSE)=0,"",VLOOKUP(A27,'European Airlines 2011 Pax'!$A:$O,15,FALSE)) -> 15698183 | C27: 1134142 | D27: 1151829 | E27: 1362830 | F27: 1345293 | G27: 1542723 | H27: 1583735 | I27: 1820158 | J27: 1724046 | K27: 1647702 | L27: 1646938 | M27: 1458872 | N27: 1266806 | O27: =SUM(C27:N27) -> 17685074 | P27: 0.11234847
A28: Ryanair | B28: =IF(VLOOKUP(A28,'European Airlines 2011 Pax'!$A:$O,14,FALSE)=0,"",VLOOKUP(A28,'European Airlines 2011 Pax'!$A:$O,15,FALSE)) -> 76430000 | C28: 4390000 | D28: 4470000 | E28: 5500000 | F28: 7200000 | G28: 7510000 | H28: 7790000 | I28: 8720000 | J28: 8900000 | K28: 7840000 | L28: 7540000 | M28: 4910000 | N28: 4840000 | O28: =SUM(C28:N28) -> 79610000 | P28: 0.039944731
A29: SAS* | B29: =IF(VLOOKUP(A29,'European Airlines 2011 Pax'!$A:$O,14,FALSE)=0,"",VLOOKUP(A29,'European Airlines 2011 Pax'!$A:$O,15,FALSE)) -> 22911034 | C29: 1581000 | D29: 1754000 | E29: 2074000 | F29: 2110000 | G29: 2408000 | H29: 2404000 | I29: 2032000 | J29: 2092000 | K29: 2403000 | L29: 2435000 | M29: 2394000 | N29: 1628000 | O29: =SUM(C29:N29) -> 25315000 | P29: 0.10492612
A30: Swiss | B30: 15317275 | C30: 1136189 | D30: 1136561 | E30: 1337846 | F30: 1378264 | G30: 1339813 | H30: 1374110 | I30: 1498346 | J30: 1460821 | K30: 1396884 | L30: 1386996 | M30: 1188540 | N30: 1239000 | O30: =SUM(C30:N30) -> 15873370 | P30: 0.028674899
A31: Thomson Airways | B31: =IF(VLOOKUP(A31,'European Airlines 2011 Pax'!$A:$O,14,FALSE)=0,"",VLOOKUP(A31,'European Airlines 2011 Pax'!$A:$O,15,FALSE)) -> 11046156 | C31: 538508 | D31: 519887 | E31: 580150 | F31: 560051 | G31: 994519 | H31: 1321588 | I31: 1403695 | J31: 1477665 | K31: 1361826 | L31: 995916 | M31: 469679 | N31: 481716 | O31: =SUM(C31:N31) -> 10705200 | P31: =O31/B31-1 -> -0.030866484
A32: Transaero | B32: =VLOOKUP(A32,'European Airlines 2011 Pax'!$A:$O,15,FALSE) -> 8453371 | C32: 603360 | D32: 546479 | E32: =2404935-1785491 -> 619444 | F32: 635652 | G32: 834357 | H32: =6916827-3239292-1327681 -> 2349854 | J32: 1327681 | K32: 1159770 | L32: 830588 | M32: 707690 | N32: 712685 | O32: =SUM(C32:N32) -> 10327560 | P32: 0.222
A33: Turkish Airlines | B33: 32621641 | C33: 2607902 | D33: =5065108-C33 -> 2457206 | E33: =7969056-SUM(C33:D33) -> 2903948 | F33: 3087084 | G33: =14282125-11056140 -> 3225985 | H33: =17744562-14282125 -> 3462437 | I33: =21583114-17744562 -> 3838552 | J33: =25367621-21583114 -> 3784507 | K33: 3766362 | L33: 3632664 | M33: 3177880 | N33: 3095882 | O33: =SUM(C33:N33) -> 39040409 | P33: 0.196
A34: Virgin Atlantic | B34: =IF(VLOOKUP(A34,'European Airlines 2011 Pax'!$A:$O,14,FALSE)=0,"",VLOOKUP(A34,'European Airlines 2011 Pax'!$A:$O,15,FALSE)) -> 5279739 | C34: 394517 | D34: 362413 | E34: 442404 | F34: 452324 | G34: 429993 | H34: 486930 | I34: 506883 | J34: 535571 | K34: 477802 | L34: 464183 | M34: 440874 | N34: 454389 | O34: =SUM(C34:N34) -> 5448283 | P34: =O34/B34-1 -> 0.03192279
A35: Vueling | B35: =IF(VLOOKUP(A35,'European Airlines 2011 Pax'!$A:$O,14,FALSE)=0,"",VLOOKUP(A35,'European Airlines 2011 Pax'!$A:$O,15,FALSE)) -> 12315937 | C35: 727704 | D35: 797482 | E35: 1041729 | F35: 1200140 | G35: 1274047 | H35: 1409734 | I35: 1742711 | J35: 1881637 | K35: 1552000 | L35: 1237000 | M35: 964000 | N35: 967456 | O35: =SUM(C35:N35) -> 14795640 | P35: 0.16755661
A36: Widerøe | B36: =IF(VLOOKUP(A36,'European Airlines 2011 Pax'!$A:$O,14,FALSE)=0,"",VLOOKUP(A36,'European Airlines 2011 Pax'!$A:$O,15,FALSE)) -> 2536288 | C36: 196000 | D36: 209000 | E36: 227000 | F36: 212000 | G36: 253000 | H36: 239000 | I36: 227000 | J36: 243000 | K36: 245000 | L36: 261000 | M36: 252000 | N36: 203000 | O36: =SUM(C36:N36) -> 2767000 | P36: =O36/B36-1 -> 0.090964433
A38: * Note: from April 2012, Blue1 figures are included in those of SAS

Sheet European Airlines 2012 vly
A1: European Airline Traffic Trends 2012: Change in passenger numbers
A2: Sources: Individual airlines, airline groups and UK CAA
C3: 3 | D3: 4 | E3: 5 | F3: 6 | G3: 7 | H3: 8 | I3: 9 | J3: 10 | K3: 11 | L3: 12 | M3: 13 | N3: 14
A4: Airline | B4: Pax 2011 | C4: Jan | D4: Feb | E4: Mar | F4: Apr | G4: May | H4: Jun | I4: Jul | J4: Aug | K4: Sep | L4: Oct | M4: Nov | N4: Dec
A5: Aer Lingus | B5: =IF(VLOOKUP(A5,'European Airlines 2011 Pax'!$A:$O,14,FALSE)=0,"",VLOOKUP(A5,'European Airlines 2011 Pax'!$A:$O,15,FALSE)) -> 9833000 | C5: 0.058 | D5: 0.075 | E5: 0.082 | F5: 0.014 | G5: 0.001 | H5: 0.02 | I5: -0.007 | J5: 0.022 | K5: 0.017 | L5: 0.009 | M5: 0.021 | N5: 0.072
A6: Aeroflot | B6: =VLOOKUP(A6,'European Airlines 2011 Pax'!$A:$O,15,FALSE) -> 14173800 | C6: =(VLOOKUP($A6,'European Airlines 2012 Pax'!$A:$N,C$3,FALSE)-VLOOKUP($A6,'European Airlines 2011 Pax'!$A:$N,'European Airlines 2012 vly'!C$3,FALSE))/VLOOKUP($A6,'European Airlines 2011 Pax'!$A:$N,'European Airlines 2012 vly'!C$3,FALSE) -> 0.28399255 | D6: =(VLOOKUP($A6,'European Airlines 2012 Pax'!$A:$N,D$3,FALSE)-VLOOKUP($A6,'European Airlines 2011 Pax'!$A:$N,'European Airlines 2012 vly'!D$3,FALSE))/VLOOKUP($A6,'European Airlines 2011 Pax'!$A:$N,'European Airlines 2012 vly'!D$3,FALSE) -> 0.31713761 | E6: =(VLOOKUP($A6,'European Airlines 2012 Pax'!$A:$N,E$3,FALSE)-VLOOKUP($A6,'European Airlines 2011 Pax'!$A:$N,'European Airlines 2012 vly'!E$3,FALSE))/VLOOKUP($A6,'European Airlines 2011 Pax'!$A:$N,'European Airlines 2012 vly'!E$3,FALSE) -> 0.28077192 | F6: =(VLOOKUP($A6,'European Airlines 2012 Pax'!$A:$N,F$3,FALSE)-VLOOKUP($A6,'European Airlines 2011 Pax'!$A:$N,'European Airlines 2012 vly'!F$3,FALSE))/VLOOKUP($A6,'European Airlines 2011 Pax'!$A:$N,'European Airlines 2012 vly'!F$3,FALSE) -> 0.29218344 | G6: =(VLOOKUP($A6,'European Airlines 2012 Pax'!$A:$N,G$3,FALSE)-VLOOKUP($A6,'European Airlines 2011 Pax'!$A:$N,'European Airlines 2012 vly'!G$3,FALSE))/VLOOKUP($A6,'European Airlines 2011 Pax'!$A:$N,'European Airlines 2012 vly'!G$3,FALSE) -> 0.2283214 | H6: =(VLOOKUP($A6,'European Airlines 2012 Pax'!$A:$N,H$3,FALSE)-VLOOKUP($A6,'European Airlines 2011 Pax'!$A:$N,'European Airlines 2012 vly'!H$3,FALSE))/VLOOKUP($A6,'European Airlines 2011 Pax'!$A:$N,'European Airlines 2012 vly'!H$3,FALSE) -> 0.24916349 | I6: =(VLOOKUP($A6,'European Airlines 2012 Pax'!$A:$N,I$3,FALSE)-VLOOKUP($A6,'European Airlines 2011 Pax'!$A:$N,'European Airlines 2012 vly'!I$3,FALSE))/VLOOKUP($A6,'European Airlines 2011 Pax'!$A:$N,'European Airlines 2012 vly'!I$3,FALSE) -> 0.22047512 | J6: =(VLOOKUP($A6,'European Airlines 2012 Pax'!$A:$N,J$3,FALSE)-VLOOKUP($A6,'European Airlines 2011 Pax'!$A:$N,'European Airlines 2012 vly'!J$3,FALSE))/VLOOKUP($A6,'European Airlines 2011 Pax'!$A:$N,'European Airlines 2012 vly'!J$3,FALSE) -> 0.25253695 | K6: 0.26318492 | L6: 0.24150853 | M6: 0.197
A7: Air France-KLM | B7: 75819000 | C7: 0.053 | D7: 0.05 | E7: 0.063 | F7: 0.02 | G7: -0.008 | H7: 0.025 | I7: 0.015 | J7: 0.014 | K7: 0.005 | L7: -0.005 | M7: 0.023 | N7: -0.02
A8: airBaltic | B8: 3351294 | C8: 0.02 | D8: 0.01 | E8: -0.066 | F8: =(VLOOKUP($A8,'European Airlines 2012 Pax'!$A:$N,F$3,FALSE)-VLOOKUP($A8,'European Airlines 2011 Pax'!$A:$N,'European Airlines 2012 vly'!F$3,FALSE))/VLOOKUP($A8,'European Airlines 2011 Pax'!$A:$N,'European Airlines 2012 vly'!F$3,FALSE) -> -0.14902252 | G8: =(VLOOKUP($A8,'European Airlines 2012 Pax'!$A:$N,G$3,FALSE)-VLOOKUP($A8,'European Airlines 2011 Pax'!$A:$N,'European Airlines 2012 vly'!G$3,FALSE))/VLOOKUP($A8,'European Airlines 2011 Pax'!$A:$N,'European Airlines 2012 vly'!G$3,FALSE) -> -0.15686671 | H8: =(VLOOKUP($A8,'European Airlines 2012 Pax'!$A:$N,H$3,FALSE)-VLOOKUP($A8,'European Airlines 2011 Pax'!$A:$N,'European Airlines 2012 vly'!H$3,FALSE))/VLOOKUP($A8,'European Airlines 2011 Pax'!$A:$N,'European Airlines 2012 vly'!H$3,FALSE) -> -0.17174235 | I8: =(VLOOKUP($A8,'European Airlines 2012 Pax'!$A:$N,I$3,FALSE)-VLOOKUP($A8,'European Airlines 2011 Pax'!$A:$N,'European Airlines 2012 vly'!I$3,FALSE))/VLOOKUP($A8,'European Airlines 2011 Pax'!$A:$N,'European Airlines 2012 vly'!I$3,FALSE) -> -0.13176595 | J8: =(VLOOKUP($A8,'European Airlines 2012 Pax'!$A:$N,J$3,FALSE)-VLOOKUP($A8,'European Airlines 2011 Pax'!$A:$N,'European Airlines 2012 vly'!J$3,FALSE))/VLOOKUP($A8,'European Airlines 2011 Pax'!$A:$N,'European Airlines 2012 vly'!J$3,FALSE) -> -0.14330373 | K8: -0.1003653 | L8: -0.11146529 | M8: -0.1142307 | N8: -0.08
A9: airberlin | B9: =IF(VLOOKUP(A9,'European Airlines 2011 Pax'!$A:$O,14,FALSE)=0,"",VLOOKUP(A9,'European Airlines 2011 Pax'!$A:$O,15,FALSE)) -> 35300209 | C9: =(VLOOKUP($A9,'European Airlines 2012 Pax'!$A:$N,C$3,FALSE)-VLOOKUP($A9,'European Airlines 2011 Pax'!$A:$N,'European Airlines 2012 vly'!C$3,FALSE))/VLOOKUP($A9,'European Airlines 2011 Pax'!$A:$N,'European Airlines 2012 vly'!C$3,FALSE) -> -0.11346744 | D9: =(VLOOKUP($A9,'European Airlines 2012 Pax'!$A:$N,D$3,FALSE)-VLOOKUP($A9,'European Airlines 2011 Pax'!$A:$N,'European Airlines 2012 vly'!D$3,FALSE))/VLOOKUP($A9,'European Airlines 2011 Pax'!$A:$N,'European Airlines 2012 vly'!D$3,FALSE) -> -0.041285013 | E9: =(VLOOKUP($A9,'European Airlines 2012 Pax'!$A:$N,E$3,FALSE)-VLOOKUP($A9,'European Airlines 2011 Pax'!$A:$N,'European Airlines 2012 vly'!E$3,FALSE))/VLOOKUP($A9,'European Airlines 2011 Pax'!$A:$N,'European Airlines 2012 vly'!E$3,FALSE) -> -0.011328335 | F9: =(VLOOKUP($A9,'European Airlines 2012 Pax'!$A:$N,F$3,FALSE)-VLOOKUP($A9,'European Airlines 2011 Pax'!$A:$N,'European Airlines 2012 vly'!F$3,FALSE))/VLOOKUP($A9,'European Airlines 2011 Pax'!$A:$N,'European Airlines 2012 vly'!F$3,FALSE) -> -0.042909057 | G9: =(VLOOKUP($A9,'European Airlines 2012 Pax'!$A:$N,G$3,FALSE)-VLOOKUP($A9,'European Airlines 2011 Pax'!$A:$N,'European Airlines 2012 vly'!G$3,FALSE))/VLOOKUP($A9,'European Airlines 2011 Pax'!$A:$N,'European Airlines 2012 vly'!G$3,FALSE) -> -0.064140847 | H9: =(VLOOKUP($A9,'European Airlines 2012 Pax'!$A:$N,H$3,FALSE)-VLOOKUP($A9,'European Airlines 2011 Pax'!$A:$N,'European Airlines 2012 vly'!H$3,FALSE))/VLOOKUP($A9,'European Airlines 2011 Pax'!$A:$N,'European Airlines 2012 vly'!H$3,FALSE) -> -0.050166147 | I9: =(VLOOKUP($A9,'European Airlines 2012 Pax'!$A:$N,I$3,FALSE)-VLOOKUP($A9,'European Airlines 2011 Pax'!$A:$N,'European Airlines 2012 vly'!I$3,FALSE))/VLOOKUP($A9,'European Airlines 2011 Pax'!$A:$N,'European Airlines 2012 vly'!I$3,FALSE) -> -0.059396215 | J9: =(VLOOKUP($A9,'European Airlines 2012 Pax'!$A:$N,J$3,FALSE)-VLOOKUP($A9,'European Airlines 2011 Pax'!$A:$N,'European Airlines 2012 vly'!J$3,FALSE))/VLOOKUP($A9,'European Airlines 2011 Pax'!$A:$N,'European Airlines 2012 vly'!J$3,FALSE) -> -0.049629662 | K9: -0.039647413 | L9: -0.050436483 | M9: -0.083595767 | N9: -0.085
A10: Austrian Airlines | B10: 11261400 | C10: 0.071 | D10: 0.105 | E10: 0.12 | F10: 0.099 | G10: 0.01 | H10: 0.022 | I10: -0.056 | J10: -0.056 | K10: -0.028 | L10: -0.017 | M10: 0.023 | N10: 0.022
A11: Blue1* | B11: =IF(VLOOKUP(A11,'European Airlines 2011 Pax'!$A:$O,14,FALSE)=0,"",VLOOKUP(A11,'European Airlines 2011 Pax'!$A:$O,15,FALSE)) -> 1758785 | C11: -0.014 | D11: -0.199 | E11: -0.11
A12: bmi British Midland | B12: =IF(VLOOKUP(A12,'European Airlines 2011 Pax'!$A:$O,14,FALSE)=0,"",VLOOKUP(A12,'European Airlines 2011 Pax'!$A:$O,15,FALSE)) -> 5509158 | C12: =('European Airlines 2012 Pax'!C12-(379411-'European Airlines 2011 Pax'!C18))/(379411+'European Airlines 2011 Pax'!C18) -> -0.055392607 | D12: =('European Airlines 2012 Pax'!D12-224012)/224012 -> -0.022467546 | E12: =('European Airlines 2012 Pax'!E12-270291)/270291 -> -0.071215838 | F12: =('European Airlines 2012 Pax'!F12-258267)/258267 -> 0.0070005072 | G12: =('European Airlines 2012 Pax'!G12-250896)/250896 -> -0.016249761 | H12: =('European Airlines 2012 Pax'!H12-277285)/277285 -> -0.30159222 | I12: =('European Airlines 2012 Pax'!I12-296917)/296917 -> -0.70679011
A13: bmibaby | B13: =IF(VLOOKUP(A13,'European Airlines 2011 Pax'!$A:$O,14,FALSE)=0,"",VLOOKUP(A13,'European Airlines 2011 Pax'!$A:$O,15,FALSE)) -> 2202715 | C13: =(VLOOKUP($A13,'European Airlines 2012 Pax'!$A:$N,C$3,FALSE)-VLOOKUP($A13,'European Airlines 2011 Pax'!$A:$N,'European Airlines 2012 vly'!C$3,FALSE))/VLOOKUP($A13,'European Airlines 2011 Pax'!$A:$N,'European Airlines 2012 vly'!C$3,FALSE) -> -0.1669196 | D13: =(VLOOKUP($A13,'European Airlines 2012 Pax'!$A:$N,D$3,FALSE)-VLOOKUP($A13,'European Airlines 2011 Pax'!$A:$N,'European Airlines 2012 vly'!D$3,FALSE))/VLOOKUP($A13,'European Airlines 2011 Pax'!$A:$N,'European Airlines 2012 vly'!D$3,FALSE) -> -0.076765516 | E13: =(VLOOKUP($A13,'European Airlines 2012 Pax'!$A:$N,E$3,FALSE)-VLOOKUP($A13,'European Airlines 2011 Pax'!$A:$N,'European Airlines 2012 vly'!E$3,FALSE))/VLOOKUP($A13,'European Airlines 2011 Pax'!$A:$N,'European Airlines 2012 vly'!E$3,FALSE) -> 0.0042915323 | F13: =(VLOOKUP($A13,'European Airlines 2012 Pax'!$A:$N,F$3,FALSE)-VLOOKUP($A13,'European Airlines 2011 Pax'!$A:$N,'European Airlines 2012 vly'!F$3,FALSE))/VLOOKUP($A13,'European Airlines 2011 Pax'!$A:$N,'European Airlines 2012 vly'!F$3,FALSE) -> 0.080427027 | G13: =('European Airlines 2012 Pax'!G13-194780)/194780 -> -0.024894753 | H13: =('European Airlines 2012 Pax'!H13-238680)/238680 -> -0.33907324 | I13: =('European Airlines 2012 Pax'!I13-264510)/264510 -> -0.45089411
A14: Brussels Airlines | B14: =IF(VLOOKUP(A14,'European Airlines 2011 Pax'!$A:$O,14,FALSE)=0,"",VLOOKUP(A14,'European Airlines 2011 Pax'!$A:$O,15,FALSE)) -> 5689176 | C14: 0.049 | E14: 0.028 | F14: 0.044 | H14: 0.027 | I14: 0.017 | J14: 0.01 | K14: -0.038 | L14: -0.038 | M14: -0.002 | N14: -0.008
A15: Cimber Sterling | B15: =IF(VLOOKUP(A15,'European Airlines 2011 Pax'!$A:$O,14,FALSE)=0,"",VLOOKUP(A15,'European Airlines 2011 Pax'!$A:$O,15,FALSE)) -> 1988332 | C15: =(VLOOKUP($A15,'European Airlines 2012 Pax'!$A:$N,C$3,FALSE)-VLOOKUP($A15,'European Airlines 2011 Pax'!$A:$N,'European Airlines 2012 vly'!C$3,FALSE))/VLOOKUP($A15,'European Airlines 2011 Pax'!$A:$N,'European Airlines 2012 vly'!C$3,FALSE) -> -0.18056184 | D15: =(VLOOKUP($A15,'European Airlines 2012 Pax'!$A:$N,D$3,FALSE)-VLOOKUP($A15,'European Airlines 2011 Pax'!$A:$N,'European Airlines 2012 vly'!D$3,FALSE))/VLOOKUP($A15,'European Airlines 2011 Pax'!$A:$N,'European Airlines 2012 vly'!D$3,FALSE) -> -0.20129388 | E15: -0.1956
A16: Croatia Airlines | B16: =IF(VLOOKUP(A16,'European Airlines 2011 Pax'!$A:$O,14,FALSE)=0,"",VLOOKUP(A16,'European Airlines 2011 Pax'!$A:$O,15,FALSE)) -> 1833129 | C16: -0.03181621 | D16: -0.057131469 | E16: 0.012751742 | F16: -0.014659693 | G16: 0.03075908 | H16: 0.068619926 | I16: 0.038267031 | J16: 0.076411338 | K16: 0.080308451 | L16: 0.039554984 | M16: 0.061428304 | N16: 0.059129097
A17: easyJet | B17: =IF(VLOOKUP(A17,'European Airlines 2011 Pax'!$A:$O,14,FALSE)=0,"",VLOOKUP(A17,'European Airlines 2011 Pax'!$A:$O,15,FALSE)) -> 55471760 | C17: =(VLOOKUP($A17,'European Airlines 2012 Pax'!$A:$N,C$3,FALSE)-VLOOKUP($A17,'European Airlines 2011 Pax'!$A:$N,'European Airlines 2012 vly'!C$3,FALSE))/VLOOKUP($A17,'European Airlines 2011 Pax'!$A:$N,'European Airlines 2012 vly'!C$3,FALSE) -> -0.0040279486 | D17: =(VLOOKUP($A17,'European Airlines 2012 Pax'!$A:$N,D$3,FALSE)-VLOOKUP($A17,'European Airlines 2011 Pax'!$A:$N,'European Airlines 2012 vly'!D$3,FALSE))/VLOOKUP($A17,'European Airlines 2011 Pax'!$A:$N,'European Airlines 2012 vly'!D$3,FALSE) -> 0.037320404 | E17: =(VLOOKUP($A17,'European Airlines 2012 Pax'!$A:$N,E$3,FALSE)-VLOOKUP($A17,'European Airlines 2011 Pax'!$A:$N,'European Airlines 2012 vly'!E$3,FALSE))/VLOOKUP($A17,'European Airlines 2011 Pax'!$A:$N,'European Airlines 2012 vly'!E$3,FALSE) -> 0.043650454 | F17: =(VLOOKUP($A17,'European Airlines 2012 Pax'!$A:$N,F$3,FALSE)-VLOOKUP($A17,'European Airlines 2011 Pax'!$A:$N,'European Airlines 2012 vly'!F$3,FALSE))/VLOOKUP($A17,'European Airlines 2011 Pax'!$A:$N,'European Airlines 2012 vly'!F$3,FALSE) -> 0.086317638 | G17: =(VLOOKUP($A17,'European Airlines 2012 Pax'!$A:$N,G$3,FALSE)-VLOOKUP($A17,'European Airlines 2011 Pax'!$A:$N,'European Airlines 2012 vly'!G$3,FALSE))/VLOOKUP($A17,'European Airlines 2011 Pax'!$A:$N,'European Airlines 2012 vly'!G$3,FALSE) -> 0.14438216 | H17: =(VLOOKUP($A17,'European Airlines 2012 Pax'!$A:$N,H$3,FALSE)-VLOOKUP($A17,'European Airlines 2011 Pax'!$A:$N,'European Airlines 2012 vly'!H$3,FALSE))/VLOOKUP($A17,'European Airlines 2011 Pax'!$A:$N,'European Airlines 2012 vly'!H$3,FALSE) -> 0.097420898 | I17: =(VLOOKUP($A17,'European Airlines 2012 Pax'!$A:$N,I$3,FALSE)-VLOOKUP($A17,'European Airlines 2011 Pax'!$A:$N,'European Airlines 2012 vly'!I$3,FALSE))/VLOOKUP($A17,'European Airlines 2011 Pax'!$A:$N,'European Airlines 2012 vly'!I$3,FALSE) -> 0.079814089 | J17: =(VLOOKUP($A17,'European Airlines 2012 Pax'!$A:$N,J$3,FALSE)-VLOOKUP($A17,'European Airlines 2011 Pax'!$A:$N,'European Airlines 2012 vly'!J$3,FALSE))/VLOOKUP($A17,'European Airlines 2011 Pax'!$A:$N,'European Airlines 2012 vly'!J$3,FALSE) -> 0.059521883 | K17: 0.051985019 | L17: 0.061802213 | M17: 0.077255581 | N17: 0.049394496
A18: Estonian Air | B18: 678119 | C18: =(VLOOKUP($A18,'European Airlines 2012 Pax'!$A:$N,C$3,FALSE)-VLOOKUP($A18,'European Airlines 2011 Pax'!$A:$N,'European Airlines 2012 vly'!C$3,FALSE))/VLOOKUP($A18,'European Airlines 2011 Pax'!$A:$N,'European Airlines 2012 vly'!C$3,FALSE) -> 0.14700188 | D18: =(VLOOKUP($A18,'European Airlines 2012 Pax'!$A:$N,D$3,FALSE)-VLOOKUP($A18,'European Airlines 2011 Pax'!$A:$N,'European Airlines 2012 vly'!D$3,FALSE))/VLOOKUP($A18,'European Airlines 2011 Pax'!$A:$N,'European Airlines 2012 vly'!D$3,FALSE) -> 0.084385998 | E18: =(VLOOKUP($A18,'European Airlines 2012 Pax'!$A:$N,E$3,FALSE)-VLOOKUP($A18,'European Airlines 2011 Pax'!$A:$N,'European Airlines 2012 vly'!E$3,FALSE))/VLOOKUP($A18,'European Airlines 2011 Pax'!$A:$N,'European Airlines 2012 vly'!E$3,FALSE) -> 0.2234626 | F18: =(VLOOKUP($A18,'European Airlines 2012 Pax'!$A:$N,F$3,FALSE)-VLOOKUP($A18,'European Airlines 2011 Pax'!$A:$N,'European Airlines 2012 vly'!F$3,FALSE))/VLOOKUP($A18,'European Airlines 2011 Pax'!$A:$N,'European Airlines 2012 vly'!F$3,FALSE) -> 0.76725793 | G18: 0.911 | H18: 0.973 | I18: 0.786 | J18: 0.661 | K18: 0.413 | L18: 0.17631609 | M18: 0.25331492 | N18: 0.16747986
A19: Finnair | B19: 8013100 | C19: 0.048 | D19: 0.14 | E19: 0.116 | F19: 0.1 | G19: 0.116 | H19: 0.101 | I19: 0.067 | J19: 0.113 | K19: 0.08 | L19: 0.072 | M19: 0.107 | N19: 0.089
A20: flybe | B20: =IF(VLOOKUP(A20,'European Airlines 2011 Pax'!$A:$O,14,FALSE)=0,"",VLOOKUP(A20,'European Airlines 2011 Pax'!$A:$O,15,FALSE)) -> 7094604 | C20: =(VLOOKUP($A20,'European Airlines 2012 Pax'!$A:$N,C$3,FALSE)-VLOOKUP($A20,'European Airlines 2011 Pax'!$A:$N,'European Airlines 2012 vly'!C$3,FALSE))/VLOOKUP($A20,'European Airlines 2011 Pax'!$A:$N,'European Airlines 2012 vly'!C$3,FALSE) -> -0.019856981 | D20: =(VLOOKUP($A20,'European Airlines 2012 Pax'!$A:$N,D$3,FALSE)-VLOOKUP($A20,'European Airlines 2011 Pax'!$A:$N,'European Airlines 2012 vly'!D$3,FALSE))/VLOOKUP($A20,'European Airlines 2011 Pax'!$A:$N,'European Airlines 2012 vly'!D$3,FALSE) -> 0.03401767 | E20: =(VLOOKUP($A20,'European Airlines 2012 Pax'!$A:$N,E$3,FALSE)-VLOOKUP($A20,'European Airlines 2011 Pax'!$A:$N,'European Airlines 2012 vly'!E$3,FALSE))/VLOOKUP($A20,'European Airlines 2011 Pax'!$A:$N,'European Airlines 2012 vly'!E$3,FALSE) -> 0.021631717 | F20: =(VLOOKUP($A20,'European Airlines 2012 Pax'!$A:$N,F$3,FALSE)-VLOOKUP($A20,'European Airlines 2011 Pax'!$A:$N,'European Airlines 2012 vly'!F$3,FALSE))/VLOOKUP($A20,'European Airlines 2011 Pax'!$A:$N,'European Airlines 2012 vly'!F$3,FALSE) -> -0.0092646438 | G20: =(VLOOKUP($A20,'European Airlines 2012 Pax'!$A:$N,G$3,FALSE)-VLOOKUP($A20,'European Airlines 2011 Pax'!$A:$N,'European Airlines 2012 vly'!G$3,FALSE))/VLOOKUP($A20,'European Airlines 2011 Pax'!$A:$N,'European Airlines 2012 vly'!G$3,FALSE) -> -0.021367219 | H20: =(VLOOKUP($A20,'European Airlines 2012 Pax'!$A:$N,H$3,FALSE)-VLOOKUP($A20,'European Airlines 2011 Pax'!$A:$N,'European Airlines 2012 vly'!H$3,FALSE))/VLOOKUP($A20,'European Airlines 2011 Pax'!$A:$N,'European Airlines 2012 vly'!H$3,FALSE) -> -0.027037807 | I20: =(VLOOKUP($A20,'European Airlines 2012 Pax'!$A:$N,I$3,FALSE)-VLOOKUP($A20,'European Airlines 2011 Pax'!$A:$N,'European Airlines 2012 vly'!I$3,FALSE))/VLOOKUP($A20,'European Airlines 2011 Pax'!$A:$N,'European Airlines 2012 vly'!I$3,FALSE) -> -0.052743823 | J20: ='European Airlines 2012 Pax'!J20/'European Airlines 2011 Pax'!J28-1 -> -0.021135153 | K20: -0.032840655 | L20: 0.064 | M20: ='European Airlines 2012 Pax'!M20/'European Airlines 2011 Pax'!M28-1 -> 0.077800525 | N20: ='European Airlines 2012 Pax'!N20/'European Airlines 2011 Pax'!N28-1 -> 0.0085725312
A21: IAG (BA+Iberia) | B21: 51687000 | C21: 0.1 | D21: -0.014 | E21: 0.014 | F21: 0.009 | G21: 0.093 | H21: 0.116 | I21: 0.086 | J21: 0.077 | K21: 0.087 | L21: 0.075 | M21: 0.074 | N21: 0.043
A22: Icelandair | B22: 1743728 | C22: =(VLOOKUP($A22,'European Airlines 2012 Pax'!$A:$N,C$3,FALSE)-VLOOKUP($A22,'European Airlines 2011 Pax'!$A:$N,'European Airlines 2012 vly'!C$3,FALSE))/VLOOKUP($A22,'European Airlines 2011 Pax'!$A:$N,'European Airlines 2012 vly'!C$3,FALSE) -> 0.13401635 | D22: =(VLOOKUP($A22,'European Airlines 2012 Pax'!$A:$N,D$3,FALSE)-VLOOKUP($A22,'European Airlines 2011 Pax'!$A:$N,'European Airlines 2012 vly'!D$3,FALSE))/VLOOKUP($A22,'European Airlines 2011 Pax'!$A:$N,'European Airlines 2012 vly'!D$3,FALSE) -> 0.17992537 | E22: =(VLOOKUP($A22,'European Airlines 2012 Pax'!$A:$N,E$3,FALSE)-VLOOKUP($A22,'European Airlines 2011 Pax'!$A:$N,'European Airlines 2012 vly'!E$3,FALSE))/VLOOKUP($A22,'European Airlines 2011 Pax'!$A:$N,'European Airlines 2012 vly'!E$3,FALSE) -> 0.22832346 | F22: =(VLOOKUP($A22,'European Airlines 2012 Pax'!$A:$N,F$3,FALSE)-VLOOKUP($A22,'European Airlines 2011 Pax'!$A:$N,'European Airlines 2012 vly'!F$3,FALSE))/VLOOKUP($A22,'European Airlines 2011 Pax'!$A:$N,'European Airlines 2012 vly'!F$3,FALSE) -> 0.19271552 | G22: =(VLOOKUP($A22,'European Airlines 2012 Pax'!$A:$N,G$3,FALSE)-VLOOKUP($A22,'European Airlines 2011 Pax'!$A:$N,'European Airlines 2012 vly'!G$3,FALSE))/VLOOKUP($A22,'European Airlines 2011 Pax'!$A:$N,'European Airlines 2012 vly'!G$3,FALSE) -> 0.21634142 | H22: =(VLOOKUP($A22,'European Airlines 2012 Pax'!$A:$N,H$3,FALSE)-VLOOKUP($A22,'European Airlines 2011 Pax'!$A:$N,'European Airlines 2012 vly'!H$3,FALSE))/VLOOKUP($A22,'European Airlines 2011 Pax'!$A:$N,'European Airlines 2012 vly'!H$3,FALSE) -> 0.15317026 | I22: =(VLOOKUP($A22,'European Airlines 2012 Pax'!$A:$N,I$3,FALSE)-VLOOKUP($A22,'European Airlines 2011 Pax'!$A:$N,'European Airlines 2012 vly'!I$3,FALSE))/VLOOKUP($A22,'European Airlines 2011 Pax'!$A:$N,'European Airlines 2012 vly'!I$3,FALSE) -> 0.086012995 | J22: =(VLOOKUP($A22,'European Airlines 2012 Pax'!$A:$N,J$3,FALSE)-VLOOKUP($A22,'European Airlines 2011 Pax'!$A:$N,'European Airlines 2012 vly'!J$3,FALSE))/VLOOKUP($A22,'European Airlines 2011 Pax'!$A:$N,'European Airlines 2012 vly'!J$3,FALSE) -> 0.088536876 | K22: 0.18245001 | L22: 0.18 | M22: 0.25 | N22: 0.2
A23: Jat Airways | B23: =IF(VLOOKUP(A23,'European Airlines 2011 Pax'!$A:$O,14,FALSE)=0,"",VLOOKUP(A23,'European Airlines 2011 Pax'!$A:$O,15,FALSE)) -> 1154884 | C23: 0.08 | D23: 0.09 | E23: 0.04 | F23: 0.21 | G23: 0.16 | H23: 0.16 | I23: 0.15 | J23: 0.19 | K23: 0.16 | L23: 0.16 | M23: 0.09
A24: Jet2.com | B24: =IF(VLOOKUP(A24,'European Airlines 2011 Pax'!$A:$O,14,FALSE)=0,"",VLOOKUP(A24,'European Airlines 2011 Pax'!$A:$O,15,FALSE)) -> 4235752 | C24: =(VLOOKUP($A24,'European Airlines 2012 Pax'!$A:$N,C$3,FALSE)-VLOOKUP($A24,'European Airlines 2011 Pax'!$A:$N,'European Airlines 2012 vly'!C$3,FALSE))/VLOOKUP($A24,'European Airlines 2011 Pax'!$A:$N,'European Airlines 2012 vly'!C$3,FALSE) -> -0.036160667 | D24: =(VLOOKUP($A24,'European Airlines 2012 Pax'!$A:$N,D$3,FALSE)-VLOOKUP($A24,'European Airlines 2011 Pax'!$A:$N,'European Airlines 2012 vly'!D$3,FALSE))/VLOOKUP($A24,'European Airlines 2011 Pax'!$A:$N,'European Airlines 2012 vly'!D$3,FALSE) -> 0.079853246 | E24: =(VLOOKUP($A24,'European Airlines 2012 Pax'!$A:$N,E$3,FALSE)-VLOOKUP($A24,'European Airlines 2011 Pax'!$A:$N,'European Airlines 2012 vly'!E$3,FALSE))/VLOOKUP($A24,'European Airlines 2011 Pax'!$A:$N,'European Airlines 2012 vly'!E$3,FALSE) -> 0.22469165 | F24: =(VLOOKUP($A24,'European Airlines 2012 Pax'!$A:$N,F$3,FALSE)-VLOOKUP($A24,'European Airlines 2011 Pax'!$A:$N,'European Airlines 2012 vly'!F$3,FALSE))/VLOOKUP($A24,'European Airlines 2011 Pax'!$A:$N,'European Airlines 2012 vly'!F$3,FALSE) -> 0.043635435 | G24: =(VLOOKUP($A24,'European Airlines 2012 Pax'!$A:$N,G$3,FALSE)-VLOOKUP($A24,'European Airlines 2011 Pax'!$A:$N,'European Airlines 2012 vly'!G$3,FALSE))/VLOOKUP($A24,'European Airlines 2011 Pax'!$A:$N,'European Airlines 2012 vly'!G$3,FALSE) -> 0.075054961 | H24: =(VLOOKUP($A24,'European Airlines 2012 Pax'!$A:$N,H$3,FALSE)-VLOOKUP($A24,'European Airlines 2011 Pax'!$A:$N,'European Airlines 2012 vly'!H$3,FALSE))/VLOOKUP($A24,'European Airlines 2011 Pax'!$A:$N,'European Airlines 2012 vly'!H$3,FALSE) -> 0.20466748 | I24: =(VLOOKUP($A24,'European Airlines 2012 Pax'!$A:$N,I$3,FALSE)-VLOOKUP($A24,'European Airlines 2011 Pax'!$A:$N,'European Airlines 2012 vly'!I$3,FALSE))/VLOOKUP($A24,'European Airlines 2011 Pax'!$A:$N,'European Airlines 2012 vly'!I$3,FALSE) -> 0.1231449 | J24: =(VLOOKUP($A24,'European Airlines 2012 Pax'!$A:$N,J$3,FALSE)-VLOOKUP($A24,'European Airlines 2011 Pax'!$A:$N,'European Airlines 2012 vly'!J$3,FALSE))/VLOOKUP($A24,'European Airlines 2011 Pax'!$A:$N,'European Airlines 2012 vly'!J$3,FALSE) -> 0.16358695 | K24: 0.16944627 | L24: ='European Airlines 2012 Pax'!L24/'European Airlines 2011 Pax'!L33-1 -> 0.11215115 | M24: ='European Airlines 2012 Pax'!M24/'European Airlines 2011 Pax'!M33-1 -> 0.1730442 | N24: ='European Airlines 2012 Pax'!N24/'European Airlines 2011 Pax'!N33-1 -> -0.03878862
A25: Lufthansa | B25: 65458000 | C25: 0.04 | D25: 0.028 | E25: 0.047 | F25: 0.025 | G25: 0.001 | H25: 0.054 | I25: 0.036 | J25: 0.044 | K25: 0.018 | L25: 0.038 | M25: -0.021 | N25: -0.073
A26: Monarch | B26: =IF(VLOOKUP(A26,'European Airlines 2011 Pax'!$A:$O,14,FALSE)=0,"",VLOOKUP(A26,'European Airlines 2011 Pax'!$A:$O,15,FALSE)) -> 5932463 | C26: =(VLOOKUP($A26,'European Airlines 2012 Pax'!$A:$N,C$3,FALSE)-VLOOKUP($A26,'European Airlines 2011 Pax'!$A:$N,'European Airlines 2012 vly'!C$3,FALSE))/VLOOKUP($A26,'European Airlines 2011 Pax'!$A:$N,'European Airlines 2012 vly'!C$3,FALSE) -> -0.077035953 | D26: =(VLOOKUP($A26,'European Airlines 2012 Pax'!$A:$N,D$3,FALSE)-VLOOKUP($A26,'European Airlines 2011 Pax'!$A:$N,'European Airlines 2012 vly'!D$3,FALSE))/VLOOKUP($A26,'European Airlines 2011 Pax'!$A:$N,'European Airlines 2012 vly'!D$3,FALSE) -> -0.052484473 | E26: =(VLOOKUP($A26,'European Airlines 2012 Pax'!$A:$N,E$3,FALSE)-VLOOKUP($A26,'European Airlines 2011 Pax'!$A:$N,'European Airlines 2012 vly'!E$3,FALSE))/VLOOKUP($A26,'European Airlines 2011 Pax'!$A:$N,'European Airlines 2012 vly'!E$3,FALSE) -> 0.076804892 | F26: =(VLOOKUP($A26,'European Airlines 2012 Pax'!$A:$N,F$3,FALSE)-VLOOKUP($A26,'European Airlines 2011 Pax'!$A:$N,'European Airlines 2012 vly'!F$3,FALSE))/VLOOKUP($A26,'European Airlines 2011 Pax'!$A:$N,'European Airlines 2012 vly'!F$3,FALSE) -> -0.084504605 | G26: =(VLOOKUP($A26,'European Airlines 2012 Pax'!$A:$N,G$3,FALSE)-VLOOKUP($A26,'European Airlines 2011 Pax'!$A:$N,'European Airlines 2012 vly'!G$3,FALSE))/VLOOKUP($A26,'European Airlines 2011 Pax'!$A:$N,'European Airlines 2012 vly'!G$3,FALSE) -> 0.021532518 | H26: =(VLOOKUP($A26,'European Airlines 2012 Pax'!$A:$N,H$3,FALSE)-VLOOKUP($A26,'European Airlines 2011 Pax'!$A:$N,'European Airlines 2012 vly'!H$3,FALSE))/VLOOKUP($A26,'European Airlines 2011 Pax'!$A:$N,'European Airlines 2012 vly'!H$3,FALSE) -> 0.11475003 | I26: =(VLOOKUP($A26,'European Airlines 2012 Pax'!$A:$N,I$3,FALSE)-VLOOKUP($A26,'European Airlines 2011 Pax'!$A:$N,'European Airlines 2012 vly'!I$3,FALSE))/VLOOKUP($A26,'European Airlines 2011 Pax'!$A:$N,'European Airlines 2012 vly'!I$3,FALSE) -> 0.053613454 | J26: =(VLOOKUP($A26,'European Airlines 2012 Pax'!$A:$N,J$3,FALSE)-VLOOKUP($A26,'European Airlines 2011 Pax'!$A:$N,'European Airlines 2012 vly'!J$3,FALSE))/VLOOKUP($A26,'European Airlines 2011 Pax'!$A:$N,'European Airlines 2012 vly'!J$3,FALSE) -> 0.047178208 | K26: -0.009941501 | L26: ='European Airlines 2012 Pax'!L26/'European Airlines 2011 Pax'!L39-1 -> 0.12191224 | M26: ='European Airlines 2012 Pax'!M26/'European Airlines 2011 Pax'!M39-1 -> 0.23882716 | N26: ='European Airlines 2012 Pax'!N26/'European Airlines 2011 Pax'!N39-1 -> 0.15994839
A27: Norwegian | B27: =IF(VLOOKUP(A27,'European Airlines 2011 Pax'!$A:$O,14,FALSE)=0,"",VLOOKUP(A27,'European Airlines 2011 Pax'!$A:$O,15,FALSE)) -> 15698183 | C27: =(VLOOKUP($A27,'European Airlines 2012 Pax'!$A:$N,C$3,FALSE)-VLOOKUP($A27,'European Airlines 2011 Pax'!$A:$N,'European Airlines 2012 vly'!C$3,FALSE))/VLOOKUP($A27,'European Airlines 2011 Pax'!$A:$N,'European Airlines 2012 vly'!C$3,FALSE) -> 0.17432141 | D27: =(VLOOKUP($A27,'European Airlines 2012 Pax'!$A:$N,D$3,FALSE)-VLOOKUP($A27,'European Airlines 2011 Pax'!$A:$N,'European Airlines 2012 vly'!D$3,FALSE))/VLOOKUP($A27,'European Airlines 2011 Pax'!$A:$N,'European Airlines 2012 vly'!D$3,FALSE) -> 0.23126005 | E27: =(VLOOKUP($A27,'European Airlines 2012 Pax'!$A:$N,E$3,FALSE)-VLOOKUP($A27,'European Airlines 2011 Pax'!$A:$N,'European Airlines 2012 vly'!E$3,FALSE))/VLOOKUP($A27,'European Airlines 2011 Pax'!$A:$N,'European Airlines 2012 vly'!E$3,FALSE) -> 0.17976677 | F27: =(VLOOKUP($A27,'European Airlines 2012 Pax'!$A:$N,F$3,FALSE)-VLOOKUP($A27,'European Airlines 2011 Pax'!$A:$N,'European Airlines 2012 vly'!F$3,FALSE))/VLOOKUP($A27,'European Airlines 2011 Pax'!$A:$N,'European Airlines 2012 vly'!F$3,FALSE) -> 0.11375364 | G27: =(VLOOKUP($A27,'European Airlines 2012 Pax'!$A:$N,G$3,FALSE)-VLOOKUP($A27,'European Airlines 2011 Pax'!$A:$N,'European Airlines 2012 vly'!G$3,FALSE))/VLOOKUP($A27,'European Airlines 2011 Pax'!$A:$N,'European Airlines 2012 vly'!G$3,FALSE) -> 0.12240974 | H27: =(VLOOKUP($A27,'European Airlines 2012 Pax'!$A:$N,H$3,FALSE)-VLOOKUP($A27,'European Airlines 2011 Pax'!$A:$N,'European Airlines 2012 vly'!H$3,FALSE))/VLOOKUP($A27,'European Airlines 2011 Pax'!$A:$N,'European Airlines 2012 vly'!H$3,FALSE) -> 0.085242819 | I27: =(VLOOKUP($A27,'European Airlines 2012 Pax'!$A:$N,I$3,FALSE)-VLOOKUP($A27,'European Airlines 2011 Pax'!$A:$N,'European Airlines 2012 vly'!I$3,FALSE))/VLOOKUP($A27,'European Airlines 2011 Pax'!$A:$N,'European Airlines 2012 vly'!I$3,FALSE) -> 0.14023697 | J27: =(VLOOKUP($A27,'European Airlines 2012 Pax'!$A:$N,J$3,FALSE)-VLOOKUP($A27,'European Airlines 2011 Pax'!$A:$N,'European Airlines 2012 vly'!J$3,FALSE))/VLOOKUP($A27,'European Airlines 2011 Pax'!$A:$N,'European Airlines 2012 vly'!J$3,FALSE) -> 0.12922244 | K27: 0.10787459 | L27: 0.090342984 | M27: 0.12085903 | N27: 0.075680215
A28: Ryanair | B28: =IF(VLOOKUP(A28,'European Airlines 2011 Pax'!$A:$O,14,FALSE)=0,"",VLOOKUP(A28,'European Airlines 2011 Pax'!$A:$O,15,FALSE)) -> 76430000 | C28: =(VLOOKUP($A28,'European Airlines 2012 Pax'!$A:$N,C$3,FALSE)-VLOOKUP($A28,'European Airlines 2011 Pax'!$A:$N,'European Airlines 2012 vly'!C$3,FALSE))/VLOOKUP($A28,'European Airlines 2011 Pax'!$A:$N,'European Airlines 2012 vly'!C$3,FALSE) -> -0.057939914 | D28: =(VLOOKUP($A28,'European Airlines 2012 Pax'!$A:$N,D$3,FALSE)-VLOOKUP($A28,'European Airlines 2011 Pax'!$A:$N,'European Airlines 2012 vly'!D$3,FALSE))/VLOOKUP($A28,'European Airlines 2011 Pax'!$A:$N,'European Airlines 2012 vly'!D$3,FALSE) -> -0.021881838 | E28: =(VLOOKUP($A28,'European Airlines 2012 Pax'!$A:$N,E$3,FALSE)-VLOOKUP($A28,'European Airlines 2011 Pax'!$A:$N,'European Airlines 2012 vly'!E$3,FALSE))/VLOOKUP($A28,'European Airlines 2011 Pax'!$A:$N,'European Airlines 2012 vly'!E$3,FALSE) -> -0.035087719 | F28: =(VLOOKUP($A28,'European Airlines 2012 Pax'!$A:$N,F$3,FALSE)-VLOOKUP($A28,'European Airlines 2011 Pax'!$A:$N,'European Airlines 2012 vly'!F$3,FALSE))/VLOOKUP($A28,'European Airlines 2011 Pax'!$A:$N,'European Airlines 2012 vly'!F$3,FALSE) -> 0.058823529 | G28: =(VLOOKUP($A28,'European Airlines 2012 Pax'!$A:$N,G$3,FALSE)-VLOOKUP($A28,'European Airlines 2011 Pax'!$A:$N,'European Airlines 2012 vly'!G$3,FALSE))/VLOOKUP($A28,'European Airlines 2011 Pax'!$A:$N,'European Airlines 2012 vly'!G$3,FALSE) -> 0.05034965 | H28: =(VLOOKUP($A28,'European Airlines 2012 Pax'!$A:$N,H$3,FALSE)-VLOOKUP($A28,'European Airlines 2011 Pax'!$A:$N,'European Airlines 2012 vly'!H$3,FALSE))/VLOOKUP($A28,'European Airlines 2011 Pax'!$A:$N,'European Airlines 2012 vly'!H$3,FALSE) -> 0.062755798 | I28: =(VLOOKUP($A28,'European Airlines 2012 Pax'!$A:$N,I$3,FALSE)-VLOOKUP($A28,'European Airlines 2011 Pax'!$A:$N,'European Airlines 2012 vly'!I$3,FALSE))/VLOOKUP($A28,'European Airlines 2011 Pax'!$A:$N,'European Airlines 2012 vly'!I$3,FALSE) -> 0.079207921 | J28: =(VLOOKUP($A28,'European Airlines 2012 Pax'!$A:$N,J$3,FALSE)-VLOOKUP($A28,'European Airlines 2011 Pax'!$A:$N,'European Airlines 2012 vly'!J$3,FALSE))/VLOOKUP($A28,'European Airlines 2011 Pax'!$A:$N,'European Airlines 2012 vly'!J$3,FALSE) -> 0.093366093 | K28: 0.08137931 | L28: 0.037138927 | M28: 0.049145299 | N28: 0.0165
A29: SAS* | B29: =IF(VLOOKUP(A29,'European Airlines 2011 Pax'!$A:$O,14,FALSE)=0,"",VLOOKUP(A29,'European Airlines 2011 Pax'!$A:$O,15,FALSE)) -> 22911034 | C29: 0.055 | D29: 0.08 | E29: 0.059 | F29: 0.029 | G29: 0.016 | H29: 0.035 | I29: 0.048 | J29: 0.04 | K29: 0.032 | L29: 0.038 | M29: 0.027 | N29: -0.039
A30: Swiss | B30: 15317275 | C30: 0.017 | D30: 0.058 | E30: 0.077 | F30: 0.065 | G30: 0.009 | H30: 0.047 | I30: 0.022 | J30: 0.048 | K30: 0.044 | L30: 0.017 | M30: -0.004 | N30: -0.007
A31: Thomson Airways | B31: =IF(VLOOKUP(A31,'European Airlines 2011 Pax'!$A:$O,14,FALSE)=0,"",VLOOKUP(A31,'European Airlines 2011 Pax'!$A:$O,15,FALSE)) -> 11046156 | C31: =(VLOOKUP($A31,'European Airlines 2012 Pax'!$A:$N,C$3,FALSE)-VLOOKUP($A31,'European Airlines 2011 Pax'!$A:$N,'European Airlines 2012 vly'!C$3,FALSE))/VLOOKUP($A31,'European Airlines 2011 Pax'!$A:$N,'European Airlines 2012 vly'!C$3,FALSE) -> -0.044115585 | D31: =(VLOOKUP($A31,'European Airlines 2012 Pax'!$A:$N,D$3,FALSE)-VLOOKUP($A31,'European Airlines 2011 Pax'!$A:$N,'European Airlines 2012 vly'!D$3,FALSE))/VLOOKUP($A31,'European Airlines 2011 Pax'!$A:$N,'European Airlines 2012 vly'!D$3,FALSE) -> -0.023719386 | E31: =(VLOOKUP($A31,'European Airlines 2012 Pax'!$A:$N,E$3,FALSE)-VLOOKUP($A31,'European Airlines 2011 Pax'!$A:$N,'European Airlines 2012 vly'!E$3,FALSE))/VLOOKUP($A31,'European Airlines 2011 Pax'!$A:$N,'European Airlines 2012 vly'!E$3,FALSE) -> 0.0091302676 | F31: =(VLOOKUP($A31,'European Airlines 2012 Pax'!$A:$N,F$3,FALSE)-VLOOKUP($A31,'European Airlines 2011 Pax'!$A:$N,'European Airlines 2012 vly'!F$3,FALSE))/VLOOKUP($A31,'European Airlines 2011 Pax'!$A:$N,'European Airlines 2012 vly'!F$3,FALSE) -> -0.088741944 | G31: =(VLOOKUP($A31,'European Airlines 2012 Pax'!$A:$N,G$3,FALSE)-VLOOKUP($A31,'European Airlines 2011 Pax'!$A:$N,'European Airlines 2012 vly'!G$3,FALSE))/VLOOKUP($A31,'European Airlines 2011 Pax'!$A:$N,'European Airlines 2012 vly'!G$3,FALSE) -> -0.091957518 | H31: =(VLOOKUP($A31,'European Airlines 2012 Pax'!$A:$N,H$3,FALSE)-VLOOKUP($A31,'European Airlines 2011 Pax'!$A:$N,'European Airlines 2012 vly'!H$3,FALSE))/VLOOKUP($A31,'European Airlines 2011 Pax'!$A:$N,'European Airlines 2012 vly'!H$3,FALSE) -> -0.029136455 | I31: =(VLOOKUP($A31,'European Airlines 2012 Pax'!$A:$N,I$3,FALSE)-VLOOKUP($A31,'European Airlines 2011 Pax'!$A:$N,'European Airlines 2012 vly'!I$3,FALSE))/VLOOKUP($A31,'European Airlines 2011 Pax'!$A:$N,'European Airlines 2012 vly'!I$3,FALSE) -> -0.04554566 | J31: =(VLOOKUP($A31,'European Airlines 2012 Pax'!$A:$N,J$3,FALSE)-VLOOKUP($A31,'European Airlines 2011 Pax'!$A:$N,'European Airlines 2012 vly'!J$3,FALSE))/VLOOKUP($A31,'European Airlines 2011 Pax'!$A:$N,'European Airlines 2012 vly'!J$3,FALSE) -> -0.022827249 | K31: -0.030035698 | L31: ='European Airlines 2012 Pax'!L31/'European Airlines 2011 Pax'!L46-1 -> -0.025878031 | M31: ='European Airlines 2012 Pax'!M31/'European Airlines 2011 Pax'!M46-1 -> 0.083442905 | N31: ='European Airlines 2012 Pax'!N31/'European Airlines 2011 Pax'!N46-1 -> 0.043660251
A32: Transaero | B32: =VLOOKUP(A32,'European Airlines 2011 Pax'!$A:$O,15,FALSE) -> 8453371 | C32: =(VLOOKUP($A32,'European Airlines 2012 Pax'!$A:$N,C$3,FALSE)-VLOOKUP($A32,'European Airlines 2011 Pax'!$A:$N,'European Airlines 2012 vly'!C$3,FALSE))/VLOOKUP($A32,'European Airlines 2011 Pax'!$A:$N,'European Airlines 2012 vly'!C$3,FALSE) -> 0.21017626 | D32: 0.48 | E32: =(VLOOKUP($A32,'European Airlines 2012 Pax'!$A:$N,E$3,FALSE)-VLOOKUP($A32,'European Airlines 2011 Pax'!$A:$N,'European Airlines 2012 vly'!E$3,FALSE))/VLOOKUP($A32,'European Airlines 2011 Pax'!$A:$N,'European Airlines 2012 vly'!E$3,FALSE) -> 0.46184874 | F32: 0.312 | G32: =(VLOOKUP($A32,'European Airlines 2012 Pax'!$A:$N,G$3,FALSE)-VLOOKUP($A32,'European Airlines 2011 Pax'!$A:$N,'European Airlines 2012 vly'!G$3,FALSE))/VLOOKUP($A32,'European Airlines 2011 Pax'!$A:$N,'European Airlines 2012 vly'!G$3,FALSE) -> 0.10110671 | J32: =(VLOOKUP($A32,'European Airlines 2012 Pax'!$A:$N,J$3,FALSE)-VLOOKUP($A32,'European Airlines 2011 Pax'!$A:$N,'European Airlines 2012 vly'!J$3,FALSE))/VLOOKUP($A32,'European Airlines 2011 Pax'!$A:$N,'European Airlines 2012 vly'!J$3,FALSE) -> 0.20148973 | K32: 0.18477951 | L32: 0.19691444
A33: Turkish Airlines | B33: 32621641 | C33: 0.219 | D33: =('European Airlines 2012 Pax'!D33-(4249208-2138669))/(4249208-2138669) -> 0.1642552 | E33: =('European Airlines 2012 Pax'!E33-(6702299-4249208))/(6702299-4249208) -> 0.18379139 | F33: =('European Airlines 2012 Pax'!F33-(9317838-6702299))/(9317838-6702299) -> 0.18028598 | G33: =('European Airlines 2012 Pax'!G33-(9317838-6702299))/(9317838-6702299) -> 0.23339205 | H33: =('European Airlines 2012 Pax'!H33-(14788952-12008276))/(14788952-12008276) -> 0.24517815 | I33: =('European Airlines 2012 Pax'!I33-(18132139-14788952))/(18132139-14788952) -> 0.14817149 | J33: =('European Airlines 2012 Pax'!J33-(21198426-18132139))/(21198426-18132139) -> 0.23423117 | K33: 0.1972478 | L33: 0.19982165 | M33: 0.17856795 | N33: 0.19909398
A34: Virgin Atlantic | B34: =IF(VLOOKUP(A34,'European Airlines 2011 Pax'!$A:$O,14,FALSE)=0,"",VLOOKUP(A34,'European Airlines 2011 Pax'!$A:$O,15,FALSE)) -> 5279739 | C34: =(VLOOKUP($A34,'European Airlines 2012 Pax'!$A:$N,C$3,FALSE)-VLOOKUP($A34,'European Airlines 2011 Pax'!$A:$N,'European Airlines 2012 vly'!C$3,FALSE))/VLOOKUP($A34,'European Airlines 2011 Pax'!$A:$N,'European Airlines 2012 vly'!C$3,FALSE) -> 0.024692865 | D34: =(VLOOKUP($A34,'European Airlines 2012 Pax'!$A:$N,D$3,FALSE)-VLOOKUP($A34,'European Airlines 2011 Pax'!$A:$N,'European Airlines 2012 vly'!D$3,FALSE))/VLOOKUP($A34,'European Airlines 2011 Pax'!$A:$N,'European Airlines 2012 vly'!D$3,FALSE) -> 0.051337913 | E34: =(VLOOKUP($A34,'European Airlines 2012 Pax'!$A:$N,E$3,FALSE)-VLOOKUP($A34,'European Airlines 2011 Pax'!$A:$N,'European Airlines 2012 vly'!E$3,FALSE))/VLOOKUP($A34,'European Airlines 2011 Pax'!$A:$N,'European Airlines 2012 vly'!E$3,FALSE) -> 0.1289301 | F34: =(VLOOKUP($A34,'European Airlines 2012 Pax'!$A:$N,F$3,FALSE)-VLOOKUP($A34,'European Airlines 2011 Pax'!$A:$N,'European Airlines 2012 vly'!F$3,FALSE))/VLOOKUP($A34,'European Airlines 2011 Pax'!$A:$N,'European Airlines 2012 vly'!F$3,FALSE) -> -0.026814433 | G34: =(VLOOKUP($A34,'European Airlines 2012 Pax'!$A:$N,G$3,FALSE)-VLOOKUP($A34,'European Airlines 2011 Pax'!$A:$N,'European Airlines 2012 vly'!G$3,FALSE))/VLOOKUP($A34,'European Airlines 2011 Pax'!$A:$N,'European Airlines 2012 vly'!G$3,FALSE) -> -0.017329561 | H34: =(VLOOKUP($A34,'European Airlines 2012 Pax'!$A:$N,H$3,FALSE)-VLOOKUP($A34,'European Airlines 2011 Pax'!$A:$N,'European Airlines 2012 vly'!H$3,FALSE))/VLOOKUP($A34,'European Airlines 2011 Pax'!$A:$N,'European Airlines 2012 vly'!H$3,FALSE) -> 0.028504441 | I34: =(VLOOKUP($A34,'European Airlines 2012 Pax'!$A:$N,I$3,FALSE)-VLOOKUP($A34,'European Airlines 2011 Pax'!$A:$N,'European Airlines 2012 vly'!I$3,FALSE))/VLOOKUP($A34,'European Airlines 2011 Pax'!$A:$N,'European Airlines 2012 vly'!I$3,FALSE) -> 0.010193954 | J34: =(VLOOKUP($A34,'European Airlines 2012 Pax'!$A:$N,J$3,FALSE)-VLOOKUP($A34,'European Airlines 2011 Pax'!$A:$N,'European Airlines 2012 vly'!J$3,FALSE))/VLOOKUP($A34,'European Airlines 2011 Pax'!$A:$N,'European Airlines 2012 vly'!J$3,FALSE) -> 0.024457473 | K34: 0.053313581 | L34: 0.0045707261 | M34: ='European Airlines 2012 Pax'!M34/'European Airlines 2011 Pax'!M50-1 -> 0.071458256 | N34: ='European Airlines 2012 Pax'!N34/'European Airlines 2011 Pax'!N50-1 -> 0.058185299
A35: Vueling | B35: =IF(VLOOKUP(A35,'European Airlines 2011 Pax'!$A:$O,14,FALSE)=0,"",VLOOKUP(A35,'European Airlines 2011 Pax'!$A:$O,15,FALSE)) -> 12315937 | C35: =(VLOOKUP($A35,'European Airlines 2012 Pax'!$A:$N,C$3,FALSE)-VLOOKUP($A35,'European Airlines 2011 Pax'!$A:$N,'European Airlines 2012 vly'!C$3,FALSE))/VLOOKUP($A35,'European Airlines 2011 Pax'!$A:$N,'European Airlines 2012 vly'!C$3,FALSE) -> 0.13253743 | D35: =(VLOOKUP($A35,'European Airlines 2012 Pax'!$A:$N,D$3,FALSE)-VLOOKUP($A35,'European Airlines 2011 Pax'!$A:$N,'European Airlines 2012 vly'!D$3,FALSE))/VLOOKUP($A35,'European Airlines 2011 Pax'!$A:$N,'European Airlines 2012 vly'!D$3,FALSE) -> 0.26618008 | E35: 0.308 | F35: 0.223 | G35: 0.14779009 | H35: 0.18872505 | I35: 0.231 | J35: 0.219 | K35: 0.231 | L35: 0.146 | M35: 0.145 | N35: 0.143
A36: Widerøe | B36: =IF(VLOOKUP(A36,'European Airlines 2011 Pax'!$A:$O,14,FALSE)=0,"",VLOOKUP(A36,'European Airlines 2011 Pax'!$A:$O,15,FALSE)) -> 2536288 | C36: 0.078 | D36: 0.098 | E36: 0.041 | F36: 0.081 | G36: 0.097 | H36: 0.041 | I36: 0.139 | J36: 0.109 | K36: 0.064 | L36: 0.129 | M36: 0.126 | N36: 0.092
A38: * Note: from April 2012, Blue1 figures are included in those of SAS

Sheet European Airlines 2012 LF
A1: European Airline Traffic Trends 2012: Load factors
A2: Sources: Individual airlines, airline groups and UK CAA
A4: Airline | B4: LF 2011 | C4: Jan | D4: Feb | E4: Mar | F4: Apr | G4: May | H4: Jun | I4: Jul | J4: Aug | K4: Sep | L4: Oct | M4: Nov | N4: Dec | O4: LF 2012 | P4: Var.
A5: Aer Lingus | B5: =IF(VLOOKUP(A5,'European Airlines 2011 LF'!$A$5:$O$50,15,FALSE)=0,"",VLOOKUP(A5,'European Airlines 2011 LF'!$A$5:$O$50,15,FALSE)) -> 0.764 | C5: 0.623 | D5: 0.673 | E5: 0.758 | F5: 0.727 | G5: 0.762 | H5: 0.826 | I5: 0.866 | J5: 0.873 | K5: 0.844 | L5: 0.792 | M5: 0.766 | N5: 0.709 | O5: 0.76825 | P5: 1
A6: Aeroflot | B6: =IF(VLOOKUP(A6,'European Airlines 2011 LF'!$A$5:$O$50,15,FALSE)=0,"",VLOOKUP(A6,'European Airlines 2011 LF'!$A$5:$O$50,15,FALSE)) -> 0.775 | D6: 0.736 | F6: 0.776 | H6: 0.784 | I6: 0.848 | J6: 0.852 | K6: 0.834 | L6: 0.794 | M6: 0.756 | N6: 0.736 | O6: 0.779 | P6: 0
A7: Air France-KLM | B7: 0.83 | C7: 0.816 | D7: 0.805 | E7: 0.825 | F7: 0.833 | G7: 0.808 | H7: 0.842 | I7: 0.869 | J7: 0.857 | K7: 0.852 | L7: 0.827 | M7: 0.812 | N7: 0.818 | O7: 0.83033333 | P7: 0
A8: airBaltic | B8: 0.75 | C8: 0.67 | D8: 0.69 | E8: 0.74 | F8: 0.71 | G8: 0.7 | H8: 0.76 | I8: 0.8 | J8: 0.77 | K8: 0.76 | L8: 0.71 | M8: 0.61 | N8: 0.62 | O8: 0.71166667 | P8: -4
A9: airberlin | B9: =IF(VLOOKUP(A9,'European Airlines 2011 LF'!$A$5:$O$50,15,FALSE)=0,"",VLOOKUP(A9,'European Airlines 2011 LF'!$A$5:$O$50,15,FALSE)) -> 0.782 | C9: 0.7496 | D9: 0.756 | E9: 0.781 | F9: 0.78 | G9: 0.764 | H9: 0.7903 | I9: 0.8373 | J9: 0.8446 | K9: 0.8545 | L9: 0.81 | M9: 0.7694 | N9: 0.78 | O9: 0.79305833 | P9: 1
A10: Austrian Airlines | B10: 0.738 | C10: 0.68 | D10: 0.694 | E10: 0.736 | F10: 0.767 | G10: 0.753 | H10: 0.787 | I10: 0.851 | J10: 0.854 | K10: 0.829 | L10: 0.789 | M10: 0.753 | N10: 0.766 | O10: 0.77158333 | P10: 3
A11: Blue1* | B11: =IF(VLOOKUP(A11,'European Airlines 2011 LF'!$A$5:$O$50,15,FALSE)=0,"",VLOOKUP(A11,'European Airlines 2011 LF'!$A$5:$O$50,15,FALSE)) -> 0.651 | C11: 0.587 | D11: 0.622 | E11: 0.653
A12: bmi British Midland | B12: =IF(VLOOKUP(A12,'European Airlines 2011 LF'!$A$5:$O$50,15,FALSE)=0,"",VLOOKUP(A12,'European Airlines 2011 LF'!$A$5:$O$50,15,FALSE)) -> 0.568 | C12: 0.5008 | D12: 0.57786185 | E12: 0.62060986 | F12: 0.6445 | G12: 0.61592946 | H12: 0.69764211 | I12: 0.70198856
A13: bmibaby | B13: =IF(VLOOKUP(A13,'European Airlines 2011 LF'!$A$5:$O$50,15,FALSE)=0,"",VLOOKUP(A13,'European Airlines 2011 LF'!$A$5:$O$50,15,FALSE)) -> 0.72112776 | C13: 0.555 | D13: 0.65481488 | E13: 0.69742672 | F13: 0.6956 | G13: 0.68943146 | H13: 0.79342748 | I13: 0.83924724
A14: Brussels Airlines | B14: =IF(VLOOKUP(A14,'European Airlines 2011 LF'!$A$5:$O$50,15,FALSE)=0,"",VLOOKUP(A14,'European Airlines 2011 LF'!$A$5:$O$50,15,FALSE)) -> 0.665 | C14: 0.634 | E14: 0.636 | F14: 0.682 | H14: 0.698 | I14: 0.684 | J14: 0.775 | K14: 0.729 | L14: 0.686 | M14: 0.642 | N14: 0.668 | O14: 0.69 | P14: 2 pp
A15: Cimber Sterling | B15: =IF(VLOOKUP(A15,'European Airlines 2011 LF'!$A$5:$O$50,15,FALSE)=0,"",VLOOKUP(A15,'European Airlines 2011 LF'!$A$5:$O$50,15,FALSE)) -> 0.67 | C15: 0.64 | D15: 0.69 | E15: 0.72
A16: Croatia Airlines | B16: =IF(VLOOKUP(A16,'European Airlines 2011 LF'!$A$5:$O$50,15,FALSE)=0,"",VLOOKUP(A16,'European Airlines 2011 LF'!$A$5:$O$50,15,FALSE)) -> 0.671 | C16: 0.57784611 | D16: 0.56908923 | E16: 0.64893153 | F16: 0.62640824 | G16: 0.65904501 | H16: 0.74403293 | I16: 0.76838043 | J16: 0.75519939 | K16: 0.78610185 | L16: 0.67316168 | M16: 0.6329014 | N16: 0.60685601 | O16: =AVERAGE(C16:N16) -> 0.67066282 | P16: 0
A17: easyJet | B17: =IF(VLOOKUP(A17,'European Airlines 2011 LF'!$A$5:$O$50,15,FALSE)=0,"",VLOOKUP(A17,'European Airlines 2011 LF'!$A$5:$O$50,15,FALSE)) -> 0.875 | C17: 0.819 | D17: 0.876 | E17: 0.888 | F17: 0.893 | G17: 0.88 | H17: 0.899 | I17: 0.925 | J17: 0.917 | K17: 0.885 | L17: 0.884 | M17: 0.896 | N17: 0.879 | O17: 0.88675 | P17: 1
A18: Estonian Air | B18: 0.612 | C18: 0.602 | F18: 0.672 | G18: 0.738 | H18: 0.78 | I18: 0.793 | J18: 0.732 | K18: 0.726 | L18: 0.709 | O18: 0.708 | P18: 10
A19: Finnair | B19: 0.733 | C19: 0.746 | D19: 0.759 | E19: 0.78 | F19: 0.764 | G19: 0.744 | H19: 0.816 | I19: 0.845 | J19: 0.808 | K19: 0.786 | L19: 0.755 | M19: 0.708 | N19: 0.75 | O19: 0.77175 | P19: 4
A20: flybe | B20: =IF(VLOOKUP(A20,'European Airlines 2011 LF'!$A$5:$O$50,15,FALSE)=0,"",VLOOKUP(A20,'European Airlines 2011 LF'!$A$5:$O$50,15,FALSE)) -> 0.62182132 | C20: 0.55 | D20: 0.59419493 | E20: 0.60457795 | F20: 0.61 | G20: 0.59640537 | H20: 0.66397693 | I20: 0.67913428 | J20: 0.698 | K20: 0.68 | L20: 0.629 | M20: 0.627 | N20: 0.626 | O20: 0.635 | P20: 2
A21: IAG (BA+Iberia) | B21: 0.739 | C21: 0.699 | D21: 0.736 | E21: 0.737 | F21: 0.816 | G21: 0.786 | H21: 0.84 | I21: 0.857 | J21: 0.844 | K21: 0.84 | L21: 0.805 | M21: 0.772 | N21: 0.781 | O21: 0.79275 | P21: 5
A22: Icelandair | B22: =IF(VLOOKUP(A22,'European Airlines 2011 LF'!$A$5:$O$50,15,FALSE)=0,"",VLOOKUP(A22,'European Airlines 2011 LF'!$A$5:$O$50,15,FALSE)) -> 0.7945 | C22: 0.695 | D22: 0.75 | E22: 0.81 | F22: 0.815 | G22: 0.822 | H22: 0.826 | I22: 0.853 | J22: 0.849 | K22: 0.81 | L22: 0.806 | M22: 0.759 | N22: 0.727 | O22: =AVERAGE(C22:N22) -> 0.7935 | P22: =O22-B22 -> -0.001
A23: Jat Airways | B23: =IF(VLOOKUP(A23,'European Airlines 2011 LF'!$A$5:$O$50,15,FALSE)=0,"",VLOOKUP(A23,'European Airlines 2011 LF'!$A$5:$O$50,15,FALSE)) -> 0.694 | C23: 0.66 | D23: 0.63 | E23: 0.68 | F23: 0.78 | G23: 0.78 | H23: 0.74 | I23: 0.83 | J23: 0.79 | K23: 0.76 | L23: 0.72 | M23: 0.74
A24: Jet2.com | B24: =IF(VLOOKUP(A24,'European Airlines 2011 LF'!$A$5:$O$50,15,FALSE)=0,"",VLOOKUP(A24,'European Airlines 2011 LF'!$A$5:$O$50,15,FALSE)) -> 0.87316569 | C24: 0.827 | D24: 0.85357725 | E24: 0.82780993 | F24: 0.824 | G24: 0.83271511 | H24: 0.91090303 | I24: 0.93511966 | J24: 0.9471534 | K24: 0.925 | L24: 0.898 | M24: 0.814 | N24: 0.814 | O24: 0.89 | P24: 2
A25: Lufthansa | B25: 0.772 | C25: 0.74 | D25: 0.709 | E25: 0.763 | F25: 0.776 | G25: 0.774 | H25: 0.815 | I25: 0.842 | J25: 0.828 | K25: 0.805 | L25: 0.779 | M25: 0.746 | N25: 0.768 | O25: 0.77875 | P25: 1
A26: Monarch | B26: 0.772 | C26: 0.784 | D26: 0.78740604 | E26: 0.8052905 | F26: 0.798 | G26: 0.80080383 | H26: 0.89933921 | I26: 0.91269405 | J26: 0.93404271 | K26: 0.93 | L26: 0.848 | M26: 0.811 | N26: 0.746 | O26: 0.856 | P26: 9
A27: Norwegian | B27: 0.772 | C27: 0.76 | D27: 0.78 | E27: 0.78 | F27: 0.76 | G27: 0.77 | H27: 0.77 | I27: 0.87 | J27: 0.8 | K27: 0.8 | L27: 0.78 | M27: 0.76 | N27: 0.76 | O27: 0.7825 | P27: 1
A28: Ryanair | B28: =IF(VLOOKUP(A28,'European Airlines 2011 LF'!$A$5:$O$50,15,FALSE)=0,"",VLOOKUP(A28,'European Airlines 2011 LF'!$A$5:$O$50,15,FALSE)) -> 0.82 | C28: 0.71 | D28: 0.76 | E28: 0.78 | F28: 0.81 | G28: 0.81 | H28: 0.84 | I28: 0.88 | J28: 0.88 | K28: 0.84 | L28: 0.82 | M28: 0.8 | N28: 0.81 | O28: 0.81166667 | P28: -1
A29: SAS* | B29: =IF(VLOOKUP(A29,'European Airlines 2011 LF'!$A$5:$O$50,15,FALSE)=0,"",VLOOKUP(A29,'European Airlines 2011 LF'!$A$5:$O$50,15,FALSE)) -> 0.746 | C29: 0.66 | D29: 0.675 | E29: 0.732 | F29: 0.761 | G29: 0.759 | H29: 0.809 | I29: 0.868 | J29: 0.795 | K29: 0.771 | L29: 0.746 | M29: 0.686 | N29: 0.701 | O29: 0.74691667 | P29: 0
A30: Swiss | B30: 0.818 | C30: 0.757 | D30: 0.757 | E30: 0.816 | F30: 0.843 | G30: 0.825 | H30: 0.869 | I30: 0.887 | J30: 0.876 | K30: 0.868 | L30: 0.843 | M30: 0.794 | N30: 0.793 | O30: 0.82733333 | P30: 1
A31: Thomson Airways | B31: =IF(VLOOKUP(A31,'European Airlines 2011 LF'!$A$5:$O$50,15,FALSE)=0,"",VLOOKUP(A31,'European Airlines 2011 LF'!$A$5:$O$50,15,FALSE)) -> 0.89322424 | C31: 0.912 | D31: 0.93697328 | E31: 0.88331558 | F31: 0.85 | G31: 0.85154388 | H31: 0.94386588 | I31: 0.95147036 | J31: 0.97486706 | K31: 0.951 | L31: 0.925 | M31: 0.912 | N31: 0.874 | O31: 0.92 | P31: 3
A32: Turkish Airlines | B32: 0.726 | C32: 0.721 | D32: =(9465780-4879519)/(13226619-6763863) -> 0.70964477 | E32: =(14991613-9465780)/(20618024-13226619) -> 0.74760252 | F32: =(20885454-14991613)/(28262814-20618024) -> 0.77096179 | G32: =(26956763-20885454)/(28262814-20618024) -> 0.79417603 | H32: =(33532085-26956763)/(44600454-36260894) -> 0.78844951 | I32: =(40920163-33532085)/(53574599-44600454) -> 0.82326261 | J32: =(48164485-40920163)/(62567360-53574599) -> 0.80557262 | K32: 0.80557262 | L32: 0.79745271 | M32: 0.75666384 | N32: 0.76015476 | O32: 0.77337615 | P32: 4
A33: Virgin Atlantic | B33: =IF(VLOOKUP(A33,'European Airlines 2011 LF'!$A$5:$O$50,15,FALSE)=0,"",VLOOKUP(A33,'European Airlines 2011 LF'!$A$5:$O$50,15,FALSE)) -> 0.776 | C33: 0.71 | D33: 0.69864747 | E33: 0.75799476 | F33: 0.781 | G33: 0.75984803 | H33: 0.8171641 | I33: 0.80938324 | J33: 0.84662912 | K33: 0.834 | L33: 0.8 | M33: 0.777 | N33: 0.755 | O33: 0.78 | P33: 0
A34: Vueling | B34: =IF(VLOOKUP(A34,'European Airlines 2011 LF'!$A$5:$O$50,15,FALSE)=0,"",VLOOKUP(A34,'European Airlines 2011 LF'!$A$5:$O$50,15,FALSE)) -> 0.756 | C34: 0.723 | D34: 0.778 | E34: 0.7848 | F34: 0.769 | G34: 0.743 | H34: 0.756 | I34: 0.803 | J34: 0.827 | K34: 0.794 | L34: 0.777 | M34: 0.771 | N34: 0.74 | O34: 0.77215 | P34: 1
A35: Widerøe | B35: =IF(VLOOKUP(A35,'European Airlines 2011 LF'!$A$5:$O$50,15,FALSE)=0,"",VLOOKUP(A35,'European Airlines 2011 LF'!$A$5:$O$50,15,FALSE)) -> 0.598 | C35: 0.503 | D35: 0.567 | E35: 0.561 | F35: 0.577 | G35: 0.603 | H35: 0.613 | I35: 0.671 | J35: 0.594 | K35: 0.592 | L35: 0.588 | M35: 0.585 | N35: 0.555
A37: * Note: from April 2012, Blue1 figures are included in those of SAS

Sheet European Airlines 2011 Pax
A1: European Airline Traffic Trends 2011: Passenger numbers
A2: Sources: AEA, UK CAA, individual airlines and airline groups
A4: Airline | B4: Pax 2010 | C4: Jan | D4: Feb | E4: Mar | F4: Apr | G4: May | H4: Jun | I4: Jul | J4: Aug | K4: Sep | L4: Oct | M4: Nov | N4: Dec | O4: Pax 2011 | P4: vly
A5: Adria Airways | B5: 979803 | C5: 65635 | D5: 60946 | E5: 72580 | F5: 81866 | G5: 91234 | H5: 100603 | I5: 108669 | J5: 99828 | K5: 96563 | L5: 78893 | M5: 60316 | N5: 55578 | O5: 972711 | P5: -0.0072381897
A6: Aegean Airlines | B6: 5711283 | C6: 382643 | D6: 350550 | E6: 405897 | F6: 487925 | G6: 526250 | H6: 555913 | I6: 653703 | J6: 670326 | K6: 575977 | L6: 486531 | M6: 363127 | N6: 385278 | O6: 5844120 | P6: 0.023258697
A7: Aer Lingus | B7: 9758949.4 | C7: 552000 | D7: 574000 | E7: 716000 | F7: 822000 | G7: 911000 | H7: 925000 | I7: 1105000 | J7: 1030000 | K7: 954000 | L7: 907000 | M7: 699000 | N7: 638000 | O7: 9833000 | P7: 0.0075879676
A8: Aeroflot | B8: 11285600 | C8: 912700 | D8: 870600 | E8: 1000100 | F8: 1040100 | G8: 1131300 | H8: 1285100 | I8: 1469100 | J8: 1468300 | K8: 1363300 | L8: 1254200 | M8: 2379000 | O8: 14173800 | P8: 0.25591905
A9: Aerosvit | B9: 1707580 | C9: 165518 | D9: 163883 | E9: 204226 | F9: 222690 | G9: 240018 | H9: 254994 | I9: 314150 | J9: 324499 | K9: 268852 | L9: 242368 | M9: 208679 | N9: 217186 | O9: 2827063 | P9: 0.65559622
A10: Air France | B10: 46982930 | C10: 3601711 | D10: 3339125 | E10: 3915839 | F10: 4125824 | G10: 4321978 | H10: 4431301 | I10: 4792764 | J10: 4382066 | K10: 4499483 | L10: 4382726 | M10: 3872346 | N10: 4068156 | O10: 49733319 | P10: 0.058540176
A11: Air Malta | B11: 1695296 | C11: 82696 | D11: 79973 | E11: 106727 | F11: 149762 | G11: 149629 | H11: 160053 | I11: 189168 | J11: 191626 | K11: 173481 | L11: 160643 | M11: 96697 | N11: 84692 | O11: 1625147 | P11: -0.041378615
A12: airBaltic | B12: 3158051 | C12: 181689 | D12: 178134 | E12: 232906 | F12: 296170 | G12: 321413 | H12: 360214 | I12: 371363 | J12: 362433 | K12: 319463 | L12: 283281 | M12: 198388 | N12: 193937 | O12: 3299391 | P12: 0.044755452
A13: airberlin | B13: 34890161 | C13: 2145188 | D13: 2132057 | E13: 2594556 | F13: 2778784 | G13: 3300658 | H13: 3471923 | I13: 3809401 | J13: 3759405 | K13: 3683519 | L13: 3345832 | M13: 2259301 | N13: 2019585 | O13: 35300209 | P13: 0.01175254
A14: Alitalia | B14: 23355401 | C14: 1557060 | D14: 1445243 | E14: 1798966 | F14: 1998500 | G14: 2136407 | H14: 2278719 | I14: 2600673 | J14: 2479836 | K14: 2484579 | L14: 2252818 | M14: 1856159 | N14: 1748766 | O14: 24637726 | P14: 0.054904859
A15: Austrian Airlines | B15: 9783324 | C15: 636349 | D15: 598887 | E15: 746703 | F15: 830091 | G15: 946679 | H15: 925890 | I15: 1024665 | J15: 1002958 | K15: 1032766 | L15: 970152 | M15: 802375 | N15: 753642 | O15: 10271157 | P15: 0.049863727
A16: Blue1 | B16: 1566197 | C16: 116593 | D16: 138160 | E16: 167282 | F16: 169105 | G16: 183894 | H16: 181505 | I16: 127193 | J16: 143983 | K16: 137664 | L16: 143406 | M16: 129000 | N16: 121000 | O16: 1758785 | P16: 0.12296537
A17: bmi British Midland | B17: 6019433 | C17: 352080 | D17: 376765 | E17: 441628 | F17: 463039 | G17: 476475 | H17: 532658 | I17: 573067 | J17: 574782 | K17: 523687 | L17: 473383 | M17: 383379 | N17: 338215 | O17: 5509158 | P17: -0.084771273
A18: bmibaby | B18: 2305471 | C18: 106087 | D18: 131817 | E18: 150762 | F18: 180785 | G18: 194780 | H18: 238680 | I18: 264510 | J18: 289745 | K18: 240583 | L18: 185952 | M18: 113494 | N18: 105520 | O18: 2202715 | P18: -0.044570502
A19: British Airways | B19: 30484474 | C19: 2352802 | D19: 2267243 | E19: 2613456 | F19: 2805686 | G19: 2909937 | H19: 3012023 | I19: 3349697 | J19: 3281053 | K19: 3172466 | L19: 3036091 | M19: 2575088 | N19: 2655814 | O19: 34031356 | P19: 0.11635044
A20: Brussels Airlines | B20: 4889493 | C20: 347891 | D20: 357822 | E20: 446400 | F20: 486786 | G20: 515718 | H20: 526319 | I20: 568486 | J20: 521408 | K20: 583020 | L20: 530223 | M20: 415600 | N20: 389503 | O20: 5689176 | P20: 0.16355131
... A46: Thomson Airways | B46: 13695948 | C46: 563361 | D46: 532518 | E46: 574901 | F46: 614591 | G46: 1095234 | H46: 1361250 | I46: 1470678 | J46: 1512184 | K46: 1403996 | L46: 1022373 | M46: 433506 | N46: 461564 | O46: 11046156 | P46: -0.1934727
A47: Transaero | B47: 6647709.6 | C47: 498572 | D47: 360232 | E47: 423740.15 | F47: 484490.85 | G47: 757744 | H47: 919555 | I47: 1030496 | J47: 1105029 | K47: 978891 | L47: 693941 | M47: 1200680 | O47: 8453371 | P47: 0.27162159
A48: Turkish Airlines | B48: 28308876 | C48: 2120138 | D48: 2054109 | E48: 2315755 | F48: 2493228 | G48: 2603618 | H48: 2695468 | I48: 3211664 | J48: 2954648 | K48: 3036358 | L48: 2902042 | M48: 2592096 | N48: 2531185 | O48: 31510309 | P48: 0.11308937
A49: Ukraine International | B49: 943928 | C49: 70178 | D49: 58655 | E49: 72795 | F49: 93858 | G49: 116068 | H49: 138908 | I49: 187791 | J49: 179353 | K49: 160960 | L49: 138891 | M49: 111843 | N49: 119237 | O49: 1448537 | P49: 0.53458421
A50: Virgin Atlantic | B50: 5291060 | C50: 385010 | D50: 344716 | E50: 391879 | F50: 464787 | G50: 437576 | H50: 473435 | I50: 501768 | J50: 522785 | K50: 453618 | L50: 463290 | M50: 411471 | N50: 429404 | O50: 5279739 | P50: -0.0021396469
A51: Vueling | B51: 11036183 | C51: 642543 | D51: 629833 | E51: 797000 | F51: 981458 | G51: 1110081 | H51: 1185921 | I51: 1415363 | J51: 1543000 | K51: 1261089 | L51: 1079206 | M51: 823691 | N51: 846752 | O51: 12315937 | P51: 0.11595984
A52: Widerøe | B52: 2129776 | C52: 182073 | D52: 190136 | E52: 217801 | F52: 196027 | G52: 230899 | H52: 229945 | I52: 199329 | J52: 219335 | K52: 230622 | L52: 231121 | M52: 223000 | N52: 186000 | O52: 2536288 | P52: 0.19087078

Sheet European Airlines 2011 vly
A1: European Airline Traffic Trends 2011: Change in passenger numbers
A2: Sources: AEA, UK CAA, individual airlines and airline groups
C3: 3 | D3: 4 | E3: 5 | F3: 6 | G3: 7 | H3: 8 | I3: 9 | J3: 10 | K3: 11 | L3: 12 | M3: 13 | N3: 14
A4: Airline | B4: Pax 2010 | C4: Jan | D4: Feb | E4: Mar | F4: Apr | G4: May | H4: Jun | I4: Jul | J4: Aug | K4: Sep | L4: Oct | M4: Nov | N4: Dec
A5: Adria Airways | B5: 979803 | C5: 0.023579683 | D5: 0.055396817 | E5: 0.014537322 | F5: 0.51992128 | G5: -0.025309018 | H5: 0.084574915 | I5: -0.031021507 | J5: -0.13308381 | K5: -0.042945211 | L5: -0.085997961 | M5: -0.095386646 | N5: -0.14470384
A6: Aegean Airlines | B6: 5711283 | C6: -0.15402864 | D6: -0.14141278 | E6: -0.13859785 | F6: 0.11743838 | G6: 0.10913229 | H6: 0.14515222 | I6: 0.098595881 | J6: 0.11000238 | K6: 0.14071115 | L6: 0.0094611502 | M6: -0.10561174 | N6: -0.014830801
A7: Aer Lingus | B7: 9758949.4 | C7: -0.16992481 | D7: -0.13554217 | E7: -0.084398977 | F7: 0.19303338 | G7: 0.039954338 | H7: -0.014 | I7: 0.03 | J7: 0.017786561 | K7: 0.029126214 | L7: -0.0011013216 | M7: 0.070444104 | N7: 0.11538462
A8: Aeroflot | B8: 11285600 | C8: 0.16326791 | D8: 0.20198813 | E8: 0.19916067 | F8: 0.30978466 | G8: 0.23774617 | H8: 0.22332223 | I8: 0.24100355 | J8: 0.24919176 | K8: 0.27185372 | L8: 0.27317024
A9: Aerosvit | B9: 1707580 | C9: 1.6324093 | D9: 1.9629904 | E9: 1.6912565 | F9: 1.204786 | G9: 0.97086621 | H9: 0.77399471 | I9: 0.5340479 | J9: 0.43470629 | K9: 0.38732965 | L9: 0.31620163 | M9: 0.19592988 | N9: 0.32758336
A10: Air France | B10: 46982930 | C10: 0.059112762 | D10: 0.055277533 | E10: -0.0014000355 | F10: 0.23473506 | G10: 0.037841797 | H10: 0.022090509 | I10: 0.039359465 | J10: 0.020543782 | K10: 0.073964305 | L10: 0.037745468 | M10: 0.042195175 | N10: 0.12326877
A11: Air Malta | B11: 1695296 | C11: -0.024466203 | D11: -0.0083328167 | E11: -0.063198364 | F11: 0.1353347 | G11: -0.08687082 | H11: -0.036533391 | I11: -0.069334501 | J11: -0.084727629 | K11: -0.057583346 | L11: -0.040192388 | M11: -0.045806649 | N11: -0.044561269
A12: airBaltic | B12: 3158051 | C12: -0.075515189 | D12: -0.034284227 | E12: -0.013323392 | F12: 0.41140197 | G12: 0.1040302 | H12: 0.078268731 | I12: 0.025564338 | J12: 0.015872971 | K12: 0.020104289 | L12: 0.038302099 | M12: 0.0038760867 | N12: -0.046903642
A13: airberlin | B13: 34890161 | C13: 0.056528429 | D13: 0.0096324506 | E13: -0.0020784935 | F13: 0.22500006 | G13: 0.038729654 | H13: 0.040413406 | I13: 0.029297717 | J13: 0.0087179366 | K13: 0.0086065858 | L13: -0.041380024 | M13: -0.099457076 | N13: -0.11653195
A14: Alitalia | B14: 23355401 | C14: 0.053276701 | D14: -0.0021458887 | E14: 0.0035798185 | F14: 0.12596624 | G14: 0.055962779 | H14: 0.087698706 | I14: 0.094203819 | J14: 0.063244508 | K14: 0.078054851 | L14: 0.03447899 | M14: 0.039844597 | N14: -0.01006708
A15: Austrian Airlines | B15: 9783324 | C15: 0.040619123 | D15: 0.0033070146 | E15: -0.0059202556 | F15: 0.16476536 | G15: 0.023047446 | H15: -0.0087573736 | I15: 0.041578146 | J15: 0.037434007 | K15: 0.08113263 | L15: 0.070540903 | M15: 0.058952945 | N15: 0.10515063
A16: Blue1 | B16: 1566197 | C16: 0.22697185 | D16: 0.29169783 | E16: 0.21564153 | F16: 0.80975161 | G16: 0.25846188 | H16: 0.15789709 | I16: 0.16511249 | J16: 0.1194971 | K16: -0.11923225 | L16: -0.088490288 | M16: -0.084392079 | N16: -0.12308038
A17: bmi British Midland | B17: 6019433 | C17: -0.10842574 | D17: -0.10291057 | E17: -0.1404738 | F17: 0.19321804 | G17: -0.073294305 | H17: -0.10123276 | I17: -0.077963326 | J17: -0.10759361 | K17: -0.093844844 | L17: -0.1125045 | M17: -0.1056234 | N17: -0.13344863
A18: bmibaby | B18: 2305471 | C18: -0.14258581 | D18: -0.1263686 | E18: -0.1531319 | F18: 0.18824148 | G18: -0.030129811 | H18: -0.015448077 | I18: -0.02232128 | J18: -0.029681053 | K18: 0.0065097248 | L18: -0.076487562 | M18: -0.14817956 | N18: -0.079713937
A19: British Airways | B19: 30484474 | C19: 0.10259805 | D19: 0.031122275 | E19: 0.17562151 | F19: 0.34887388 | G19: 0.23122375 | H19: 0.17836158 | I19: 0.050308364 | J19: 0.042752147 | K19: 0.043998123 | L19: 0.031099837 | M19: 0.040557316 | N19: 0.24371904
A20: Brussels Airlines | B20: 4889493 | C20: 0.11323339 | D20: 0.095238241 | E20: 0.11425341 | F20: 0.45895886 | G20: 0.18179318 | H20: 0.17495295 | I20: 0.19268969 | J20: 0.18294802 | K20: 0.23607607 | L20: 0.10147827 | M20: 0.063097769 | N20: 0.05192329
... A25: easyJet | B25: 49719110 | C25: 0.1912297 | D25: 0.13070078 | E25: 0.11886417 | F25: 0.35145916 | G25: 0.11288981 | H25: 0.091306687 | I25: 0.080702325 | J25: 0.065497827 | K25: 0.08520393 | L25: 0.077962184 | M25: 0.034332256 | N25: 0.13080439
A26: Estonian Air | B26: 580702 | E26: -0.009834944 | F26: 0.33554881 | G26: 0.30971634 | H26: 0.13417198 | I26: 0.18189323 | J26: 0.16384276 | K26: 0.23680268 | L26: 0.22843691 | M26: 0.09948182 | N26: 0.040361572
A27: Finnair | B27: 5969610 | C27: 0.015077856 | D27: -0.0040403829 | E27: -0.0098508728 | F27: 0.48012501 | G27: 0.096879884 | H27: 0.12048947 | I27: 0.16138829 | J27: 0.081715745 | K27: 0.080682177 | L27: 0.063723141 | M27: 0.041319122 | N27: 0.59557864
A28: flybe | B28: 6624008 | C28: 0.086860803 | D28: -0.014933192 | E28: -0.061151355 | F28: 0.25617335 | G28: 0.071025571 | H28: 0.03463553 | I28: 0.25597735 | J28: 0.048558815 | K28: 0.047905218 | L28: 0.03029365 | M28: -0.016927189 | N28: 0.17355682
A29: germanwings | B29: 7729881 | C29: -0.047261528 | D29: -0.10071071 | E29: -0.042719512 | F29: 0.16484863 | G29: -0.055588395 | H29: -0.034222129 | I29: -0.025564461 | J29: -0.041599964 | K29: -0.05270643 | L29: -0.063813333 | M29: 0.015692032 | N29: 0.0058091418
A30: Iberia | B30: 19622166 | C30: -0.041339953 | D30: -0.077718723 | E30: -0.083423693 | F30: -0.048370958 | G30: -0.16110087 | H30: -0.16489622 | I30: -0.15627359 | J30: -0.17269621 | K30: -0.12757799 | L30: -0.15786237 | M30: -0.14404816 | N30: -0.11732798
A31: Icelandair | B31: 1476758 | C31: 0.14662662 | D31: 0.15892632 | E31: 0.09958889 | F31: 0.47677583 | G31: 0.23424723 | H31: 0.22170467 | I31: 0.17849337 | J31: 0.18120274 | K31: 0.14851078 | L31: 0.12655536 | M31: 0.1033105 | N31: 0.10200009
A32: Jat Airways | B32: 991488 | C32: 0.029025487 | D32: 0.25382418 | E32: 0.21922556 | F32: 0.35606879 | G32: 0.17984612 | H32: 0.23645658 | I32: 0.13504413 | J32: 0.10301127 | K32: 0.20758639 | L32: 0.2374769 | M32: 0.094103899 | N32: -0.0066878318
A33: Jet2.com | B33: 3354268 | C33: 0.22615589 | D33: 0.25700061 | E33: 0.094402853 | F33: 0.76456602 | G33: 0.32713946 | H33: 0.31490849 | I33: 0.24413007 | J33: 0.19259637 | K33: 0.24905494 | L33: 0.23602375 | M33: 0.095733513 | N33: 0.066260997
A34: KLM | B34: 22786957 | C34: 0.088517602 | D34: 0.060762398 | E34: 0.043033792 | F34: 0.37000014 | G34: 0.11009471 | H34: 0.075111436 | I34: 0.097795724 | J34: 0.096312189 | K34: 0.098180839 | L34: 0.065100302 | M34: 0.012678087 | N34: 0.12870922
A35: LOT Polish Airlines | B35: 4007878 | C35: 0.066577862 | D35: 0.071323187 | E35: 0.070253827 | F35: 0.42670721 | G35: 0.17742411 | H35: 0.08298815 | I35: 0.013694077 | J35: -0.0024136097 | K35: 0.18470393 | L35: 0.045777626 | M35: 0.014027124 | N35: 0.056687695
A36: Lufthansa | B36: 56630079 | C36: 0.18557998 | D36: 0.21687691 | E36: 0.026913644 | F36: 0.38147657 | G36: 0.11934191 | H36: 0.065992564 | I36: 0.096804426 | J36: 0.077653526 | K36: 0.053305109 | L36: 0.038561905 | M36: 0.066989563 | N36: 0.15274697
A37: Luxair | B37: 799904 | C37: 0.034164985 | D37: 0.3109037 | E37: 0.034192112 | F37: 0.25777391 | G37: -0.031452272 | H37: -0.030192622 | I37: -0.08265375 | J37: -0.10665228 | K37: -0.063695647 | L37: -0.082198315 | M37: -0.050573338 | N37: 0.074780888
A38: Malev | B38: 2950851 | C38: -0.15012415 | D38: -0.064647417 | E38: 0.0097602958 | F38: 0.28543041 | G38: -0.023934218 | H38: -0.039068971 | I38: 0.0042465268 | J38: -0.026126016 | K38: 0.055183308 | L38: 0.16940265 | M38: 0.22276339 | N38: 0.26574387
... A46: Thomson Airways | B46: 13695948 | C46: 0.0056462179 | D46: 0.0051112663 | E46: -0.060020274 | F46: 0.29487352 | G46: -0.0078422598 | H46: 0.012669057 | I46: -0.6479751 | J46: 0.00022489093 | K46: 0.017417896 | L46: -0.017907523 | M46: -0.081333203 | N46: -0.056324408
A47: Transaero | B47: 6647709.6 | C47: 0.21256016 | D47: -0.0097885336 | E47: 0.060941779 | F47: 0.2429025 | G47: 0.45966178 | H47: 0.322 | I47: 0.33 | J47: 0.39174292 | K47: 0.363 | L47: 0.2051311
A48: Turkish Airlines | B48: 28308876 | C48: 0.059569413 | D48: 0.090376478 | E48: 0.073874226 | F48: 0.16669591 | G48: 0.071074403 | H48: 0.09184708 | I48: 0.10208722 | J48: 0.072251507 | K48: 0.16029478 | L48: 0.13433329 | M48: 0.17148939 | N48: 0.16459905
A49: Ukraine International | B49: 943928 | C49: 0.15076086 | D49: 0.17270128 | E49: 0.20004946 | F49: 0.44655077 | G49: 0.35610885 | H49: 0.51226947 | I49: 0.76500277 | J49: 0.50754812 | K49: 0.69061423 | L49: 0.75418366 | M49: 0.7825006 | N49: 0.76796702
A50: Virgin Atlantic | B50: 5291060 | C50: -0.038297256 | D50: -0.038674341 | E50: -0.096482572 | F50: 0.20674999 | G50: -0.019830701 | H50: -0.024906905 | I50: -0.023269395 | J50: -0.0039496397 | K50: -0.0081578838 | L50: -0.035521793 | M50: -0.006574214 | N50: 0.098728567
A51: Vueling | B51: 11036183 | C51: -0.048517193 | D51: -0.08083634 | E51: -0.077304943 | F51: 0.079885218 | G51: 0.17462923 | H51: 0.21575066 | I51: 0.22196082 | J51: 0.18792642 | K51: 0.21625539 | L51: 0.10467766 | M51: 0.060290608 | N51: 0.15254533
A52: Widerøe | B52: 2129776 | C52: 0.24232727 | D52: 0.2139569 | E52: 0.21763607 | F52: 0.57307365 | G52: 0.37980304 | H52: 0.18968657 | I52: 0.18478959 | J52: 0.152999 | K52: 0.1507567 | L52: 0.072009685 | M52: 0.062562539 | N52: 0.044134323

Sheet European Airlines 2011 LF
A1: European Airline Traffic Trends 2011: Load factors
A2: Sources: AEA, UK CAA, individual airlines and airline groups
A4: Airline | B4: LF 2010 | C4: Jan | D4: Feb | E4: Mar | F4: Apr | G4: May | H4: Jun | I4: Jul | J4: Aug | K4: Sep | L4: Oct | M4: Nov | N4: Dec | O4: LF 2011 | P4: Var.
A5: Adria Airways | B5: 0.66 | C5: 0.609 | D5: 0.58836785 | E5: 0.619 | F5: 0.626 | G5: 0.628 | H5: 0.632 | I5: 0.681 | J5: 0.668 | K5: 0.645 | L5: 0.606 | M5: 0.579 | N5: 0.574 | O5: 0.628 | P5: -3.2
A6: Aegean Airlines | B6: 0.671 | C6: 0.595 | D6: 0.58434422 | E6: 0.60930823 | F6: 0.68 | G6: 0.662 | H6: 0.709 | I6: 0.765 | J6: 0.787 | K6: 0.744 | L6: 0.705 | M6: 0.66 | N6: 0.668 | O6: 0.69 | P6: 1.9
A7: Aer Lingus | B7: 0.778 | C7: 0.638 | D7: 0.674 | E7: 0.722 | F7: 0.709 | G7: 0.746 | H7: 0.8 | I7: 0.847 | J7: 0.861 | K7: 0.839 | L7: 0.785 | M7: 0.754 | N7: 0.684 | O7: 0.764 | P7: -1.4
A8: Aeroflot | B8: 0.772 | C8: 0.719 | D8: 0.744 | E8: 0.758 | F8: 0.77 | G8: 0.755 | H8: 0.777 | I8: 0.839 | K8: 0.813 | L8: 0.788 | N8: 0.726 | O8: 0.775 | P8: +/- 0
A9: Aerosvit | B9: 0.697 | C9: 0.669 | D9: 0.69291593 | E9: 0.717 | F9: 0.708 | G9: 0.713 | H9: 0.74 | I9: 0.787 | J9: 0.774 | K9: 0.737 | L9: 0.707 | M9: 0.658 | N9: 0.68 | O9: 0.719 | P9: 2.2
A10: Air France | B10: 0.8047 | C10: 0.778 | D10: 0.76553527 | E10: 0.772 | F10: 0.79476794 | G10: 0.783 | H10: 0.8 | I10: 0.856 | J10: 0.833 | K10: 0.832 | L10: 0.818 | M10: 0.786 | N10: 0.806 | O10: 0.804 | P10: +/- 0
A11: Air Malta | B11: 0.69 | C11: 0.621 | D11: 0.67721646 | E11: 0.735 | F11: 0.737 | G11: 0.725 | H11: 0.751 | I11: 0.809 | J11: 0.81 | K11: 0.815 | L11: 0.802 | M11: 0.769 | N11: 0.637 | O11: 0.754 | P11: 6.4
A12: airBaltic | B12: 0.678 | C12: 0.562 | D12: 0.61995603 | E12: 0.706 | F12: 0.741 | G12: 0.735 | H12: 0.785 | I12: 0.79 | J12: 0.795 | K12: 0.781 | L12: 0.778 | M12: 0.728 | N12: 0.696 | O12: 0.737 | P12: 5.9
A13: airberlin | B13: 0.768 | C13: 0.723 | D13: 0.714 | E13: 0.736 | F13: 0.761 | G13: 0.758 | H13: 0.801 | I13: 0.845 | J13: 0.851 | K13: 0.828 | L13: 0.797 | M13: 0.742 | N13: 0.747 | O13: 0.782 | P13: 1.4
A14: Alitalia | B14: 0.7048 | C14: 0.633 | D14: 0.6146221 | E14: 0.664 | F14: 0.694 | G14: 0.701 | H14: 0.736 | I14: 0.773 | J14: 0.777 | K14: 0.772 | L14: 0.738 | M14: 0.695 | N14: 0.694 | O14: 0.713 | P14: 0.82
A15: Austrian Airlines | B15: 0.77 | C15: 0.677 | D15: 0.68512082 | E15: 0.707 | F15: 0.711 | G15: 0.727 | H15: 0.754 | I15: 0.825 | J15: 0.795 | K15: 0.781 | L15: 0.759 | M15: 0.704 | N15: 0.727 | O15: 0.742 | P15: -2.8
A16: Blue1 | B16: 0.679 | C16: 0.572 | D16: 0.603 | E16: 0.624 | F16: 0.6659 | G16: 0.659 | H16: 0.74 | I16: 0.81 | J16: 0.649 | K16: 0.5794 | L16: 0.6339 | M16: 0.571 | N16: 0.655 | O16: 0.651 | P16: -2.8
A17: bmi British Midland | B17: 0.65 | C17: 0.525 | D17: 0.55075561 | E17: 0.549 | F17: 0.574 | G17: 0.533 | H17: 0.592 | I17: 0.641 | J17: 0.63 | K17: 0.625 | L17: 0.567 | M17: 0.525 | N17: 0.501 | O17: 0.568 | P17: -8.2
A18: bmibaby | B18: 0.73442823 | C18: 0.56052112 | D18: 0.664 | E18: 0.68508325 | F18: 0.70211247 | G18: 0.66440577 | H18: 0.721 | I18: 0.756 | J18: 0.818 | K18: 0.796 | L18: 0.719 | M18: 0.65869505 | N18: 0.62033543 | O18: 0.72112776 | P18: -1.3300468
A19: British Airways | B19: 0.776 | C19: 0.718 | D19: 0.70997275 | E19: 0.73447607 | F19: 0.787 | G19: 0.773 | H19: 0.804 | I19: 0.851 | J19: 0.851 | K19: 0.829 | L19: 0.794 | M19: 0.745 | N19: 0.773 | O19: 0.782 | P19: 0.6
A20: Brussels Airlines | B20: 0.631 | C20: 0.542 | D20: 0.56081468 | E20: 0.58210242 | F20: 0.682 | G20: 0.65 | H20: 0.693 | I20: 0.787 | J20: 0.757 | K20: 0.727 | L20: 0.68 | M20: 0.634 | N20: 0.657 | O20: 0.665 | P20: 3.4
A21: Cimber Sterling | B21: 0.65 | C21: 0.58 | D21: 0.63 | E21: 0.63 | F21: 0.68 | G21: 0.65 | H21: 0.66 | I21: 0.78 | J21: 0.66 | K21: 0.71 | L21: 0.71 | M21: 0.64 | N21: 0.57 | O21: 0.67 | P21: 2
A22: Croatia Airlines | B22: 0.619 | C22: 0.565 | D22: 0.56610687 | E22: 0.618 | F22: 0.644 | G22: 0.647 | H22: 0.71 | I22: 0.752 | J22: 0.712 | K22: 0.739 | L22: 0.656 | M22: 0.669 | N22: 0.624 | O22: 0.671 | P22: 5.2
A23: CSA Czech Airlines | B23: 0.696 | C23: 0.559 | D23: 0.5991443 | E23: 0.689 | F23: 0.752 | G23: 0.735 | H23: 0.742 | I23: 0.78 | J23: 0.779 | K23: 0.728 | L23: 0.675 | M23: 0.602 | N23: 0.604 | O23: 0.6949 | P23: +/- 0
A24: Cyprus Airways | B24: 0.708 | C24: 0.589 | D24: 0.57244458 | E24: 0.671 | F24: 0.732 | G24: 0.672 | H24: 0.702 | I24: 0.827 | J24: 0.837 | K24: 0.767 | L24: 0.78 | M24: 0.725 | N24: 0.6745 | O24: 0.727 | P24: 1.9
A25: easyJet | B25: 0.872 | C25: 0.789 | D25: 0.864 | E25: 0.869 | F25: 0.865 | G25: 0.841 | H25: 0.883 | I25: 0.917 | J25: 0.922 | K25: 0.896 | L25: 0.888 | M25: 0.883 | N25: 0.856 | O25: 0.875 | P25: +/- 0
A26: Finnair | B26: 0.751 | C26: 0.678 | D26: 0.68844722 | E26: 0.698 | F26: 0.689 | G26: 0.693 | H26: 0.748 | I26: 0.816 | J26: 0.766 | K26: 0.731 | L26: 0.737 | M26: 0.675 | N26: 0.703 | O26: 0.721 | P26: -3
A27: flybe | B27: 0.60974035 | C27: 0.53059801 | D27: 0.5536371 | E27: 0.55341955 | F27: 0.6109993 | G27: 0.60836633 | H27: 0.652 | I27: 0.706 | J27: 0.702 | K27: 0.667 | L27: 0.624 | M27: 0.5871649 | N27: 0.59353756 | O27: 0.62182132 | P27: 1.2080964
A28: germanwings | C28: 0.685 | D28: 0.675 | E28: 0.711 | F28: 0.764 | G28: 0.766 | H28: 0.789 | I28: 0.856 | J28: 0.871 | K28: 0.844 | L28: 0.81 | M28: 0.696 | N28: 0.732 | O28: 0.782
A29: Iberia | B29: 0.822 | C29: 0.782 | D29: 0.77418465 | E29: 0.79 | F29: 0.823 | G29: 0.803 | H29: 0.849 | I29: 0.873 | J29: 0.846 | K29: 0.826 | L29: 0.82 | M29: 0.776 | N29: 0.784 | O29: 0.813 | P29: -0.9
A30: Icelandair | B30: 0.782 | C30: 0.656 | D30: 0.70729508 | E30: 0.76657052 | F30: 0.831 | G30: 0.772 | H30: 0.807 | I30: 0.854 | J30: 0.854 | K30: 0.781 | L30: 0.815 | M30: 0.77 | N30: 0.743 | O30: 0.7945 | P30: 1.25
A31: Jat Airways | B31: 0.598 | C31: 0.65 | D31: 0.57359146 | E31: 0.59 | F31: 0.693 | G31: 0.697 | H31: 0.722 | I31: 0.792 | J31: 0.772 | K31: 0.745 | L31: 0.743 | M31: 0.685 | N31: 0.664 | O31: 0.694 | P31: 9.6
A32: Jet2.com | B32: 0.86315653 | C32: 0.78874007 | D32: 0.81251086 | E32: 0.81073127 | F32: 0.8476414 | G32: 0.82254824 | H32: 0.891 | I32: 0.909 | J32: 0.931 | K32: 0.902 | L32: 0.862 | M32: 0.8435578 | N32: 0.79982188 | O32: 0.87316569 | P32: 1.0009166
A33: KLM | B33: 0.837 | C33: 0.809 | D33: 0.78821775 | E33: 0.802 | F33: 0.836 | G33: 0.821 | H33: 0.857 | I33: 0.904 | J33: 0.899 | K33: 0.885 | L33: 0.874 | M33: 0.81 | N33: 0.826 | O33: 0.844 | P33: 0.7
A34: LOT Polish Airlines | B34: 0.745 | C34: 0.653 | D34: 0.61177719 | E34: 0.671 | F34: 0.719 | G34: 0.739 | H34: 0.811 | I34: 0.815 | J34: 0.795 | K34: 0.797 | L34: 0.756 | M34: 0.72 | N34: 0.694 | O34: 0.74 | P34: -0.5
A35: Lufthansa | B35: 0.795 | C35: 0.769 | D35: 0.70485283 | E35: 0.736 | F35: 0.764 | G35: 0.784 | H35: 0.81 | I35: 0.837 | J35: 0.81 | K35: 0.799 | L35: 0.768 | M35: 0.739 | N35: 0.76 | O35: 0.773 | P35: -2.2
A36: Luxair | B36: 0.632 | C36: 0.487 | D36: 0.50675676 | E36: 0.507 | F36: 0.601 | G36: 0.588 | H36: 0.576 | I36: 0.591 | J36: 0.656 | K36: 0.612 | L36: 0.582 | M36: 0.794 | N36: 0.622 | O36: 0.582 | P36: -5
A37: Malev | B37: 0.697 | C37: 0.588 | D37: 0.59986345 | E37: 0.623 | F37: 0.629 | G37: 0.632 | H37: 0.659 | I37: 0.726 | J37: 0.728 | K37: 0.711 | L37: 0.751 | M37: 0.701 | N37: 0.718 | O37: 0.679 | P37: -1.8
A38: Monarch | B38: 0.85211913 | C38: 0.777 | D38: 0.801 | E38: 0.824 | F38: 0.798 | G38: 0.762 | H38: 0.849 | I38: 0.879 | J38: 0.915 | K38: 0.905 | L38: 0.845 | M38: 0.819 | N38: 0.797 | O38: 0.84123596 | P38: -1.0883177
A39: Norwegian | B39: 0.77 | C39: 0.73 | D39: 0.76 | E39: 0.75 | F39: 0.77 | G39: 0.76 | H39: 0.81 | I39: 0.89 | J39: 0.82 | K39: 0.81 | L39: 0.81 | M39: 0.77 | N39: 0.77 | O39: 0.79 | P39: 2
A40: Ryanair | B40: 0.82 | C40: 0.71 | D40: 0.76 | E40: 0.79 | F40: 0.85 | G40: 0.82 | H40: 0.84 | I40: 0.89 | J40: 0.89 | K40: 0.85 | L40: 0.84 | M40: 0.8 | N40: 0.79 | O40: 0.82 | P40: +/- 0
A41: SAS | B41: 0.752 | C41: 0.649 | D41: 0.67369424 | E41: 0.69 | F41: 0.755 | G41: 0.745 | H41: 0.817 | I41: 0.865 | J41: 0.786 | K41: 0.762 | L41: 0.763 | M41: 0.698 | N41: 0.709 | O41: 0.746 | P41: -0.6
A42: Swiss | B42: 0.823 | C42: 0.758 | D42: 0.76049892 | E42: 0.772 | F42: 0.819 | G42: 0.821 | H42: 0.845 | I42: 0.892 | J42: 0.864 | K42: 0.851 | L42: 0.837 | M42: 0.794 | N42: 0.795 | O42: 0.818 | P42: -0.5
A43: TAP Portugal | B43: 0.743 | C43: 0.736 | D43: 0.67993928 | E43: 0.706 | F43: 0.796 | G43: 0.775 | H43: 0.767 | I43: 0.84 | J43: 0.832 | K43: 0.813 | L43: 0.767 | M43: 0.694 | N43: 0.69 | O43: 0.763 | P43: 2
A44: Tarom | B44: 0.609 | C44: 0.519 | D44: 0.48813803 | E44: 0.492 | F44: 0.607 | G44: 0.605 | H44: 0.622 | I44: 0.695 | J44: 0.698 | K44: 0.69 | L44: 0.625 | M44: 0.607 | N44: 0.62 | O44: 0.606 | P44: +/- 0
A45: Thomson Airways | B45: 0.89918326 | C45: 0.86620361 | D45: 0.90252026 | E45: 0.88255871 | F45: 0.84455956 | G45: 0.81470074 | H45: 0.918 | I45: 0.938 | J45: 0.96 | K45: 0.938 | L45: 0.848 | M45: 0.88648207 | N45: 0.83975619 | O45: 0.89322424 | P45: +/- 1
A46: Turkish Airlines | B46: 0.735 | C46: 0.672 | D46: 0.66643656 | E46: 0.681 | F46: 0.709 | G46: 0.706 | H46: 0.721 | I46: 0.787 | J46: 0.749 | K46: 0.782 | L46: 0.763 | M46: 0.713 | N46: 0.71 | O46: 0.725 | P46: -1
A47: Ukraine International | B47: 0.577 | C47: 0.581 | D47: 0.54850555 | E47: 0.541 | F47: 0.572 | G47: 0.614 | H47: 0.707 | I47: 0.819 | J47: 0.856 | K47: 0.779 | L47: 0.675 | M47: 0.555 | N47: 0.632 | O47: 0.667 | P47: 9
A48: Virgin Atlantic | B48: 0.825 | C48: 0.702 | D48: 0.69826924 | E48: 0.715 | F48: 0.809 | G48: 0.775 | H48: 0.813 | I48: 0.815 | J48: 0.861 | K48: 0.818 | L48: 0.793 | M48: 0.754 | N48: 0.738 | O48: 0.776 | P48: -4.9
A49: Vueling | B49: 0.732 | C49: 0.665 | D49: 0.685 | E49: 0.719 | F49: 0.733 | G49: 0.728 | H49: 0.738 | I49: 0.78 | J49: 0.837 | K49: 0.797 | L49: 0.768 | M49: 0.765 | N49: 0.765 | O49: 0.756 | P49: 2.4
A50: Widerøe | B50: 0.597 | C50: 0.531 | D50: 0.58 | E50: 0.57 | F50: 0.6047 | G50: 0.6027 | H50: 0.66 | I50: 0.69 | J50: 0.6138 | K50: 0.6022 | L50: 0.5944 | M50: 0.578 | N50: 0.549 | O50: 0.598 | P50: +/- 0

Sheet European Airlines 2010 Pax
A1: European Airline Traffic Trends 2010: Passenger numbers
A2: Sources: AEA, UK CAA, individual airlines and airline groups
A4: Airline | B4: Pax 2009 | C4: Jan | D4: Feb | E4: Mar | F4: Apr | G4: May | H4: Jun | I4: Jul | J4: Aug | K4: Sep | L4: Oct | M4: Nov | N4: Dec | O4: Pax 2010 | P4: vly
A5: Adria Airways | B5: 953378 | C5: 64123 | D5: 57747 | E5: 71540 | F5: 53862 | G5: 93603 | H5: 92758 | I5: 112148 | J5: 115153 | K5: 100896 | L5: 86316 | M5: 66676 | N5: 64981 | O5: 979803 | P5: 0.027717233
A6: Aegean Airlines | B6: 6031967 | C6: 452312 | D6: 408287 | E6: 471205 | F6: 436646 | G6: 474470 | H6: 485449 | I6: 595035 | J6: 603896 | K6: 504928 | L6: 481971 | M6: 406006 | N6: 391078 | O6: 5711283 | P6: -0.053164084
A7: Aer Lingus | B7: 10740000 | C7: 665000 | D7: 664000 | E7: 782000 | F7: 689000 | G7: 876000 | H7: 938133.87 | I7: 1072815.5 | J7: 1012000 | K7: 927000 | L7: 908000 | M7: 653000 | N7: 572000 | O7: 9758949.4 | P7: -0.091345493
A8: Aeroflot | B8: 8755400 | C8: 784600 | D8: 724300 | E8: 834000 | F8: 794100 | G8: 914000 | H8: 1050500 | I8: 1183800 | J8: 1175400 | K8: 1071900 | L8: 985100 | M8: 903800 | N8: 864100 | O8: 11285600 | P8: 0.28898737
A9: Aerosvit | B9: 1262484 | C9: 62877 | D9: 55310 | E9: 75885 | F9: 101003 | G9: 121783 | H9: 143740 | I9: 204785 | J9: 226178 | K9: 193791 | L9: 184142 | M9: 174491 | N9: 163595 | O9: 1707580 | P9: 0.35255576
A10: Air France | B10: 47920311 | C10: 3400687 | D10: 3164215 | E10: 3921329 | F10: 3341465 | G10: 4164390 | H10: 4335527 | I10: 4611267 | J10: 4293854 | K10: 4189602 | L10: 4223315 | M10: 3715567 | N10: 3621712 | O10: 46982930 | P10: -0.019561246
A11: Air Malta | B11: 1645162 | C11: 84770 | D11: 80645 | E11: 113927 | F11: 131910 | G11: 163864 | H11: 166122 | I11: 203261 | J11: 209365 | K11: 184081 | L11: 167370 | M11: 101339 | N11: 88642 | O11: 1695296 | P11: 0.030473595
A12: airBaltic | B12: 2718048 | C12: 196530 | D12: 184458 | E12: 236051 | F12: 209841 | G12: 291127 | H12: 334067 | I12: 362106 | J12: 356770 | K12: 313167 | L12: 272831 | M12: 197622 | N12: 203481 | O12: 3158051 | P12: 0.16188198
A13: airberlin | B13: 32375531 | C13: 2030412 | D13: 2111716 | E13: 2599960 | F13: 2268395 | G13: 3177591 | H13: 3337061 | I13: 3700971 | J13: 3726914 | K13: 3652087 | L13: 3490259 | M13: 2508821 | N13: 2285974 | O13: 34890161 | P13: 0.077670695
A14: Alitalia | B14: 21754576 | C14: 1478301 | D14: 1448351 | E14: 1792549 | F14: 1774920 | G14: 2023184 | H14: 2094991 | I14: 2376772 | J14: 2332329 | K14: 2304687 | L14: 2177732 | M14: 1785035 | N14: 1766550 | O14: 23355401 | P14: 0.073585668
A15: Austrian Airlines | B15: 8488366 | C15: 611510 | D15: 596913 | E15: 751150 | F15: 712668 | G15: 925352 | H15: 934070 | I15: 983762 | J15: 966768 | K15: 955263 | L15: 906226 | M15: 757706 | N15: 681936 | O15: 9783324 | P15: 0.15255681
A16: Blue1 | B16: 1462633 | C16: 95025 | D16: 106960 | E16: 137608 | F16: 93441 | G16: 146126 | H16: 156754 | I16: 109168 | J16: 128614 | K16: 156300 | L16: 157328 | M16: 140890 | N16: 137983 | O16: 1566197 | P16: 0.070806552
... A20: Brussels Airlines | B20: 4680156 | C20: 312505 | D20: 326707 | E20: 400627 | F20: 333653 | G20: 436386 | H20: 447949 | I20: 476642 | J20: 440770 | K20: 471670 | L20: 481374 | M20: 390933 | N20: 370277 | O20: 4889493 | P20: 0.044728637
A21: Cimber Sterling | C21: 109412 | D21: 123298 | E21: 156760 | F21: 123599 | G21: 183729 | H21: 196442 | I21: 194026 | J21: 192179 | K21: 202335 | L21: 194098 | M21: 163135 | N21: 131275 | O21: 1970288
A22: Croatia Airlines | B22: 1700284 | C22: 91139 | D22: 83386 | E22: 105082 | F22: 103772 | G22: 149816 | H22: 162045 | I22: 186607 | J22: 186584 | K22: 174051 | L22: 144764 | M22: 105711 | N22: 103278 | O22: 1596235 | P22: -0.061195071
A23: CSA Czech Airlines | B23: 4684284 | C23: 319305 | D23: 292473 | E23: 373508 | F23: 331048 | G23: 412290 | H23: 403341 | I23: 469899 | J23: 476724 | K23: 455396 | L23: 427438 | M23: 301516 | N23: 287171 | O23: 4550109 | P23: -0.028643652
A24: Cyprus Airways | B24: 1572802 | C24: 85841 | D24: 77358 | E24: 107527 | F24: 133299 | G24: 134765 | H24: 147492 | I24: 185152 | J24: 195978 | K24: 157658 | L24: 150232 | M24: 107744 | N24: 97125 | O24: 1580171 | P24: 0.0046852687
A25: easyJet | B25: 46077459 | C25: 3142629 | D25: 3390523 | E25: 3964399 | F25: 3490599 | G25: 4258675 | H25: 4537959 | I25: 5021838 | J25: 5203165 | K25: 4774991 | L25: 4582632 | M25: 3694514 | N25: 3657186 | O25: 49719110 | P25: 0.079033243
A26: Estonian Air | B26: 557456 | C26: 32259 | D26: 33349 | E26: 46772 | F26: 36260 | G26: 54043 | H26: 60415 | I26: 59359 | J26: 59197 | K26: 57398 | L26: 53100 | M26: 45737 | N26: 42813 | O26: 580702 | P26: 0.041700152
A27: Finnair | B27: 6151234 | C27: 484419 | D27: 478420 | E27: 575482 | F27: 380780 | G27: 510622 | H27: 541400 | I27: 542307 | J27: 556796 | K27: 562962 | L27: 548843 | M27: 476317 | N27: 311262 | O27: 5969610 | P27: -0.029526433
A28: flybe | B28: 6708253 | C28: 389727 | D28: 463866 | E28: 574280 | F28: 458584 | G28: 593406 | H28: 668793 | I28: 587259 | J28: 687455 | K28: 653457 | L28: 604120 | M28: 530153 | N28: 412908 | O28: 6624008 | P28: -0.012558411
A29: germanwings | B29: 7166197 | C29: 466574 | D29: 436607 | E29: 532169 | F29: 527035 | G29: 756201 | H29: 738265 | I29: 829198 | J29: 851419 | K29: 812842 | L29: 786168 | M29: 488337 | N29: 505066 | O29: 7729881 | P29: 0.078658736
A30: Iberia | B30: 20476432 | C30: 1423901 | D30: 1424097 | E30: 1655417 | F30: 1587006 | G30: 1724969 | H30: 1756238 | I30: 1897256 | J30: 1827834 | K30: 1714904 | L30: 1764271 | M30: 1492001 | N30: 1354272 | O30: 19622166 | P30: -0.041719475
A31: Icelandair | B31: 1294599 | C31: 71590 | D31: 68214 | E31: 87811 | F31: 77527 | G31: 110187 | H31: 174110 | I31: 215487 | J31: 210786 | K31: 145949 | L31: 129793 | M31: 94608 | N31: 90696 | O31: 1476758 | P31: 0.14070689
A32: Jat Airways | B32: 926620 | C32: 66700 | D32: 53214 | E32: 64924 | F32: 64774 | G32: 80580 | H32: 87441 | I32: 122945 | J32: 123569 | K32: 96225 | L32: 84943 | M32: 69317 | N32: 76856 | O32: 991488 | P32: 0.070004964
A33: Jet2.com | B33: 3089340 | C33: 100161 | D33: 114490 | E33: 149201 | F33: 190941 | G33: 322523 | H33: 418131 | I33: 515168 | J33: 531874 | K33: 437803 | L33: 312888 | M33: 127646 | N33: 133442 | O33: 3354268 | P33: 0.085755534
... A52: Widerøe | B52: 2052810 | C52: 146558 | D52: 156625 | E52: 178872 | F52: 124614 | G52: 167342 | H52: 193282 | I52: 168240 | J52: 190230 | K52: 200409 | L52: 215596 | M52: 209870 | N52: 178138 | O52: 2129776 | P52: 0.037492997
