Workbook

Sheet European Airlines 2014 Pax
A1: European Airline Traffic Trends 2014: Passenger numbers
A2: Sources: Individual airlines, airline groups and UK CAA
A4: Airline | B4: Pax 2013 | C4: Jan | D4: Feb | E4: Mar | F4: Apr | G4: May | H4: Jun | I4: Jul | J4: Aug | K4: Sep | L4: Oct | M4: Nov | N4: Dec | O4: Pax 2014 | P4: vly | Q4: Source
A5: Aer Lingus | O5: =SUM(C5:N5) -> 0 | Q5: http://corporate.aerlingus.com/investorrelations/trafficstatistics/index.html
A6: Aer Lingus Regional | O6: =SUM(C6:N6) -> 0 | Q6: http://corporate.aerlingus.com/investorrelations/trafficstatistics/index.html
A7: Aeroflot | O7: =SUM(C7:N7) -> 0 | Q7: http://www.aeroflot.ru/cms/en/about/shareholders_and_investors
A8: Air France-KLM | O8: =SUM(C8:N8) -> 0 | Q8: http://www.airfranceklm.com/en/press/press-releases/
A9: airBaltic | O9: =SUM(C9:N9) -> 0 | Q9: http://www.airbaltic.com/public/press_releases.html
A10: airberlin | O10: =SUM(C10:N10) -> 0 | Q10: http://www.airberlin.com/site/pressreleases.php?LANG=eng
A11: Austrian Airlines | O11: =SUM(C11:N11) -> 0 | Q11: http://www.austrianairlines.ag/InvestorRelations/FinancialReports/TrafficResults.aspx?sc_lang=en
A12: bmi Regional | O12: =SUM(C12:N12) -> 0 | Q12: http://www.caa.co.uk/airlinestatistics
A13: Brussels Airlines | O13: =SUM(C13:N13) -> 0 | Q13: http://corporate.brusselsairlines.com/en_be/corp/news/press-releases/
A14: Croatia Airlines | O14: =SUM(C14:N14) -> 0 | Q14: stat@croatiaairlines.hr
A15: easyJet | O15: =SUM(C15:N15) -> 0 | Q15: http://corporate.easyjet.com/investors/monthly-traffic-statistics/2013.aspx?sc_lang=en
A16: Estonian Air | O16: =SUM(C16:N16) -> 0 | Q16: http://estonian-air.com/en/about-us/news/press-releases/?op=archive
... A33: Widerøe | O33: =SUM(C33:N33) -> 0 | Q33: http://www.sasgroup.net/SASGroup/default.asp
A35: ^ From May 2013 also includes Vueling

Sheet European Airlines 2014 vly
A1: European Airline Traffic Trends 2014: Change in passenger numbers
A2: Sources: Individual airlines, airline groups and UK CAA
C3: 3 | D3: 4 | E3: 5 | F3: 6 | G3: 7 | H3: 8 | I3: 9 | J3: 10 | K3: 11 | L3: 12 | M3: 13 | N3: 14
A4: Airline | B4: Pax 2013 | C4: Jan | D4: Feb | E4: Mar | F4: Apr | G4: May | H4: Jun | I4: Jul | J4: Aug | K4: Sep | L4: Oct | M4: Nov | N4: Dec
A5: Aer Lingus
A6: Aer Lingus Regional
A7: Aeroflot
A8: Air France-KLM
A9: airBaltic
A10: airberlin
A11: Austrian Airlines
A12: bmi Regional
A13: Brussels Airlines
A14: Croatia Airlines
A15: easyJet
A16: Estonian Air
... A35: ^ From May 2013 also includes Vueling

Sheet European Airlines 2014 LF
A1: European Airline Traffic Trends 2014: Load factors
A2: Sources: Individual airlines, airline groups and UK CAA
A4: Airline | B4: LF 2013 | C4: Jan | D4: Feb | E4: Mar | F4: Apr | G4: May | H4: Jun | I4: Jul | J4: Aug | K4: Sep | L4: Oct | M4: Nov | N4: Dec | O4: LF 2014 | P4: Var.
A5: Aer Lingus
A6: Aeroflot
A7: Air France-KLM
A8: airBaltic
A9: airberlin
A10: Austrian Airlines
A11: bmi Regional
A12: Brussels Airlines
A13: Croatia Airlines
A14: easyJet
A15: Estonian Air
A16: Finnair
... A33: ^ From May 2013 also includes Vueling

Sheet European Airlines 2013 Pax
A1: European Airline Traffic Trends 2013: Passenger numbers
A2: Sources: Individual airlines, airline groups and UK CAA
A4: Airline | B4: Pax 2012 | C4: Jan | D4: Feb | E4: Mar | F4: Apr | G4: May | H4: Jun | I4: Jul | J4: Aug | K4: Sep | L4: Oct | M4: Nov | N4: Dec | O4: Pax 2013 | P4: vly
A5: Aer Lingus | B5: 9653000 | C5: 573000 | D5: 575000 | E5: 757000 | F5: 785000 | G5: 931000 | H5: 949000 | I5: 1025000 | J5: 1005000 | K5: 883000 | L5: 854000 | M5: 641000 | N5: 648000 | O5: 9625000 | P5: -0.003
A6: Aer Lingus Regional | B6: 1010000 | C6: 65000 | D6: 73000 | E6: 87000 | F6: 83000 | G6: 90000 | H6: 95000 | I6: 116000 | J6: 121000 | K6: 106000 | L6: 103000 | M6: 87000 | N6: 85000 | O6: 1112000 | P6: 0.101
A7: Aeroflot | B7: ='European Airlines 2012 Pax'!O6 -> 17656300 | C7: 1395700 | D7: 1354600 | E7: 1573200 | F7: 1592400 | G7: 1702800 | H7: 1922900 | I7: 2104000 | L7: 1875600 | M7: 1664300 | N7: 1630200 | O7: 20902400 | P7: 0.184
A8: Air France-KLM | B8: ='European Airlines 2012 Pax'!O7 -> 77445000 | C8: 5537000 | D8: 5338000 | E8: 6453000 | F8: 6638000 | G8: 6804000 | H8: 7016000 | I8: 7501000 | J8: 7150000 | K8: 6930000 | L8: 6878000 | M8: 5992000 | N8: 6206000 | O8: 78444000 | P8: 0.013
A9: airBaltic | B9: ='European Airlines 2012 Pax'!O8 -> 2939839 | C9: 174564 | D9: 158558 | E9: 201757 | F9: 239544 | G9: 268892 | H9: 301646 | I9: 310746 | J9: 296345 | K9: 264028 | L9: 235855 | O9: =SUM(C9:N9) -> 2451935
A10: airberlin | B10: ='European Airlines 2012 Pax'!O9 -> 33346495 | C10: 1757109 | D10: 1801396 | E10: 2360545 | F10: 2481959 | G10: 2955682 | H10: 3246637 | I10: 3400676 | J10: 3382922 | K10: 3309554 | L10: 3013054 | M10: 2005879 | N10: 1820724 | O10: 31535867 | P10: -0.054
A11: Austrian Airlines | B11: ='European Airlines 2012 Pax'!O10 -> 11447900 | C11: 723200 | D11: 681000 | E11: 886600 | F11: 922300 | G11: 998900 | H11: 1059000 | I11: 1108500 | J11: 1101300 | K11: 1108600 | L11: 1037600 | M11: 837900 | N11: 801100 | O11: 11287800 | P11: -0.016
A12: bmi Regional | C12: 23203 | D12: 27442 | E12: 32494 | F12: 35719 | G12: 38377 | H12: 41631 | I12: 47508 | J12: 44243 | K12: 49090 | L12: 45932 | O12: =SUM(C12:N12) -> 385639
A13: Brussels Airlines | B13: 5761819 | C13: 367142 | D13: 364207 | E13: 465138 | F13: 522945 | G13: 537710 | H13: 551623 | I13: 581954 | J13: 522790 | K13: 557569 | L13: 526651 | M13: 420992 | N13: 433589 | O13: 5878179 | P13: =O13/B13-1 -> 0.020195011
A14: Croatia Airlines | B14: 1951499 | C14: 97188 | D14: 90594 | E14: 124836 | O14: =SUM(C14:N14) -> 312618
A15: easyJet | B15: 59204632 | C15: 3878640 | D15: 4112186 | E15: 4872934 | F15: 5253610 | G15: 5609351 | H15: 5537275 | I15: 5976704 | J15: 6101344 | K15: 5714152 | L15: 5530091 | M15: 4255978 | N15: 4490538 | O15: =SUM(C15:N15) -> 61332803 | P15: =O15/B15-1 -> 0.035946022
A16: Estonian Air | B16: 887563 | C16: 43627 | D16: 32613 | E16: 45451 | F16: 46513 | G16: 52755 | H16: 54297 | I16: 50806 | J16: 51976 | K16: 50119 | L16: 44430 | M16: 36834 | N16: 41083 | O16: 551169 | P16: =O16/B16-1 -> -0.37900859
A17: Finnair | B17: 8774100 | C17: 683600 | D17: 675300 | E17: 800900 | F17: 766300 | G17: 774600 | H17: 856100 | I17: 877100 | J17: 857900 | K17: 829700 | L17: 799300 | M17: 654600 | N17: 694100 | O17: =SUM(C17:N17) -> 9269500 | P17: =O17/B17-1 -> 0.056461631
A18: flybe | B18: 7052819 | C18: 409658 | D18: 463424 | E18: 547473 | F18: 579654 | G18: 661615 | H18: 711857 | I18: 759800 | J18: 767894 | K18: 719498 | L18: 653325 | O18: =SUM(C18:N18) -> 6274198
A19: IAG (BA+Iberia)^ | B19: 54600000 | C19: 3790000 | D19: 3611000 | E19: 4371000 | F19: 4371000 | G19: 6184000 | H19: 6531000 | I19: 7216000 | J19: 7293000 | K19: 6712000 | L19: 6254000 | M19: 5288000 | N19: 5228000 | O19: 67224000 | P19: =O19/B19-1 -> 0.23120879
A20: Icelandair | B20: 2020100 | C20: 109089 | D20: 104360 | E20: 145074 | F20: 148074 | G20: 192321 | H20: 268617 | I20: 306241 | J20: 300089 | K20: 215205 | L20: 184854 | M20: 143504 | N20: 140820 | O20: 2257485 | P20: =O20/B20-1 -> 0.11751151
A21: Jet2.com | B21: 4776257 | C21: 117496 | D21: 171432 | E21: 264255 | F21: 353545 | G21: 529134 | H21: 745949 | I21: 815937 | J21: 857101 | K21: 729801 | L21: 507505 | O21: =SUM(C21:N21) -> 5092155
A22: Lufthansa | B22: 74740000 | C22: 4854000 | D22: 4778000 | E22: 5858000 | F22: 6228000 | G22: 6906000 | H22: 7227000 | I22: 7533000 | J22: 7315000 | K22: 7305000 | L22: 7127000 | M22: 5772000 | N22: 5234000 | O22: 76261000 | P22: 0.014
A23: Monarch | B23: 6205453 | C23: 296743 | D23: 311347 | E23: 385693 | F23: 338656 | G23: 715800 | H23: 832303 | I23: 895451 | J23: 966372 | K23: 849251 | L23: 656549 | O23: =SUM(C23:N23) -> 6248165
A24: Norwegian | B24: 17685074 | C24: 1237195 | D24: 1254643 | E24: 1439943 | F24: 1710279 | G24: 1885648 | H24: 1911841 | I24: 2128835 | J24: 1973468 | K24: 1920329 | L24: 1955463 | M24: 1689049 | N24: 1604937 | O24: =SUM(C24:N24) -> 20711630 | P24: =O24/B24-1 -> 0.17113618
A25: Ryanair | B25: 79610000 | C25: 4350000 | D25: 4470000 | E25: 5400000 | F25: 7400000 | G25: 7860000 | H25: 7960000 | I25: 8840000 | J25: 9020000 | K25: 8100000 | L25: 8020000 | M25: 5200000 | N25: 5000000 | O25: 81400000 | P25: =O25/B25-1 -> 0.022484612
A26: SAS | B26: 25315000 | C26: 1666000 | D26: 1800000 | E26: 2079000 | F26: 2222000 | G26: 2368000 | H26: 2426000 | I26: 2132000 | J26: 2161000 | K26: 2410000 | L26: 2411000 | M26: 2154000 | N26: 1729000 | O26: =SUM(C26:N26) -> 25558000 | P26: =O26/B26-1 -> 0.0095990519
A27: SWISS^^ | B27: 16844000 | C27: 1246000 | D27: 1164000 | E27: 1434000 | F27: 1436000 | G27: 1472000 | H27: 1510000 | I27: 1662000 | J27: 1651000 | K27: 1511000 | L27: 1507000 | M27: 1220000 | N27: 1264000 | O27: 17039000 | P27: 0.005
A28: Thomson Airways | B28: 10705200 | C28: 521017 | D28: 494551 | E28: 572366 | F28: 541563 | G28: 1075484 | H28: 1328239 | I28: 1405382 | J28: 1470731 | K28: 1307653 | L28: 950880 | O28: =SUM(C28:N28) -> 9667866
A29: Transaero | B29: 10327560 | C29: 2190483 | F29: 3300559 | O29: =SUM(C29:N29) -> 5491042
A30: Turkish Airlines | B30: 39044600 | C30: 3206315 | D30: 3165978 | E30: 3640509 | F30: 3885623 | G30: 4132426 | H30: 4373652 | I30: 4470446 | J30: 4844849 | K30: 4481834 | L30: 4395331 | M30: 3849370 | N30: 3823672 | O30: =SUM(C30:N30) -> 48270005 | P30: =O30/B30-1 -> 0.23627864
A31: Virgin Atlantic | B31: 5448283 | C31: 414921 | D31: 365344 | E31: 452835 | F31: 466555 | G31: 497346 | H31: 548937 | I31: 574494 | J31: 611287 | K31: 526340 | L31: 513582 | O31: =SUM(C31:N31) -> 4971641
A32: Vueling | B32: 14795640 | C32: 804938 | D32: 778000 | E32: 1079000 | F32: 1358000 | G32: 1544000 | H32: 1701000 | O32: =SUM(C32:N32) -> 7264938
A33: Widerøe | B33: 2767000 | C33: 221000 | D33: 220000 | E33: 229000 | F33: 251000 | G33: 216000 | H33: 260000 | I33: 239000 | O33: =SUM(C33:N33) -> 1636000
A35: ^ From May 2013 also includes Vueling
A36: ^^ Includes Edelweiss Air

Sheet European Airlines 2013 vly
A1: European Airline Traffic Trends 2013: Change in passenger numbers
A2: Sources: Individual airlines, airline groups and UK CAA
C3: 3 | D3: 4 | E3: 5 | F3: 6 | G3: 7 | H3: 8 | I3: 9 | J3: 10 | K3: 11 | L3: 12 | M3: 13 | N3: 14
A4: Airline | B4: Pax 2012 | C4: Jan | D4: Feb | E4: Mar | F4: Apr | G4: May | H4: Jun | I4: Jul | J4: Aug | K4: Sep | L4: Oct | M4: Nov | N4: Dec
A5: Aer Lingus | B5: 9653000 | C5: 0.018 | D5: -0.04 | E5: 0.029 | F5: -0.032 | G5: 0.056 | H5: 0.034 | I5: 0.021 | J5: -0.004 | K5: -0.046 | L5: -0.022 | M5: -0.057 | N5: -0.005
A6: Aer Lingus Regional | B6: 1010000 | C6: 0.226 | D6: 0.237 | E6: 0.192 | F6: 0.051 | G6: 0.023 | H6: 0 | I6: 0.105 | J6: 0.131 | K6: 0.14 | L6: 0.157 | M6: 0.012 | N6: 0.024
A7: Aeroflot | B7: ='European Airlines 2012 Pax'!O6 -> 17656300 | C7: 0.191 | D7: =1354600/1146700-1 -> 0.18130287 | E7: 0.228 | F7: 0.185 | G7: =1702800/'European Airlines 2012 Pax'!G6-1 -> 0.2253886 | H7: 0.198 | I7: 0.17 | L7: 0.205 | M7: 0.178 | N7: 0.17
A8: Air France-KLM | B8: ='European Airlines 2012 Pax'!O7 -> 77445000 | C8: -0.038 | D8: 0 | E8: 0.013 | F8: 0.019 | G8: 0.039 | H8: 0.016 | I8: 0.01 | J8: 0.03 | K8: 0.002 | L8: 0.02 | M8: -0.002 | N8: 0.037
A9: airBaltic | B9: ='European Airlines 2012 Pax'!O8 -> 2939839 | C9: ='European Airlines 2013 Pax'!C9/'European Airlines 2012 Pax'!C8-1 -> -0.085889635 | D9: ='European Airlines 2013 Pax'!D9/'European Airlines 2012 Pax'!D8-1 -> -0.12144551 | E9: ='European Airlines 2013 Pax'!E9/'European Airlines 2012 Pax'!E8-1 -> -0.073106078 | F9: ='European Airlines 2013 Pax'!F9/'European Airlines 2012 Pax'!F8-1 -> -0.049556806 | G9: ='European Airlines 2013 Pax'!G9/'European Airlines 2012 Pax'!G8-1 -> -0.0077566293 | H9: ='European Airlines 2013 Pax'!H9/'European Airlines 2012 Pax'!H8-1 -> 0.011047428 | I9: ='European Airlines 2013 Pax'!I9/'European Airlines 2012 Pax'!I8-1 -> -0.036237323 | J9: ='European Airlines 2013 Pax'!J9/'European Airlines 2012 Pax'!J8-1 -> -0.045572392 | ... L9: ='European Airlines 2013 Pax'!L9/'European Airlines 2012 Pax'!L8-1 -> -0.062970541
A10: airberlin | B10: ='European Airlines 2012 Pax'!O9 -> 33346495 | C10: -0.076 | D10: ='European Airlines 2013 Pax'!D10/'European Airlines 2012 Pax'!D9-1 -> -0.11870589 | E10: -0.08 | F10: -0.067 | G10: -0.043 | H10: -0.016 | I10: -0.051 | J10: -0.053 | K10: -0.064 | L10: -0.052 | M10: -0.031 | N10: -0.015
A11: Austrian Airlines | B11: ='European Airlines 2012 Pax'!O10 -> 11447900 | C11: -0.023 | D11: -0.052 | E11: -0.01 | F11: -0.064 | G11: -0.036 | H11: -0.008 | I11: -0.006 | J11: 0.019 | K11: -0.013 | L11: 0.009 | M11: -0.029 | N11: -0.013
A12: bmi Regional
A13: Brussels Airlines | B13: 5761819 | C13: 0.006 | D13: -0.026 | E13: 0.014 | F13: 0.029 | G13: 0.041 | H13: 0.021 | I13: 0.006 | J13: -0.007 | K13: -0.006 | L13: 0.016 | M13: 0.015 | N13: 0.12
A14: Croatia Airlines | B14: 1951499 | C14: 0.037 | D14: 0.064 | E14: 0.075
A15: easyJet | B15: 59204632 | C15: 0.04 | D15: 0.034 | E15: 0.053 | F15: 0.025 | G15: 0.034 | H15: 0.019 | I15: 0.02 | J15: 0.039 | K15: 0.048 | L15: 0.054 | M15: 0.034 | N15: 0.035
A16: Estonian Air | B16: 887563 | C16: 0.022739527 | D16: ='European Airlines 2013 Pax'!D16/'European Airlines 2012 Pax'!D18-1 -> -0.1794646 | E16: =45451/56755-1 -> -0.19917188 | F16: =46513/85583-1 -> -0.4565159 | G16: =52755/98439-1 -> -0.46408436 | H16: ='European Airlines 2013 Pax'!H16/'European Airlines 2012 Pax'!H18-1 -> -0.45874038 | I16: ='European Airlines 2013 Pax'!I16/'European Airlines 2012 Pax'!I18-1 -> -0.44857602 | J16: ='European Airlines 2013 Pax'!J16/'European Airlines 2012 Pax'!J18-1 -> -0.4091152 | K16: ='European Airlines 2013 Pax'!K16/'European Airlines 2012 Pax'!K18-1 -> -0.40180703 | L16: ='European Airlines 2013 Pax'!L16/'European Airlines 2012 Pax'!L18-1 -> -0.43896557 | M16: ='European Airlines 2013 Pax'!M16/'European Airlines 2012 Pax'!M18-1 -> -0.45307141 | N16: ='European Airlines 2013 Pax'!N16/'European Airlines 2012 Pax'!N18-1 -> -0.23199297
A17: Finnair | B17: 8774100 | C17: 0.072 | D17: 0.013 | E17: 0.038 | F17: 0.064 | G17: 0.051 | H17: 0.072 | I17: 0.081 | J17: 0.102 | K17: 0.076 | L17: 0.064 | M17: -0.013 | N17: 0.041
A18: flybe | B18: 7052819 | C18: ='European Airlines 2013 Pax'!C18/'European Airlines 2012 Pax'!C20-1 -> -0.013271736 | D18: ='European Airlines 2013 Pax'!D18/'European Airlines 2012 Pax'!D20-1 -> -0.019173177 | E18: ='European Airlines 2013 Pax'!E18/'European Airlines 2012 Pax'!E20-1 -> -0.0060854173 | F18: ='European Airlines 2013 Pax'!F18/'European Airlines 2012 Pax'!F20-1 -> 0.015646792 | G18: ='European Airlines 2013 Pax'!G18/'European Airlines 2012 Pax'!G20-1 -> 0.063735886 | H18: ='European Airlines 2013 Pax'!H18/'European Airlines 2012 Pax'!H20-1 -> 0.057347367 | I18: ='European Airlines 2013 Pax'!I18/'European Airlines 2012 Pax'!I20-1 -> 0.08747769 | J18: ='European Airlines 2013 Pax'!J18/'European Airlines 2012 Pax'!J20-1 -> 0.088282063 | ... L18: ='European Airlines 2013 Pax'!L18/'European Airlines 2012 Pax'!L20-1 -> 0.03474081
A19: IAG (BA+Iberia)^ | B19: 54600000 | C19: 0.053 | D19: 0.014 | E19: 0.035 | F19: -0.025 | G19: 0.017 | H19: 0.011 | I19: 0.005 | J19: 0.028 | K19: 0.006 | L19: 0.019 | M19: 0.03 | N19: 0.043
A20: Icelandair | B20: 2020100 | C20: ='European Airlines 2013 Pax'!C20/'European Airlines 2012 Pax'!C22-1 -> 0.17189111 | D20: ='European Airlines 2013 Pax'!D20/'European Airlines 2012 Pax'!D22-1 -> 0.11879416 | E20: =145074/118541-1 -> 0.22382973 | F20: =148074/136413-1 -> 0.085483055 | G20: =192321/165251-1 -> 0.16381141 | H20: ='European Airlines 2013 Pax'!H20/'European Airlines 2012 Pax'!H22-1 -> 0.095090749 | I20: ='European Airlines 2013 Pax'!I20/'European Airlines 2012 Pax'!I22-1 -> 0.11040164 | J20: ='European Airlines 2013 Pax'!J20/'European Airlines 2012 Pax'!J22-1 -> 0.10723734 | K20: ='European Airlines 2013 Pax'!K20/'European Airlines 2012 Pax'!K22-1 -> 0.085758828 | L20: ='European Airlines 2013 Pax'!L20/'European Airlines 2012 Pax'!L22-1 -> 0.07463884 | M20: ='European Airlines 2013 Pax'!M20/'European Airlines 2012 Pax'!M22-1 -> 0.095274803 | N20: ='European Airlines 2013 Pax'!N20/'European Airlines 2012 Pax'!N22-1 -> 0.17762168
A21: Jet2.com | B21: 4776257 | C21: ='European Airlines 2013 Pax'!C21/'European Airlines 2012 Pax'!C24-1 -> -0.0074003987 | D21: ='European Airlines 2013 Pax'!D21/'European Airlines 2012 Pax'!D24-1 -> 0.10312343 | E21: ='European Airlines 2013 Pax'!E21/'European Airlines 2012 Pax'!E24-1 -> 0.32144018 | F21: ='European Airlines 2013 Pax'!F21/'European Airlines 2012 Pax'!F24-1 -> 0.0054460655 | G21: ='European Airlines 2013 Pax'!G21/'European Airlines 2012 Pax'!G24-1 -> 0.14989384 | H21: ='European Airlines 2013 Pax'!H21/'European Airlines 2012 Pax'!H24-1 -> 0.12624805 | I21: ='European Airlines 2013 Pax'!I21/'European Airlines 2012 Pax'!I24-1 -> 0.13345993 | J21: ='European Airlines 2013 Pax'!J21/'European Airlines 2012 Pax'!J24-1 -> 0.16126388 | ... L21: ='European Airlines 2013 Pax'!L21/'European Airlines 2012 Pax'!L24-1 -> 0.17994234
A22: Lufthansa | B22: 74740000 | C22: -0.048 | D22: -0.008 | E22: -0.013 | F22: -0.014 | G22: 0.009 | H22: 0.026 | I22: 0.006 | J22: 0.039 | K22: 0.046 | L22: 0.03 | M22: 0.026 | N22: 0.034
A23: Monarch | B23: 6205453 | C23: ='European Airlines 2013 Pax'!C23/'European Airlines 2012 Pax'!C26-1 -> 0.074669081 | D23: ='European Airlines 2013 Pax'!D23/'European Airlines 2012 Pax'!D26-1 -> 0.13948016 | E23: ='European Airlines 2013 Pax'!E23/'European Airlines 2012 Pax'!E26-1 -> 0.091890928 | F23: ='European Airlines 2013 Pax'!F23/'European Airlines 2012 Pax'!F26-1 -> -0.22871107 | G23: ='European Airlines 2013 Pax'!G23/'European Airlines 2012 Pax'!G26-1 -> 0.27336413 | H23: ='European Airlines 2013 Pax'!H23/'European Airlines 2012 Pax'!H26-1 -> 0.181096 | I23: ='European Airlines 2013 Pax'!I23/'European Airlines 2012 Pax'!I26-1 -> 0.14817455 | J23: ='European Airlines 2013 Pax'!J23/'European Airlines 2012 Pax'!J26-1 -> 0.14398208 | ... L23: ='European Airlines 2013 Pax'!L23/'European Airlines 2012 Pax'!L26-1 -> 0.025524517
A24: Norwegian | B24: 17685074 | C24: 0.09 | D24: 0.09 | E24: =1439943/1362830-1 -> 0.056582993 | F24: =1710279/1345293-1 -> 0.27130595 | G24: =1885648/1542723-1 -> 0.22228553 | H24: ='European Airlines 2013 Pax'!H24/'European Airlines 2012 Pax'!H27-1 -> 0.20717229 | I24: ='European Airlines 2013 Pax'!I24/'European Airlines 2012 Pax'!I27-1 -> 0.16958802 | J24: ='European Airlines 2013 Pax'!J24/'European Airlines 2012 Pax'!J27-1 -> 0.14467247 | K24: ='European Airlines 2013 Pax'!K24/'European Airlines 2012 Pax'!K27-1 -> 0.16545892 | L24: ='European Airlines 2013 Pax'!L24/'European Airlines 2012 Pax'!L27-1 -> 0.18733249 | M24: ='European Airlines 2013 Pax'!M24/'European Airlines 2012 Pax'!M27-1 -> 0.15777738 | N24: ='European Airlines 2013 Pax'!N24/'European Airlines 2012 Pax'!N27-1 -> 0.26691617
A25: Ryanair | B25: 79610000 | C25: -0.01 | D25: -0.06 | E25: -0.01 | F25: 0.02 | G25: 0.05 | H25: 0.02 | I25: 0.01 | J25: 0.01 | K25: 0.03 | L25: 0.06 | M25: 0.06 | N25: 0.04
A26: SAS | B26: 25315000 | C26: -0.018 | D26: -0.035 | E26: -0.064 | F26: 0.053 | G26: -0.016 | H26: 0.009 | I26: 0.049 | J26: 0.033 | K26: 0.003 | L26: -0.01 | M26: -0.02 | N26: 0.018
A27: SWISS^^ | B27: 16844000 | C27: 0.002 | D27: -0.019 | E27: -0.013 | F27: -0.014 | G27: 0.036 | H27: 0.015 | I27: 0.004 | J27: 0.024 | K27: -0.014 | L27: 0.005 | M27: -0.027 | N27: 0.016
A28: Thomson Airways | B28: 10705200 | C28: ='European Airlines 2013 Pax'!C28/'European Airlines 2012 Pax'!C31-1 -> -0.032480483 | D28: ='European Airlines 2013 Pax'!D28/'European Airlines 2012 Pax'!D31-1 -> -0.048733667 | E28: ='European Airlines 2013 Pax'!E28/'European Airlines 2012 Pax'!E31-1 -> -0.01341722 | F28: ='European Airlines 2013 Pax'!F28/'European Airlines 2012 Pax'!F31-1 -> -0.033011279 | G28: ='European Airlines 2013 Pax'!G28/'European Airlines 2012 Pax'!G31-1 -> 0.081411215 | H28: ='European Airlines 2013 Pax'!H28/'European Airlines 2012 Pax'!H31-1 -> 0.005032582 | I28: ='European Airlines 2013 Pax'!I28/'European Airlines 2012 Pax'!I31-1 -> 0.001201828 | J28: ='European Airlines 2013 Pax'!J28/'European Airlines 2012 Pax'!J31-1 -> -0.0046925386 | ... L28: ='European Airlines 2013 Pax'!L28/'European Airlines 2012 Pax'!L31-1 -> -0.045220681
A29: Transaero | B29: 10327560 | C29: 0.238 | F29: 0.282
A30: Turkish Airlines | B30: 39044600 | C30: 0.225 | D30: ='European Airlines 2013 Pax'!D30/'European Airlines 2012 Pax'!D33-1 -> 0.28844631 | E30: ='European Airlines 2013 Pax'!E30/'European Airlines 2012 Pax'!E33-1 -> 0.25364125 | F30: ='European Airlines 2013 Pax'!F30/'European Airlines 2012 Pax'!F33-1 -> 0.25867097 | G30: ='European Airlines 2013 Pax'!G30/'European Airlines 2012 Pax'!G33-1 -> 0.28098116 | H30: ='European Airlines 2013 Pax'!H30/'European Airlines 2012 Pax'!H33-1 -> 0.26317158 | I30: ='European Airlines 2013 Pax'!I30/'European Airlines 2012 Pax'!I33-1 -> 0.1646178 | J30: ='European Airlines 2013 Pax'!J30/'European Airlines 2012 Pax'!J33-1 -> 0.28017969 | K30: ='European Airlines 2013 Pax'!K30/'European Airlines 2012 Pax'!K33-1 -> 0.18996368 | ... N30: ='European Airlines 2013 Pax'!N30/'European Airlines 2012 Pax'!N33-1 -> 0.23508325
A31: Virgin Atlantic | B31: 5448283 | C31: ='European Airlines 2013 Pax'!C31/'European Airlines 2012 Pax'!C34-1 -> 0.051718937 | D31: ='European Airlines 2013 Pax'!D31/'European Airlines 2012 Pax'!D34-1 -> 0.0080874582 | E31: ='European Airlines 2013 Pax'!E31/'European Airlines 2012 Pax'!E34-1 -> 0.023577997 | F31: ='European Airlines 2013 Pax'!F31/'European Airlines 2012 Pax'!F34-1 -> 0.031461961 | G31: ='European Airlines 2013 Pax'!G31/'European Airlines 2012 Pax'!G34-1 -> 0.15663743 | H31: ='European Airlines 2013 Pax'!H31/'European Airlines 2012 Pax'!H34-1 -> 0.12734274 | I31: ='European Airlines 2013 Pax'!I31/'European Airlines 2012 Pax'!I34-1 -> 0.13338581 | J31: ='European Airlines 2013 Pax'!J31/'European Airlines 2012 Pax'!J34-1 -> 0.14137435 | ... L31: ='European Airlines 2013 Pax'!L31/'European Airlines 2012 Pax'!L34-1 -> 0.10642139
A32: Vueling | B32: 14795640 | C32: ='European Airlines 2013 Pax'!C32/'European Airlines 2012 Pax'!C35-1 -> 0.10613381 | D32: ='European Airlines 2013 Pax'!D32/'European Airlines 2012 Pax'!D35-1 -> -0.024429392 | E32: =1079000/1041729-1 -> 0.035778019 | F32: =1358000/1200140-1 -> 0.13153465 | G32: =1544/1274-1 -> 0.21193093 | H32: =1701/1410-1 -> 0.20638298
A33: Widerøe | B33: 2767000 | C33: 0.128 | D33: 0.056 | E33: 0.008 | F33: 0.183 | G33: -0.148 | H33: 0.088 | I33: 0.051
A35: ^ Pro-forma growth rates
A36: ^^ Includes Edelweiss Air

Sheet European Airlines 2013 LF
A1: European Airline Traffic Trends 2013: Load factors
A2: Sources: Individual airlines, airline groups and UK CAA
A4: Airline | B4: LF 2012 | C4: Jan | D4: Feb | E4: Mar | F4: Apr | G4: May | H4: Jun | I4: Jul | J4: Aug | K4: Sep | L4: Oct | M4: Nov | N4: Dec | O4: LF 2013 | P4: Var.
A5: Aer Lingus | B5: 0.76825 | C5: 0.646 | D5: 0.683 | E5: 0.799 | F5: 0.689 | G5: 0.798 | H5: 0.862 | I5: 0.879 | J5: 0.866 | K5: 0.817 | L5: 0.772 | M5: 0.733 | N5: 0.739 | O5: 0.784
A6: Aeroflot | B6: 0.779 | C6: 0.737 | D6: 0.785 | E6: 0.798 | F6: 0.776 | H6: 0.799 | L6: 0.793 | M6: 0.758 | N6: 0.734 | O6: 0.788
A7: Air France-KLM | B7: 0.83033333 | C7: 0.814 | D7: 0.804 | E7: 0.842 | F7: 0.828 | G7: 0.817 | H7: 0.852 | I7: 0.874 | J7: 0.879 | K7: 0.852 | L7: 0.84 | M7: 0.803 | N7: 0.828 | O7: 0.837
A8: airBaltic | B8: 0.71166667 | C8: 0.59 | D8: 0.61 | E8: 0.69 | F8: 0.68 | G8: 0.71 | H8: 0.78 | I8: 0.79 | J8: 0.74 | K8: 0.71 | L8: 0.68
A9: airberlin | B9: 0.79305833 | C9: 0.831 | D9: 0.853 | E9: 0.8773 | F9: 0.8401 | G9: 0.823 | H9: 0.8485 | I9: 0.866 | J9: 0.88 | K9: 0.873 | L9: 0.846 | M9: 0.8 | N9: 0.814 | O9: 0.849
A10: Austrian Airlines | B10: 0.77158333 | C10: 0.718 | D10: 0.725 | E10: 0.724 | F10: 0.707 | G10: 0.754 | H10: 0.793 | I10: 0.835 | J10: 0.861 | K10: 0.833 | L10: 0.8 | M10: 0.764 | N10: 0.769 | O10: 0.786
A11: bmi Regional | B11: 0.593 | C11: 0.377 | D11: 0.418 | E11: 0.449 | F11: 0.471 | G11: 0.462 | H11: 0.489 | I11: 0.552 | J11: 0.526 | K11: 0.553 | L11: 0.502
A12: Brussels Airlines | B12: 0.687 | C12: 0.618 | D12: 0.619 | E12: 0.696 | F12: 0.692 | G12: 0.688 | H12: 0.711 | I12: 0.764 | J12: 0.772 | K12: 0.719 | L12: 0.678 | M12: 0.623 | N12: 0.675 | O12: 0.691
A13: Croatia Airlines | B13: 0.67066282 | C13: 0.56 | D13: 0.55 | E13: 0.68
A14: easyJet | B14: 0.889 | C14: 0.844 | D14: 0.905 | E14: 0.905 | F14: 0.867 | G14: 0.881 | H14: 0.899 | I14: 0.916 | J14: 0.928 | K14: 0.897 | L14: 0.891 | M14: 0.89 | N14: 0.879 | O14: 0.893
A15: Estonian Air | B15: 0.708 | G15: 0.701 | H15: 0.771 | O15: 0.67
A16: Finnair | B16: 0.776 | C16: 0.779 | D16: 0.806 | E16: 0.803 | F16: 0.758 | G16: 0.751 | H16: 0.833 | I16: 0.865 | J16: 0.852 | K16: 0.811 | L16: 0.786 | M16: 0.713 | N16: 0.758 | O16: 0.795
A17: flybe | B17: 0.635 | C17: 0.564 | D17: 0.611 | E17: 0.64 | F17: 0.625 | G17: 0.638 | H17: 0.693 | I17: 0.716 | J17: 0.748 | K17: 0.7 | L17: 0.641
A18: IAG (BA+Iberia)^ | B18: 0.803 | C18: 0.77 | D18: 0.752 | E18: 0.797 | F18: 0.792 | G18: 0.795 | H18: 0.847 | I18: 0.842 | J18: 0.853 | K18: 0.844 | L18: 0.812 | M18: 0.764 | N18: 0.792 | O18: 0.808
A19: Icelandair | B19: 0.805 | C19: 0.69 | D19: 0.736 | E19: 0.793 | F19: 0.762 | G19: 0.787 | H19: 0.822 | I19: 0.862 | J19: 0.856 | K19: 0.781 | L19: 0.781 | M19: 0.738 | N19: 0.762 | O19: 0.793
A20: Jet2.com | B20: 0.89 | C20: 0.82 | D20: 0.871 | E20: 0.879 | F20: 0.86 | G20: 0.847 | H20: 0.916 | I20: 0.93 | J20: 0.944 | K20: 0.926 | L20: 0.906
A21: Lufthansa | B21: 0.781 | C21: 0.745 | D21: 0.728 | E21: 0.787 | F21: 0.77 | G21: 0.775 | H21: 0.821 | I21: 0.841 | J21: 0.847 | K21: 0.815 | L21: 0.797 | M21: 0.751 | N21: 0.775 | O21: 0.791
A22: Monarch | B22: 0.856 | C22: 0.785 | D22: 0.838 | E22: 0.838 | F22: 0.811 | G22: 0.812 | H22: 0.876 | I22: 0.892 | J22: 0.916 | K22: 0.888 | L22: 0.831
A23: Norwegian | B23: 0.782 | C23: 0.722 | D23: 0.783 | E23: 0.776 | F23: 0.736 | G23: 0.77 | H23: 0.796 | I23: 0.859 | J23: 0.792 | K23: 0.783 | L23: 0.793 | M23: 0.762 | N23: 0.78 | O23: 0.783
A24: Ryanair | B24: 0.81166667 | C24: 0.71 | D24: 0.77 | E24: 0.79 | F24: 0.81 | G24: 0.82 | H24: 0.84 | I24: 0.88 | J24: 0.89 | K24: 0.85 | L24: 0.83 | M24: 0.81 | N24: 0.81 | O24: 0.83
A25: SAS | B25: 0.74691667 | C25: 0.651 | D25: 0.669 | E25: 0.729 | F25: 0.7 | G25: 0.736 | H25: 0.801 | I25: 0.846 | J25: 0.784 | K25: 0.745 | L25: 0.723 | M25: 0.68 | N25: 0.71
A26: SWISS^^ | B26: 0.824 | C26: 0.762 | D26: 0.779 | E26: 0.838 | F26: 0.846 | G26: 0.828 | H26: 0.866 | I26: 0.879 | J26: 0.883 | K26: 0.85 | L26: 0.842 | M26: 0.786 | N26: 0.805 | O26: 0.833
A27: Thomson Airways | B27: 0.92 | C27: 0.928 | D27: 0.956 | E27: 0.953 | F27: 0.902 | G27: 0.914 | H27: 0.954 | I27: 0.953 | J27: 0.972 | K27: 0.934 | L27: 0.859
A28: Turkish Airlines | B28: 0.777 | C28: 0.759 | D28: 0.771 | E28: 0.8064665 | F28: 0.79233926 | G28: 0.792 | H28: 0.808 | I28: 0.775 | J28: 0.86102021 | K28: 0.80147461 | L28: 0.78075095 | M28: 0.76027814 | N28: 0.76243049 | O28: 0.79
A29: Virgin Atlantic | B29: 0.78 | C29: 0.752 | D29: 0.74 | E29: 0.782 | F29: 0.745 | G29: 0.759 | H29: 0.834 | I29: 0.831 | J29: 0.873 | K29: 0.821 | L29: 0.781
A30: Vueling | B30: 0.77215 | C30: 0.717 | D30: 0.777 | E30: 0.802 | F30: 0.742 | G30: 0.762 | H30: 0.795
A31: Widerøe | C31: 0.515 | D31: 0.558 | E31: 0.566 | F31: 0.562 | G31: 0.56 | H31: 0.61 | I31: 0.65
A33: ^ From May 2013 also includes Vueling
A34: ^^ Includes Edelweiss Air

Sheet European Airlines 2012 Pax
A1: European Airline Traffic Trends 2012: Passenger numbers
A2: Sources: Individual airlines, airline groups and UK CAA
A4: Airline | B4: Pax 2011 | C4: Jan | D4: Feb | E4: Mar | F4: Apr | G4: May | H4: Jun | I4: Jul | J4: Aug | K4: Sep | L4: Oct | M4: Nov | N4: Dec | O4: Pax 2012 | P4: vly
A5: Aer Lingus | B5: =IF(VLOOKUP(A5,'European Airlines 2011 Pax'!$A:$O,14,FALSE)=0,"",VLOOKUP(A5,'European Airlines 2011 Pax'!$A:$O,15,FALSE)) -> 9833000 | C5: 616000 | D5: 658000 | E5: 809000 | F5: 890000 | G5: 970000 | H5: 1013000 | I5: 1109000 | J5: 1116000 | K5: 1019000 | L5: 962000 | M5: 766000 | N5: 734000 | O5: =SUM(C5:N5) -> 10662000 | P5: 0.038
A6: Aeroflot | B6: =VLOOKUP(A6,'European Airlines 2011 Pax'!$A:$O,15,FALSE) -> 14173800 | C6: 1171900 | D6: 1146700 | E6: 1280900 | F6: 1344000 | G6: =7938400-6548800 -> 1389600 | H6: 1605300 | I6: 1793000 | J6: 1839100 | K6: 1722100 | L6: 1557100 | M6: 1413000 | N6: 1393600 | O6: =SUM(C6:N6) -> 17656300 | P6: =O6/B6-1 -> 0.24569981
A7: Air France-KLM | B7: 75819000 | C7: 5756000 | D7: 5339000 | E7: 6368000 | F7: 6515000 | G7: 6550000 | H7: 6904000 | I7: 7425000 | J7: 6940000 | K7: 6914000 | L7: 6742000 | M7: 6005000 | N7: 5987000 | O7: =SUM(C7:N7) -> 77445000 | P7: 0.018
A8: airBaltic | B8: 3351294 | C8: 190966 | D8: 180476 | E8: 217670 | F8: 252034 | G8: 270994 | H8: 298350 | I8: 322430 | J8: 310495 | K8: 287400 | L8: 251705 | M8: 175726 | N8: 181593 | O8: =SUM(C8:N8) -> 2939839 | P8: -0.12277496
A9: airberlin | B9: =IF(VLOOKUP(A9,'European Airlines 2011 Pax'!$A:$O,14,FALSE)=0,"",VLOOKUP(A9,'European Airlines 2011 Pax'!$A:$O,15,FALSE)) -> 35300209 | C9: 1901779 | D9: 2044035 | E9: 2565164 | F9: 2659549 | G9: 3088951 | H9: 3297750 | I9: 3583137 | J9: 3572827 | K9: 3537477 | L9: 3177080 | M9: 2070433 | N9: 1848313 | O9: =SUM(C9:N9) -> 33346495 | P9: -0.055345678
A10: Austrian Airlines | B10: 11261400 | C10: 737400 | D10: 715300 | E10: 893600 | F10: 985000 | G10: 1036300 | H10: =5440600-4367600 -> 1073000 | I10: 1115000 | J10: 1081600 | K10: 1122800 | L10: 1029000 | M10: 862600 | N10: 796300 | O10: =SUM(C10:N10) -> 11447900 | P10: 0.016560996
A11: Blue1* | B11: =IF(VLOOKUP(A11,'European Airlines 2011 Pax'!$A:$O,14,FALSE)=0,"",VLOOKUP(A11,'European Airlines 2011 Pax'!$A:$O,15,FALSE)) -> 1758785 | C11: 115000 | D11: 111000 | E11: 149000 | O11: =SUM(C11:N11) -> 375000
A12: bmi British Midland | B12: =5691857-B13 -> 3489142 | C12: =334810-C13 -> 246431 | D12: 218979 | E12: 251042 | F12: 260075 | G12: 246819 | H12: 193658 | I12: 87059 | O12: =SUM(C12:N12) -> 1504063
A13: bmibaby | B13: =IF(VLOOKUP(A13,'European Airlines 2011 Pax'!$A:$O,14,FALSE)=0,"",VLOOKUP(A13,'European Airlines 2011 Pax'!$A:$O,15,FALSE)) -> 2202715 | C13: 88379 | D13: 121698 | E13: 151409 | F13: 195325 | G13: 189931 | H13: 157750 | I13: 145244 | O13: =SUM(C13:N13) -> 1049736
A14: Brussels Airlines | B14: =IF(VLOOKUP(A14,'European Airlines 2011 Pax'!$A:$O,14,FALSE)=0,"",VLOOKUP(A14,'European Airlines 2011 Pax'!$A:$O,15,FALSE)) -> 5689176 | C14: 365048 | D14: =(2762922-1872434)/2 -> 445244 | E14: 458837 | F14: 508140 | G14: =(2762922-1872434)/2 -> 445244 | H14: 540409 | I14: 578396 | J14: 526725 | K14: 560693 | L14: 560693 | M14: 414935 | N14: 386477 | O14: =SUM(C14:N14) -> 5790841 | P14: 0.017869899
A15: Cimber Sterling | B15: =IF(VLOOKUP(A15,'European Airlines 2011 Pax'!$A:$O,14,FALSE)=0,"",VLOOKUP(A15,'European Airlines 2011 Pax'!$A:$O,15,FALSE)) -> 1988332 | C15: 108687 | D15: 112842 | E15: 131727 | O15: =SUM(C15:N15) -> 353256
A16: Croatia Airlines | B16: =IF(VLOOKUP(A16,'European Airlines 2011 Pax'!$A:$O,14,FALSE)=0,"",VLOOKUP(A16,'European Airlines 2011 Pax'!$A:$O,15,FALSE)) -> 1833129 | C16: 93726 | D16: 85158 | E16: 116113 | F16: 149014 | G16: 187459 | H16: 217197 | I16: 236511 | J16: 235747 | K16: 229195 | L16: 176321 | M16: 119036 | N16: 106022 | O16: =SUM(C16:N16) -> 1951499 | P16: =O16/B16-1 -> 0.064572651
A17: easyJet | B17: =IF(VLOOKUP(A17,'European Airlines 2011 Pax'!$A:$O,14,FALSE)=0,"",VLOOKUP(A17,'European Airlines 2011 Pax'!$A:$O,15,FALSE)) -> 55471760 | C17: 3728514 | D17: 3976741 | E17: 4629241 | F17: 5124597 | G17: 5423726 | H17: 5434763 | I17: 5860272 | J17: 5873948 | K17: 5451217 | L17: 5245201 | M17: 4116576 | N17: 4339836 | O17: =SUM(C17:N17) -> 59204632 | P17: 0.067293196
A18: Estonian Air | B18: 678119 | C18: 42657 | D18: 39746 | E18: 56661 | F18: 85583 | G18: 98439 | H18: 100316 | I18: 92136 | J18: 87963 | K18: 83784 | L18: 79193 | M18: 67347 | N18: 53493 | O18: 887563 | P18: 0.30655976
A19: Finnair | B19: 8013100 | C19: 637500 | D19: 666800 | E19: 771800 | F19: 720300 | G19: 737000 | H19: 798700 | I19: 811200 | J19: 778700 | K19: 771100 | L19: 751300 | M19: 612200 | N19: 597000 | O19: =SUM(C19:N19) -> 8653600 | P19: 0.079931612
A20: flybe | B20: =IF(VLOOKUP(A20,'European Airlines 2011 Pax'!$A:$O,14,FALSE)=0,"",VLOOKUP(A20,'European Airlines 2011 Pax'!$A:$O,15,FALSE)) -> 7094604 | C20: 415168 | D20: 472483 | E20: 550825 | F20: 570724 | G20: 621973 | H20: 673248 | I20: 698681 | J20: 705602 | K20: 662273 | L20: 631390 | M20: 561727 | N20: 488725 | O20: =SUM(C20:N20) -> 7052819 | P20: =O20/B20-1 -> -0.0058896874
A21: IAG (BA+Iberia) | B21: 51687000 | C21: 3600000 | D21: 3560000 | E21: 4223000 | F21: 4395000 | G21: 4807000 | H21: 5048000 | I21: 5433000 | J21: 5212000 | K21: 5117000 | L21: 4901000 | M21: 4171000 | N21: 4045000 | O21: =SUM(C21:N21) -> 54512000 | P21: 0.051823452
A22: Icelandair | B22: 1743728 | C22: 93088 | D22: 93279 | E22: 118602 | F22: 136554 | G22: 165420 | H22: 245292 | I22: 275793 | J22: 271025 | K22: 198207 | L22: 172015 | M22: 131021 | N22: 119580 | O22: 2020377 | P22: =O22/B22-1 -> 0.15865376
A23: Jat Airways | B23: =IF(VLOOKUP(A23,'European Airlines 2011 Pax'!$A:$O,14,FALSE)=0,"",VLOOKUP(A23,'European Airlines 2011 Pax'!$A:$O,15,FALSE)) -> 1154884 | C23: 74908 | D23: 62289 | E23: 83369 | F23: 107555 | G23: 122273 | H23: 134969 | I23: 180192 | J23: 184728 | K23: 145203 | L23: 107130 | M23: 85047 | O23: =SUM(C23:N23) -> 1287663
A24: Jet2.com | B24: =IF(VLOOKUP(A24,'European Airlines 2011 Pax'!$A:$O,14,FALSE)=0,"",VLOOKUP(A24,'European Airlines 2011 Pax'!$A:$O,15,FALSE)) -> 4235752 | C24: 118372 | D24: 155406 | E24: 199975 | F24: 351630 | G24: 460159 | H24: 662331 | I24: 719864 | J24: 738076 | K24: 639500 | L24: 430110 | M24: 164069 | N24: 136765 | O24: =SUM(C24:N24) -> 4776257 | P24: =O24/B24-1 -> 0.12760544
A25: Lufthansa | B25: 65458000 | C25: 5053000 | D25: 4785000 | E25: 5888000 | F25: 6262000 | G25: 6781000 | H25: 6980000 | I25: 7401000 | J25: 6950000 | K25: 6916000 | L25: 6864000 | M25: 5583000 | N25: 5032000 | O25: =SUM(C25:N25) -> 74495000 | P25: 0.12419053
A26: Monarch | B26: =IF(VLOOKUP(A26,'European Airlines 2011 Pax'!$A:$O,14,FALSE)=0,"",VLOOKUP(A26,'European Airlines 2011 Pax'!$A:$O,15,FALSE)) -> 5932463 | C26: 276125 | D26: 273236 | E26: 353234 | F26: 439078 | G26: 562133 | H26: 704687 | I26: 779891 | J26: 844744 | K26: 712854 | L26: 640208 | M26: 301922 | N26: 317341 | O26: =SUM(C26:N26) -> 6205453 | P26: =O26/B26-1 -> 0.0460163
A27: Norwegian | B27: =IF(VLOOKUP(A27,'European Airlines 2011 Pax'!$A:$O,14,FALSE)=0,"",VLOOKUP(A27,'European Airlines 2011 Pax'!$A:$O,15,FALSE)) -> 15698183 | C27: 1134142 | D27: 1151829 | E27: 1362830 | F27: 1345293 | G27: 1542723 | H27: 1583735 | I27: 1820158 | J27: 1724046 | K27: 1647702 | L27: 1646938 | M27: 1458872 | N27: 1266806 | O27: =SUM(C27:N27) -> 17685074 | P27: 0.11234847
A28: Ryanair | B28: =IF(VLOOKUP(A28,'European Airlines 2011 Pax'!$A:$O,14,FALSE)=0,"",VLOOKUP(A28,'European Airlines 2011 Pax'!$A:$O,15,FALSE)) -> 76430000 | C28: 4390000 | D28: 4470000 | E28: 5500000 | F28: 7200000 | G28: 7510000 | H28: 7790000 | I28: 8720000 | J28: 8900000 | K28: 7840000 | L28: 7540000 | M28: 4910000 | N28: 4840000 | O28: =SUM(C28:N28) -> 79610000 | P28: 0.039944731
A29: SAS* | B29: =IF(VLOOKUP(A29,'European Airlines 2011 Pax'!$A:$O,14,FALSE)=0,"",VLOOKUP(A29,'European Airlines 2011 Pax'!$A:$O,15,FALSE)) -> 22911034 | C29: 1581000 | D29: 1754000 | E29: 2074000 | F29: 2110000 | G29: 2408000 | H29: 2404000 | I29: 2032000 | J29: 2092000 | K29: 2403000 | L29: 2435000 | M29: 2394000 | N29: 1628000 | O29: =SUM(C29:N29) -> 25315000 | P29: 0.10492612
A30: Swiss | B30: 15317275 | C30: 1136189 | D30: 1136561 | E30: 1337846 | F30: 1378264 | G30: 1339813 | H30: 1374110 | I30: 1498346 | J30: 1460821 | K30: 1396884 | L30: 1386996 | M30: 1188540 | N30: 1239000 | O30: =SUM(C30:N30) -> 15873370 | P30: 0.028674899
A31: Thomson Airways | B31: =IF(VLOOKUP(A31,'European Airlines 2011 Pax'!$A:$O,14,FALSE)=0,"",VLOOKUP(A31,'European Airlines 2011 Pax'!$A:$O,15,FALSE)) -> 11046156 | C31: 538508 | D31: 519887 | E31: 580150 | F31: 560051 | G31: 994519 | H31: 1321588 | I31: 1403695 | J31: 1477665 | K31: 1361826 | L31: 995916 | M31: 469679 | N31: 481716 | O31: =SUM(C31:N31) -> 10705200 | P31: =O31/B31-1 -> -0.030866484
A32: Transaero | B32: =VLOOKUP(A32,'European Airlines 2011 Pax'!$A:$O,15,FALSE) -> 8453371 | C32: 603360 | D32: 546479 | E32: =2404935-1785491 -> 619444 | F32: 635652 | G32: 834357 | H32: =6916827-3239292-1327681 -> 2349854 | J32: 1327681 | K32: 1159770 | L32: 830588 | M32: 707690 | N32: 712685 | O32: =SUM(C32:N32) -> 10327560 | P32: 0.222
A33: Turkish Airlines | B33: 32621641 | C33: 2607902 | D33: =5065108-C33 -> 2457206 | E33: =7969056-SUM(C33:D33) -> 2903948 | F33: 3087084 | G33: =14282125-11056140 -> 3225985 | H33: =17744562-14282125 -> 3462437 | I33: =21583114-17744562 -> 3838552 | J33: =25367621-21583114 -> 3784507 | K33: 3766362 | L33: 3632664 | M33: 3177880 | N33: 3095882 | O33: =SUM(C33:N33) -> 39040409 | P33: 0.196
A34: Virgin Atlantic | B34: =IF(VLOOKUP(A34,'European Airlines 2011 Pax'!$A:$O,14,FALSE)=0,"",VLOOKUP(A34,'European Airlines 2011 Pax'!$A:$O,15,FALSE)) -> 5279739 | C34: 394517 | D34: 362413 | E34: 442404 | F34: 452324 | G34: 429993 | H34: 486930 | I34: 506883 | J34: 535571 | K34: 477802 | L34: 464183 | M34: 440874 | N34: 454389 | O34: =SUM(C34:N34) -> 5448283 | P34: =O34/B34-1 -> 0.03192279
A35: Vueling | B35: =IF(VLOOKUP(A35,'European Airlines 2011 Pax'!$A:$O,14,FALSE)=0,"",VLOOKUP(A35,'European Airlines 2011 Pax'!$A:$O,15,FALSE)) -> 12315937 | C35: 727704 | D35: 797482 | E35: 1041729 | F35: 1200140 | G35: 1274047 | H35: 1409734 | I35: 1742711 | J35: 1881637 | K35: 1552000 | L35: 1237000 | M35: 964000 | N35: 967456 | O35: =SUM(C35:N35) -> 14795640 | P35: 0.16755661
A36: Widerøe | B36: =IF(VLOOKUP(A36,'European Airlines 2011 Pax'!$A:$O,14,FALSE)=0,"",VLOOKUP(A36,'European Airlines 2011 Pax'!$A:$O,15,FALSE)) -> 2536288 | C36: 196000 | D36: 209000 | E36: 227000 | F36: 212000 | G36: 253000 | H36: 239000 | I36: 227000 | J36: 243000 | K36: 245000 | L36: 261000 | M36: 252000 | N36: 203000 | O36: =SUM(C36:N36) -> 2767000 | P36: =O36/B36-1 -> 0.090964433
A38: * Note: from April 2012, Blue1 figures are included in those of SAS

Sheet European Airlines 2012 vly
A1: European Airline Traffic Trends 2012: Change in passenger numbers
A2: Sources: Individual airlines, airline groups and UK CAA
C3: 3 | D3: 4 | E3: 5 | F3: 6 | G3: 7 | H3: 8 | I3: 9 | J3: 10 | K3: 11 | L3: 12 | M3: 13 | N3: 14
A4: Airline | B4: Pax 2011 | C4: Jan | D4: Feb | E4: Mar | F4: Apr | G4: May | H4: Jun | I4: Jul | J4: Aug | K4: Sep | L4: Oct | M4: Nov | N4: Dec
A5: Aer Lingus | B5: =IF(VLOOKUP(A5,'European Airlines 2011 Pax'!$A:$O,14,FALSE)=0,"",VLOOKUP(A5,'European Airlines 2011 Pax'!$A:$O,15,FALSE)) -> 9833000 | C5: 0.058 | D5: 0.075 | E5: 0.082 | F5: 0.014 | G5: 0.001 | H5: 0.02 | I5: -0.007 | J5: 0.022 | K5: 0.017 | L5: 0.009 | M5: 0.021 | N5: 0.072
A6: Aeroflot | B6: =VLOOKUP(A6,'European Airlines 2011 Pax'!$A:$O,15,FALSE) -> 14173800 | C6: =(VLOOKUP($A6,'European Airlines 2012 Pax'!$A:$N,C$3,FALSE)-VLOOKUP($A6,'European Airlines 2011 Pax'!$A:$N,'European Airlines 2012 vly'!C$3,FALSE))/VLOOKUP($A6,'European Airlines 2011 Pax'!$A:$N,'European Airlines 2012 vly'!C$3,FALSE) -> 0.28399255 | D6: =(VLOOKUP($A6,'European Airlines 2012 Pax'!$A:$N,D$3,FALSE)-VLOOKUP($A6,'European Airlines 2011 Pax'!$A:$N,'European Airlines 2012 vly'!D$3,FALSE))/VLOOKUP($A6,'European Airlines 2011 Pax'!$A:$N,'European Airlines 2012 vly'!D$3,FALSE) -> 0.31713761 | E6: =(VLOOKUP($A6,'European Airlines 2012 Pax'!$A:$N,E$3,FALSE)-VLOOKUP($A6,'European Airlines 2011 Pax'!$A:$N,'European Airlines 2012 vly'!E$3,FALSE))/VLOOKUP($A6,'European Airlines 2011 Pax'!$A:$N,'European Airlines 2012 vly'!E$3,FALSE) -> 0.28077192 | F6: =(VLOOKUP($A6,'European Airlines 2012 Pax'!$A:$N,F$3,FALSE)-VLOOKUP($A6,'European Airlines 2011 Pax'!$A:$N,'European Airlines 2012 vly'!F$3,FALSE))/VLOOKUP($A6,'European Airlines 2011 Pax'!$A:$N,'European Airlines 2012 vly'!F$3,FALSE) -> 0.29218344 | G6: =(VLOOKUP($A6,'European Airlines 2012 Pax'!$A:$N,G$3,FALSE)-VLOOKUP($A6,'European Airlines 2011 Pax'!$A:$N,'European Airlines 2012 vly'!G$3,FALSE))/VLOOKUP($A6,'European Airlines 2011 Pax'!$A:$N,'European Airlines 2012 vly'!G$3,FALSE) -> 0.2283214 | H6: =(VLOOKUP($A6,'European Airlines 2012 Pax'!$A:$N,H$3,FALSE)-VLOOKUP($A6,'European Airlines 2011 Pax'!$A:$N,'European Airlines 2012 vly'!H$3,FALSE))/VLOOKUP($A6,'European Airlines 2011 Pax'!$A:$N,'European Airlines 2012 vly'!H$3,FALSE) -> 0.24916349 | I6: =(VLOOKUP($A6,'European Airlines 2012 Pax'!$A:$N,I$3,FALSE)-VLOOKUP($A6,'European Airlines 2011 Pax'!$A:$N,'European Airlines 2012 vly'!I$3,FALSE))/VLOOKUP($A6,'European Airlines 2011 Pax'!$A:$N,'European Airlines 2012 vly'!I$3,FALSE) -> 0.22047512 | J6: =(VLOOKUP($A6,'European Airlines 2012 Pax'!$A:$N,J$3,FALSE)-VLOOKUP($A6,'European Airlines 2011 Pax'!$A:$N,'European Airlines 2012 vly'!J$3,FALSE))/VLOOKUP($A6,'European Airlines 2011 Pax'!$A:$N,'European Airlines 2012 vly'!J$3,FALSE) -> 0.25253695 | K6: 0.26318492 | L6: 0.24150853 | M6: 0.197
A7: Air France-KLM | B7: 75819000 | C7: 0.053 | D7: 0.05 | E7: 0.063 | F7: 0.02 | G7: -0.008 | H7: 0.025 | I7: 0.015 | J7: 0.014 | K7: 0.005 | L7: -0.005 | M7: 0.023 | N7: -0.02
A8: airBaltic | B8: 3351294 | C8: 0.02 | D8: 0.01 | E8: -0.066 | F8: =(VLOOKUP($A8,'European Airlines 2012 Pax'!$A:$N,F$3,FALSE)-VLOOKUP($A8,'European Airlines 2011 Pax'!$A:$N,'European Airlines 2012 vly'!F$3,FALSE))/VLOOKUP($A8,'European Airlines 2011 Pax'!$A:$N,'European Airlines 2012 vly'!F$3,FALSE) -> -0.14902252 | G8: =(VLOOKUP($A8,'European Airlines 2012 Pax'!$A:$N,G$3,FALSE)-VLOOKUP($A8,'European Airlines 2011 Pax'!$A:$N,'European Airlines 2012 vly'!G$3,FALSE))/VLOOKUP($A8,'European Airlines 2011 Pax'!$A:$N,'European Airlines 2012 vly'!G$3,FALSE) -> -0.15686671 | H8: =(VLOOKUP($A8,'European Airlines 2012 Pax'!$A:$N,H$3,FALSE)-VLOOKUP($A8,'European Airlines 2011 Pax'!$A:$N,'European Airlines 2012 vly'!H$3,FALSE))/VLOOKUP($A8,'European Airlines 2011 Pax'!$A:$N,'European Airlines 2012 vly'!H$3,FALSE) -> -0.17174235 | I8: =(VLOOKUP($A8,'European Airlines 2012 Pax'!$A:$N,I$3,FALSE)-VLOOKUP($A8,'European Airlines 2011 Pax'!$A:$N,'European Airlines 2012 vly'!I$3,FALSE))/VLOOKUP($A8,'European Airlines 2011 Pax'!$A:$N,'European Airlines 2012 vly'!I$3,FALSE) -> -0.13176595 | J8: =(VLOOKUP($A8,'European Airlines 2012 Pax'!$A:$N,J$3,FALSE)-VLOOKUP($A8,'European Airlines 2011 Pax'!$A:$N,'European Airlines 2012 vly'!J$3,FALSE))/VLOOKUP($A8,'European Airlines 2011 Pax'!$A:$N,'European Airlines 2012 vly'!J$3,FALSE) -> -0.14330373 | K8: -0.1003653 | L8: -0.11146529 | M8: -0.1142307 | N8: -0.08
A9: airberlin | B9: =IF(VLOOKUP(A9,'European Airlines 2011 Pax'!$A:$O,14,FALSE)=0,"",VLOOKUP(A9,'European Airlines 2011 Pax'!$A:$O,15,FALSE)) -> 35300209 | C9: =(VLOOKUP($A9,'European Airlines 2012 Pax'!$A:$N,C$3,FALSE)-VLOOKUP($A9,'European Airlines 2011 Pax'!$A:$N,'European Airlines 2012 vly'!C$3,FALSE))/VLOOKUP($A9,'European Airlines 2011 Pax'!$A:$N,'European Airlines 2012 vly'!C$3,FALSE) -> -0.11346744 | D9: =(VLOOKUP($A9,'European Airlines 2012 Pax'!$A:$N,D$3,FALSE)-VLOOKUP($A9,'European Airlines 2011 Pax'!$A:$N,'European Airlines 2012 vly'!D$3,FALSE))/VLOOKUP($A9,'European Airlines 2011 Pax'!$A:$N,'European Airlines 2012 vly'!D$3,FALSE) -> -0.041285013 | E9: =(VLOOKUP($A9,'European Airlines 2012 Pax'!$A:$N,E$3,FALSE)-VLOOKUP($A9,'European Airlines 2011 Pax'!$A:$N,'European Airlines 2012 vly'!E$3,FALSE))/VLOOKUP($A9,'European Airlines 2011 Pax'!$A:$N,'European Airlines 2012 vly'!E$3,FALSE) -> -0.011328335 | F9: =(VLOOKUP($A9,'European Airlines 2012 Pax'!$A:$N,F$3,FALSE)-VLOOKUP($A9,'European Airlines 2011 Pax'!$A:$N,'European Airlines 2012 vly'!F$3,FALSE))/VLOOKUP($A9,'European Airlines 2011 Pax'!$A:$N,'European Airlines 2012 vly'!F$3,FALSE) -> -0.042909057 | G9: =(VLOOKUP($A9,'European Airlines 2012 Pax'!$A:$N,G$3,FALSE)-VLOOKUP($A9,'European Airlines 2011 Pax'!$A:$N,'European Airlines 2012 vly'!G$3,FALSE))/VLOOKUP($A9,'European Airlines 2011 Pax'!$A:$N,'European Airlines 2012 vly'!G$3,FALSE) -> -0.064140847 | H9: =(VLOOKUP($A9,'European Airlines 2012 Pax'!$A:$N,H$3,FALSE)-VLOOKUP($A9,'European Airlines 2011 Pax'!$A:$N,'European Airlines 2012 vly'!H$3,FALSE))/VLOOKUP($A9,'European Airlines 2011 Pax'!$A:$N,'European Airlines 2012 vly'!H$3,FALSE) -> -0.050166147 | I9: =(VLOOKUP($A9,'European Airlines 2012 Pax'!$A:$N,I$3,FALSE)-VLOOKUP($A9,'European Airlines 2011 Pax'!$A:$N,'European Airlines 2012 vly'!I$3,FALSE))/VLOOKUP($A9,'European Airlines 2011 Pax'!$A:$N,'European Airlines 2012 vly'!I$3,FALSE) -> -0.059396215 | J9: =(VLOOKUP($A9,'European Airlines 2012 Pax'!$A:$N,J$3,FALSE)-VLOOKUP($A9,'European Airlines 2011 Pax'!$A:$N,'European Airlines 2012 vly'!J$3,FALSE))/VLOOKUP($A9,'European Airlines 2011 Pax'!$A:$N,'European Airlines 2012 vly'!J$3,FALSE) -> -0.049629662 | K9: -0.039647413 | L9: -0.050436483 | M9: -0.083595767 | N9: -0.085
A10: Austrian Airlines | B10: 11261400 | C10: 0.071 | D10: 0.105 | E10: 0.12 | F10: 0.099 | G10: 0.01 | H10: 0.022 | I10: -0.056 | J10: -0.056 | K10: -0.028 | L10: -0.017 | M10: 0.023 | N10: 0.022
A11: Blue1* | B11: =IF(VLOOKUP(A11,'European Airlines 2011 Pax'!$A:$O,14,FALSE)=0,"",VLOOKUP(A11,'European Airlines 2011 Pax'!$A:$O,15,FALSE)) -> 1758785 | C11: -0.014 | D11: -0.199 | E11: -0.11
A12: bmi British Midland | B12: =IF(VLOOKUP(A12,'European Airlines 2011 Pax'!$A:$O,14,FALSE)=0,"",VLOOKUP(A12,'European Airlines 2011 Pax'!$A:$O,15,FALSE)) -> 5509158 | C12: =('European Airlines 2012 Pax'!C12-(379411-'European Airlines 2011 Pax'!C18))/(379411+'European Airlines 2011 Pax'!C18) -> -0.055392607 | D12: =('European Airlines 2012 Pax'!D12-224012)/224012 -> -0.022467546 | E12: =('European Airlines 2012 Pax'!E12-270291)/270291 -> -0.071215838 | F12: =('European Airlines 2012 Pax'!F12-258267)/258267 -> 0.0070005072 | G12: =('European Airlines 2012 Pax'!G12-250896)/250896 -> -0.016249761 | H12: =('European Airlines 2012 Pax'!H12-277285)/277285 -> -0.30159222 | I12: =('European Airlines 2012 Pax'!I12-296917)/296917 -> -0.70679011
A13: bmibaby | B13: =IF(VLOOKUP(A13,'European Airlines 2011 Pax'!$A:$O,14,FALSE)=0,"",VLOOKUP(A13,'European Airlines 2011 Pax'!$A:$O,15,FALSE)) -> 2202715 | C13: =(VLOOKUP($A13,'European Airlines 2012 Pax'!$A:$N,C$3,FALSE)-VLOOKUP($A13,'European Airlines 2011 Pax'!$A:$N,'European Airlines 2012 vly'!C$3,FALSE))/VLOOKUP($A13,'European Airlines 2011 Pax'!$A:$N,'European Airlines 2012 vly'!C$3,FALSE) -> -0.1669196 | D13: =(VLOOKUP($A13,'European Airlines 2012 Pax'!$A:$N,D$3,FALSE)-VLOOKUP($A13,'European Airlines 2011 Pax'!$A:$N,'European Airlines 2012 vly'!D$3,FALSE))/VLOOKUP($A13,'European Airlines 2011 Pax'!$A:$N,'European Airlines 2012 vly'!D$3,FALSE) -> -0.076765516 | E13: =(VLOOKUP($A13,'European Airlines 2012 Pax'!$A:$N,E$3,FALSE)-VLOOKUP($A13,'European Airlines 2011 Pax'!$A:$N,'European Airlines 2012 vly'!E$3,FALSE))/VLOOKUP($A13,'European Airlines 2011 Pax'!$A:$N,'European Airlines 2012 vly'!E$3,FALSE) -> 0.0042915323 | F13: =(VLOOKUP($A13,'European Airlines 2012 Pax'!$A:$N,F$3,FALSE)-VLOOKUP($A13,'European Airlines 2011 Pax'!$A:$N,'European Airlines 2012 vly'!F$3,FALSE))/VLOOKUP($A13,'European Airlines 2011 Pax'!$A:$N,'European Airlines 2012 vly'!F$3,FALSE) -> 0.080427027 | G13: =('European Airlines 2012 Pax'!G13-194780)/194780 -> -0.024894753 | H13: =('European Airlines 2012 Pax'!H13-238680)/238680 -> -0.33907324 | I13: =('European Airlines 2012 Pax'!I13-264510)/264510 -> -0.45089411
A14: Brussels Airlines | B14: =IF(VLOOKUP(A14,'European Airlines 2011 Pax'!$A:$O,14,FALSE)=0,"",VLOOKUP(A14,'European Airlines 2011 Pax'!$A:$O,15,FALSE)) -> 5689176 | C14: 0.049 | E14: 0.028 | F14: 0.044 | H14: 0.027 | I14: 0.017 | J14: 0.01 | K14: -0.038 | L14: -0.038 | M14: -0.002 | N14: -0.008
A15: Cimber Sterling | B15: =IF(VLOOKUP(A15,'European Airlines 2011 Pax'!$A:$O,14,FALSE)=0,"",VLOOKUP(A15,'European Airlines 2011 Pax'!$A:$O,15,FALSE)) -> 1988332 | C15: =(VLOOKUP($A15,'European Airlines 2012 Pax'!$A:$N,C$3,FALSE)-VLOOKUP($A15,'European Airlines 2011 Pax'!$A:$N,'European Airlines 2012 vly'!C$3,FALSE))/VLOOKUP($A15,'European Airlines 2011 Pax'!$A:$N,'European Airlines 2012 vly'!C$3,FALSE) -> -0.18056184 | D15: =(VLOOKUP($A15,'European Airlines 2012 Pax'!$A:$N,D$3,FALSE)-VLOOKUP($A15,'European Airlines 2011 Pax'!$A:$N,'European Airlines 2012 vly'!D$3,FALSE))/VLOOKUP($A15,'European Airlines 2011 Pax'!$A:$N,'European Airlines 2012 vly'!D$3,FALSE) -> -0.20129388 | E15: -0.1956
A16: Croatia Airlines | B16: =IF(VLOOKUP(A16,'European Airlines 2011 Pax'!$A:$O,14,FALSE)=0,"",VLOOKUP(A16,'European Airlines 2011 Pax'!$A:$O,15,FALSE)) -> 1833129 | C16: -0.03181621 | D16: -0.057131469 | E16: 0.012751742 | F16: -0.014659693 | G16: 0.03075908 | H16: 0.068619926 | I16: 0.038267031 | J16: 0.076411338 | K16: 0.080308451 | L16: 0.039554984 | M16: 0.061428304 | N16: 0.059129097
A17: easyJet | B17: =IF(VLOOKUP(A17,'European Airlines 2011 Pax'!$A:$O,14,FALSE)=0,"",VLOOKUP(A17,'European Airlines 2011 Pax'!$A:$O,15,FALSE)) -> 55471760 | C17: =(VLOOKUP($A17,'European Airlines 2012 Pax'!$A:$N,C$3,FALSE)-VLOOKUP($A17,'European Airlines 2011 Pax'!$A:$N,'European Airlines 2012 vly'!C$3,FALSE))/VLOOKUP($A17,'European Airlines 2011 Pax'!$A:$N,'European Airlines 2012 vly'!C$3,FALSE) -> -0.0040279486 | D17: =(VLOOKUP($A17,'European Airlines 2012 Pax'!$A:$N,D$3,FALSE)-VLOOKUP($A17,'European Airlines 2011 Pax'!$A:$N,'European Airlines 2012 vly'!D$3,FALSE))/VLOOKUP($A17,'European Airlines 2011 Pax'!$A:$N,'European Airlines 2012 vly'!D$3,FALSE) -> 0.037320404 | E17: =(VLOOKUP($A17,'European Airlines 2012 Pax'!$A:$N,E$3,FALSE)-VLOOKUP($A17,'European Airlines 2011 Pax'!$A:$N,'European Airlines 2012 vly'!E$3,FALSE))/VLOOKUP($A17,'European Airlines 2011 Pax'!$A:$N,'European Airlines 2012 vly'!E$3,FALSE) -> 0.043650454 | F17: =(VLOOKUP($A17,'European Airlines 2012 Pax'!$A:$N,F$3,FALSE)-VLOOKUP($A17,'European Airlines 2011 Pax'!$A:$N,'European Airlines 2012 vly'!F$3,FALSE))/VLOOKUP($A17,'European Airlines 2011 Pax'!$A:$N,'European Airlines 2012 vly'!F$3,FALSE) -> 0.086317638 | G17: =(VLOOKUP($A17,'European Airlines 2012 Pax'!$A:$N,G$3,FALSE)-VLOOKUP($A17,'European Airlines 2011 Pax'!$A:$N,'European Airlines 2012 vly'!G$3,FALSE))/VLOOKUP($A17,'European Airlines 2011 Pax'!$A:$N,'European Airlines 2012 vly'!G$3,FALSE) -> 0.14438216 | H17: =(VLOOKUP($A17,'European Airlines 2012 Pax'!$A:$N,H$3,FALSE)-VLOOKUP($A17,'European Airlines 2011 Pax'!$A:$N,'European Airlines 2012 vly'!H$3,FALSE))/VLOOKUP($A17,'European Airlines 2011 Pax'!$A:$N,'European Airlines 2012 vly'!H$3,FALSE) -> 0.097420898 | I17: =(VLOOKUP($A17,'European Airlines 2012 Pax'!$A:$N,I$3,FALSE)-VLOOKUP($A17,'European Airlines 2011 Pax'!$A:$N,'European Airlines 2012 vly'!I$3,FALSE))/VLOOKUP($A17,'European Airlines 2011 Pax'!$A:$N,'European Airlines 2012 vly'!I$3,FALSE) -> 0.079814089 | J17: =(VLOOKUP($A17,'European Airlines 2012 Pax'!$A:$N,J$3,FALSE)-VLOOKUP($A17,'European Airlines 2011 Pax'!$A:$N,'European Airlines 2012 vly'!J$3,FALSE))/VLOOKUP($A17,'European Airlines 2011 Pax'!$A:$N,'European Airlines 2012 vly'!J$3,FALSE) -> 0.059521883 | K17: 0.051985019 | L17: 0.061802213 | M17: 0.077255581 | N17: 0.049394496
A18: Estonian Air | B18: 678119 | C18: =(VLOOKUP($A18,'European Airlines 2012 Pax'!$A:$N,C$3,FALSE)-VLOOKUP($A18,'European Airlines 2011 Pax'!$A:$N,'European Airlines 2012 vly'!C$3,FALSE))/VLOOKUP($A18,'European Airlines 2011 Pax'!$A:$N,'European Airlines 2012 vly'!C$3,FALSE) -> 0.14700188 | D18: =(VLOOKUP($A18,'European Airlines 2012 Pax'!$A:$N,D$3,FALSE)-VLOOKUP($A18,'European Airlines 2011 Pax'!$A:$N,'European Airlines 2012 vly'!D$3,FALSE))/VLOOKUP($A18,'European Airlines 2011 Pax'!$A:$N,'European Airlines 2012 vly'!D$3,FALSE) -> 0.084385998 | E18: =(VLOOKUP($A18,'European Airlines 2012 Pax'!$A:$N,E$3,FALSE)-VLOOKUP($A18,'European Airlines 2011 Pax'!$A:$N,'European Airlines 2012 vly'!E$3,FALSE))/VLOOKUP($A18,'European Airlines 2011 Pax'!$A:$N,'European Airlines 2012 vly'!E$3,FALSE) -> 0.2234626 | F18: =(VLOOKUP($A18,'European Airlines 2012 Pax'!$A:$N,F$3,FALSE)-VLOOKUP($A18,'European Airlines 2011 Pax'!$A:$N,'European Airlines 2012 vly'!F$3,FALSE))/VLOOKUP($A18,'European Airlines 2011 Pax'!$A:$N,'European Airlines 2012 vly'!F$3,FALSE) -> 0.76725793 | G18: 0.911 | H18: 0.973 | I18: 0.786 | J18: 0.661 | K18: 0.413 | L18: 0.17631609 | M18: 0.25331492 | N18: 0.16747986
A19: Finnair | B19: 8013100 | C19: 0.048 | D19: 0.14 | E19: 0.116 | F19: 0.1 | G19: 0.116 | H19: 0.101 | I19: 0.067 | J19: 0.113 | K19: 0.08 | L19: 0.072 | M19: 0.107 | N19: 0.089
A20: flybe | B20: =IF(VLOOKUP(A20,'European Airlines 2011 Pax'!$A:$O,14,FALSE)=0,"",VLOOKUP(A20,'European Airlines 2011 Pax'!$A:$O,15,FALSE)) -> 7094604 | C20: =(VLOOKUP($A20,'European Airlines 2012 Pax'!$A:$N,C$3,FALSE)-VLOOKUP($A20,'European Airlines 2011 Pax'!$A:$N,'European Airlines 2012 vly'!C$3,FALSE))/VLOOKUP($A20,'European Airlines 2011 Pax'!$A:$N,'European Airlines 2012 vly'!C$3,FALSE) -> -0.019856981 | D20: =(VLOOKUP($A20,'European Airlines 2012 Pax'!$A:$N,D$3,FALSE)-VLOOKUP($A20,'European Airlines 2011 Pax'!$A:$N,'European Airlines 2012 vly'!D$3,FALSE))/VLOOKUP($A20,'European Airlines 2011 Pax'!$A:$N,'European Airlines 2012 vly'!D$3,FALSE) -> 0.03401767 | E20: =(VLOOKUP($A20,'European Airlines 2012 Pax'!$A:$N,E$3,FALSE)-VLOOKUP($A20,'European Airlines 2011 Pax'!$A:$N,'European Airlines 2012 vly'!E$3,FALSE))/VLOOKUP($A20,'European Airlines 2011 Pax'!$A:$N,'European Airlines 2012 vly'!E$3,FALSE) -> 0.021631717 | F20: =(VLOOKUP($A20,'European Airlines 2012 Pax'!$A:$N,F$3,FALSE)-VLOOKUP($A20,'European Airlines 2011 Pax'!$A:$N,'European Airlines 2012 vly'!F$3,FALSE))/VLOOKUP($A20,'European Airlines 2011 Pax'!$A:$N,'European Airlines 2012 vly'!F$3,FALSE) -> -0.0092646438 | G20: =(VLOOKUP($A20,'European Airlines 2012 Pax'!$A:$N,G$3,FALSE)-VLOOKUP($A20,'European Airlines 2011 Pax'!$A:$N,'European Airlines 2012 vly'!G$3,FALSE))/VLOOKUP($A20,'European Airlines 2011 Pax'!$A:$N,'European Airlines 2012 vly'!G$3,FALSE) -> -0.021367219 | H20: =(VLOOKUP($A20,'European Airlines 2012 Pax'!$A:$N,H$3,FALSE)-VLOOKUP($A20,'European Airlines 2011 Pax'!$A:$N,'European Airlines 2012 vly'!H$3,FALSE))/VLOOKUP($A20,'European Airlines 2011 Pax'!$A:$N,'European Airlines 2012 vly'!H$3,FALSE) -> -0.027037807 | I20: =(VLOOKUP($A20,'European Airlines 2012 Pax'!$A:$N,I$3,FALSE)-VLOOKUP($A20,'European Airlines 2011 Pax'!$A:$N,'European Airlines 2012 vly'!I$3,FALSE))/VLOOKUP($A20,'European Airlines 2011 Pax'!$A:$N,'European Airlines 2012 vly'!I$3,FALSE) -> -0.052743823 | J20: ='European Airlines 2012 Pax'!J20/'European Airlines 2011 Pax'!J28-1 -> -0.021135153 | K20: -0.032840655 | L20: 0.064 | M20: ='European Airlines 2012 Pax'!M20/'European Airlines 2011 Pax'!M28-1 -> 0.077800525 | N20: ='European Airlines 2012 Pax'!N20/'European Airlines 2011 Pax'!N28-1 -> 0.0085725312
A21: IAG (BA+Iberia) | B21: 51687000 | C21: 0.1 | D21: -0.014 | E21: 0.014 | F21: 0.009 | G21: 0.093 | H21: 0.116 | I21: 0.086 | J21: 0.077 | K21: 0.087 | L21: 0.075 | M21: 0.074 | N21: 0.043
A22: Icelandair | B22: 1743728 | C22: =(VLOOKUP($A22,'European Airlines 2012 Pax'!$A:$N,C$3,FALSE)-VLOOKUP($A22,'European Airlines 2011 Pax'!$A:$N,'European Airlines 2012 vly'!C$3,FALSE))/VLOOKUP($A22,'European Airlines 2011 Pax'!$A:$N,'European Airlines 2012 vly'!C$3,FALSE) -> 0.13401635 | D22: =(VLOOKUP($A22,'European Airlines 2012 Pax'!$A:$N,D$3,FALSE)-VLOOKUP($A22,'European Airlines 2011 Pax'!$A:$N,'European Airlines 2012 vly'!D$3,FALSE))/VLOOKUP($A22,'European Airlines 2011 Pax'!$A:$N,'European Airlines 2012 vly'!D$3,FALSE) -> 0.17992537 | E22: =(VLOOKUP($A22,'European Airlines 2012 Pax'!$A:$N,E$3,FALSE)-VLOOKUP($A22,'European Airlines 2011 Pax'!$A:$N,'European Airlines 2012 vly'!E$3,FALSE))/VLOOKUP($A22,'European Airlines 2011 Pax'!$A:$N,'European Airlines 2012 vly'!E$3,FALSE) -> 0.22832346 | F22: =(VLOOKUP($A22,'European Airlines 2012 Pax'!$A:$N,F$3,FALSE)-VLOOKUP($A22,'European Airlines 2011 Pax'!$A:$N,'European Airlines 2012 vly'!F$3,FALSE))/VLOOKUP($A22,'European Airlines 2011 Pax'!$A:$N,'European Airlines 2012 vly'!F$3,FALSE) -> 0.19271552 | G22: =(VLOOKUP($A22,'European Airlines 2012 Pax'!$A:$N,G$3,FALSE)-VLOOKUP($A22,'European Airlines 2011 Pax'!$A:$N,'European Airlines 2012 vly'!G$3,FALSE))/VLOOKUP($A22,'European Airlines 2011 Pax'!$A:$N,'European Airlines 2012 vly'!G$3,FALSE) -> 0.21634142 | H22: =(VLOOKUP($A22,'European Airlines 2012 Pax'!$A:$N,H$3,FALSE)-VLOOKUP($A22,'European Airlines 2011 Pax'!$A:$N,'European Airlines 2012 vly'!H$3,FALSE))/VLOOKUP($A22,'European Airlines 2011 Pax'!$A:$N,'European Airlines 2012 vly'!H$3,FALSE) -> 0.15317026 | I22: =(VLOOKUP($A22,'European Airlines 2012 Pax'!$A:$N,I$3,FALSE)-VLOOKUP($A22,'European Airlines 2011 Pax'!$A:$N,'European Airlines 2012 vly'!I$3,FALSE))/VLOOKUP($A22,'European Airlines 2011 Pax'!$A:$N,'European Airlines 2012 vly'!I$3,FALSE) -> 0.086012995 | J22: =(VLOOKUP($A22,'European Airlines 2012 Pax'!$A:$N,J$3,FALSE)-VLOOKUP($A22,'European Airlines 2011 Pax'!$A:$N,'European Airlines 2012 vly'!J$3,FALSE))/VLOOKUP($A22,'European Airlines 2011 Pax'!$A:$N,'European Airlines 2012 vly'!J$3,FALSE) -> 0.088536876 | K22: 0.18245001 | L22: 0.18 | M22: 0.25 | N22: 0.2
A23: Jat Airways | B23: =IF(VLOOKUP(A23,'European Airlines 2011 Pax'!$A:$O,14,FALSE)=0,"",VLOOKUP(A23,'European Airlines 2011 Pax'!$A:$O,15,FALSE)) -> 1154884 | C23: 0.08 | D23: 0.09 | E23: 0.04 | F23: 0.21 | G23: 0.16 | H23: 0.16 | I23: 0.15 | J23: 0.19 | K23: 0.16 | L23: 0.16 | M23: 0.09
