Workbook
Name Afghanistan: 'Last 10 days by country'!$B$3:$D$205
Name Albania: 'Last 10 days by country'!$B$4:$D$4
Name Algeria: 'Last 10 days by country'!$B$6:$D$6
Name Andorra: 'Last 10 days by country'!$B$5:$D$5
Name Angola: 'Last 10 days by country'!$B$3:$D$3
Name Anguilla: 'Last 10 days by country'!$B$7:$D$7
Name Antigua_and_Barbuda: 'Last 10 days by country'!$B$8:$D$8
Name Argentina: 'Last 10 days by country'!$B$9:$D$9
Name Armenia: 'Last 10 days by country'!$B$10:$D$10
Name Aruba: 'Last 10 days by country'!$B$11:$D$11
Name Australia: 'Last 10 days by country'!$B$12:$D$12
Name Austria: 'Last 10 days by country'!$B$13:$D$13
Name Azerbaijan: 'Last 10 days by country'!$B$14:$D$14
Name Bahamas: 'Last 10 days by country'!$B$15:$D$15
Name Bahrain: 'Last 10 days by country'!$B$16:$D$16
Name Bangladesh: 'Last 10 days by country'!$B$17:$D$17
Name Barbados: 'Last 10 days by country'!$B$18:$D$18
Name Belarus: 'Last 10 days by country'!$B$19:$D$19
Name Belgium: 'Last 10 days by country'!$B$20:$D$20
Name Belize: 'Last 10 days by country'!$B$21:$D$21
Name Benin: 'Last 10 days by country'!$B$22:$D$22
Name Bermuda: 'Last 10 days by country'!$B$23:$D$23
Name Bhutan: 'Last 10 days by country'!$B$24:$D$24
Name Bolivia: 'Last 10 days by country'!$B$25:$D$25
Name Bonaire__Saint_Eustatius_and_Saba: 'Last 10 days by country'!$B$26:$D$26
Name Bosnia_and_Herzegovina: 'Last 10 days by country'!$B$27:$D$27
Name Botswana: 'Last 10 days by country'!$B$28:$D$28
Name Brazil: 'Last 10 days by country'!$B$29:$D$29
Name British_Virgin_Islands: 'Last 10 days by country'!$B$30:$D$30
Name Brunei_Darussalam: 'Last 10 days by country'!$B$31:$D$31
Name Bulgaria: 'Last 10 days by country'!$B$32:$D$32
Name Burkina_Faso: 'Last 10 days by country'!$B$33:$D$33
Name Burundi: 'Last 10 days by country'!$B$34:$D$34
Name Cambodia: 'Last 10 days by country'!$B$35:$D$35
Name Cameroon: 'Last 10 days by country'!$B$36:$D$36
Name Canada: 'Last 10 days by country'!$B$37:$D$37
Name Cape_Verde: 'Last 10 days by country'!$B$38:$D$38
Name cases: 'Source data'!$D$2:$D$12393
Name Cases_on_an_international_conveyance_Japan: 'Last 10 days by country'!$B$39:$D$39
Name Cayman_Islands: 'Last 10 days by country'!$B$40:$D$40
Name Central_African_Republic: 'Last 10 days by country'!$B$41:$D$41
Name Chad: 'Last 10 days by country'!$B$42:$D$42
Name Chile: 'Last 10 days by country'!$B$43:$D$43
Name China: 'Last 10 days by country'!$B$44:$D$44
Name Colombia: 'Last 10 days by country'!$B$45:$D$45
Name Congo: 'Last 10 days by country'!$B$46:$D$46
Name continent: 'Source data'!$G$2:$G$12393
Name Costa_Rica: 'Last 10 days by country'!$B$47:$D$47
Name Cote_dIvoire: 'Last 10 days by country'!$B$48:$D$48
Name country: 'Source data'!$F$2:$F$12393
Name Croatia: 'Last 10 days by country'!$B$49:$D$49
Name Cuba: 'Last 10 days by country'!$B$50:$D$50
Name Curaçao: 'Last 10 days by country'!$B$51:$D$51
Name Cyprus: 'Last 10 days by country'!$B$52:$D$52
Name Czech_Republic: 'Last 10 days by country'!$B$53:$D$53
Name date: 'Source data'!$H$2:$H$12393
Name Democratic_Republic_of_the_Congo: 'Last 10 days by country'!$B$54:$D$54
Name Denmark: 'Last 10 days by country'!$B$55:$D$55
Name Djibouti: 'Last 10 days by country'!$B$56:$D$56
Name Dominica: 'Last 10 days by country'!$B$57:$D$57

Sheet Worldwide totals
K1: Source: | L1: https://www.ecdc.europa.eu/en/geographical-distribution-2019-ncov-cases
A4: New case totals worldwide, last 10 days
A7: {=SUMIFS(cases,revdate,_xlfn.ANCHORARRAY('Last 10 days by country'!B1))} -> 72390 | B7: 66386 | C7: 75233 | D7: 81008 | E7: 84339 | F7: 83324 | G7: 84121 | H7: 74139 | I7: 75852 | J7: 93110
A8: {=_xlfn.ANCHORARRAY('Last 10 days by country'!B1)} -> 43933 | B8: 43934 | C8: 43935 | D8: 43936 | E8: 43937 | F8: 43938 | G8: 43939 | H8: 43940 | I8: 43941 | J8: 43942
B9: {=(B7:J7-A7:I7)/(A7:I7)} -> -0.082939633 | C9: 0.13326605 | D9: 0.076761528 | E9: 0.041119396 | F9: -0.012034764 | G9: 0.0095650713 | H9: -0.1186624 | I9: 0.023105248 | J9: 0.22752202
B10: %Change from previous day
C15: Count of countries with fewer cases from previous day | H15: ='Last 10 days by country'!R2 -> 75
C16: Count of countries with more cases from previous day | H16: ='Last 10 days by country'!R3 -> 80
C17: Count of countries with no change | H17: ='Last 10 days by country'!R4 -> 52

Sheet By continent
E5: Source: | F5: https://www.ecdc.europa.eu/en/geographical-distribution-2019-ncov-cases
A6: New case totals by continent, last 10 days
B8: {=_xlfn.ANCHORARRAY('Last 10 days by country'!B1)} -> 43933 | C8: 43934 | D8: 43935 | E8: 43936 | F8: 43937 | G8: 43938 | H8: 43939 | I8: 43940 | J8: 43941 | K8: 43942 | M8: 10-day total | N8: Pct. of Worldwide Cases | O8: 10-day by continent
A9: {=_xlfn._xlws.SORT(_xlfn.UNIQUE(continent))} -> Africa | B9: {=SUMIFS(cases,continent,_xlfn.ANCHORARRAY(A9),revdate,_xlfn.ANCHORARRAY(B8))} -> 856 | C9: 769 | D9: 990 | E9: 962 | F9: 1086 | G9: 1568 | H9: 1160 | I9: 1246 | J9: 964 | K9: 1353 | M9: =SUM(B9:K9) -> 10954 | N9: =M9/SUM(M$9:M$13) -> 0.013867543
A10: America | B10: 32513 | C10: 28929 | D10: 34485 | E10: 37655 | F10: 38762 | G10: 39264 | H10: 40774 | I10: 31995 | J10: 35304 | K10: 44927 | M10: =SUM(B10:K10) -> 364608 | N10: =M10/SUM(M$9:M$13) -> 0.46158637
A11: Asia | B11: 11422 | C11: 11669 | D11: 11093 | E11: 11308 | F11: 12876 | G11: 11702 | H11: 12204 | I11: 12232 | J11: 12659 | K11: 14592 | M11: =SUM(B11:K11) -> 121757 | N11: =M11/SUM(M$9:M$13) -> 0.15414191
A12: Europe | B12: 27549 | C12: 24964 | D12: 28606 | E12: 31035 | F12: 31568 | G12: 30744 | H12: 29926 | I12: 28633 | J12: 26908 | K12: 32209 | M12: =SUM(B12:K12) -> 292142 | N12: =M12/SUM(M$9:M$13) -> 0.36984588
A13: Oceania | B13: 50 | C13: 55 | D13: 59 | E13: 48 | F13: 47 | G13: 46 | H13: 57 | I13: 33 | J13: 17 | K13: 29 | M13: =SUM(B13:K13) -> 441 | N13: =M13/SUM(M$9:M$13) -> 0.00055829711
A14: Other | B14: 0 | C14: 0 | D14: 0 | E14: 0 | F14: 0 | G14: 0 | H14: 0 | I14: 0 | J14: 0 | K14: 0 | M14: =SUM(B14:K14) -> 0 | N14: =M14/SUM(M$9:M$13) -> 0

Sheet Last 10 days by country
A1: Country | B1: {=LARGE(_xlfn.UNIQUE(revdate),{10,9,8,7,6,5,4,3,2,1})} -> 43933 | C1: 43934 | D1: 43935 | E1: 43936 | F1: 43937 | G1: 43938 | H1: 43939 | I1: 43940 | J1: 43941 | K1: 43942 | L1: % Change fr. previous day | M1: 10-day tracking
A2: {=_xlfn.UNIQUE(country)} -> Afghanistan | B2: {=SUMIFS(cases,country,_xlfn.ANCHORARRAY(A2),revdate,_xlfn.ANCHORARRAY(B1))} -> 52 | C2: 58 | D2: 49 | E2: 70 | F2: 10 | G2: 51 | H2: 63 | I2: 88 | J2: 35 | K2: 61 | L2: {=((K2:K210)-(J2:J210))/(J2:J210)} -> 0.74285714 | O2: {=VLOOKUP(_xlfn.ANCHORARRAY(A2),_xlfn.ANCHORARRAY(A2):_xlfn.ANCHORARRAY(B2),11,FALSE)} -> 61 | P2: {=VLOOKUP(_xlfn.ANCHORARRAY(A2),_xlfn.ANCHORARRAY(A2):_xlfn.ANCHORARRAY(B2),10,FALSE)} -> 35 | Q2: {=_xlfn.ANCHORARRAY(O2)-_xlfn.ANCHORARRAY(P2)} -> 26 | R2: =COUNTIF(_xlfn.ANCHORARRAY(Q2),"<"&0) -> 75
A3: Albania | B3: 13 | C3: 21 | D3: 8 | E3: 19 | F3: 24 | G3: 21 | H3: 9 | I3: 14 | J3: 22 | K3: 25 | L3: 0.13636364 | O3: 25 | P3: 22 | Q3: 3 | R3: =COUNTIF(_xlfn.ANCHORARRAY(Q2),">"&0) -> 80
A4: Algeria | B4: 89 | C4: 69 | D4: 87 | E4: 90 | F4: 108 | G4: 150 | H4: 117 | I4: 94 | J4: 89 | K4: 93 | L4: 0.04494382 | O4: 93 | P4: 89 | Q4: 4 | R4: =COUNTIF(_xlfn.ANCHORARRAY(Q2),0) -> 52
A5: Andorra | B5: 16 | C5: 8 | D5: 13 | E5: 14 | F5: 9 | G5: 14 | H5: 8 | I5: 9 | J5: 4 | K5: 0 | L5: -1 | O5: 0 | P5: 4 | Q5: -4
A6: Angola | B6: 0 | C6: 0 | D6: 0 | E6: 0 | F6: 0 | G6: 0 | H6: 5 | I6: 0 | J6: 0 | K6: 0 | L6: #DIV/0! | O6: 0 | P6: 0 | Q6: 0
A7: Anguilla | B7: 0 | C7: 0 | D7: 0 | E7: 0 | F7: 0 | G7: 0 | H7: 0 | I7: 0 | J7: 0 | K7: 0 | L7: #DIV/0! | O7: 0 | P7: 0 | Q7: 0
A8: Antigua_and_Barbuda | B8: 0 | C8: 2 | D8: 0 | E8: 0 | F8: 0 | G8: 0 | H8: 0 | I8: 0 | J8: 0 | K8: 1 | L8: #DIV/0! | O8: 1 | P8: 0 | Q8: 1
A9: Argentina | B9: 66 | C9: 69 | D9: 160 | E9: 0 | F9: 128 | G9: 98 | H9: 170 | I9: 102 | J9: 90 | K9: 112 | L9: 0.24444444 | O9: 112 | P9: 90 | Q9: 22
A10: Armenia | B10: 46 | C10: 26 | D10: 72 | E10: 48 | F10: 42 | G10: 47 | H10: 43 | I10: 48 | J10: 62 | K10: 72 | L10: 0.16129032 | O10: 72 | P10: 62 | Q10: 10
A11: Aruba | B11: 0 | C11: 0 | D11: 0 | E11: 1 | F11: 2 | G11: 1 | H11: 0 | I11: 1 | J11: 0 | K11: 0 | L11: #DIV/0! | O11: 0 | P11: 0 | Q11: 0
A12: Australia | B12: 33 | C12: 44 | D12: 50 | E12: 42 | F12: 39 | G12: 36 | H12: 53 | I12: 26 | J12: 13 | K12: 22 | L12: 0.69230769 | O12: 22 | P12: 13 | Q12: 9
A13: Austria | B13: 130 | C13: 106 | D13: 191 | E13: 136 | F13: 78 | G13: 155 | H13: 59 | I13: 48 | J13: 73 | K13: 50 | L13: -0.31506849 | O13: 50 | P13: 73 | Q13: -23
A14: Azerbaijan | B14: 40 | C14: 50 | D14: 49 | E14: 56 | F14: 30 | G14: 57 | H14: 33 | I14: 25 | J14: 38 | K14: 44 | L14: 0.15789474 | O14: 44 | P14: 38 | Q14: 6
A15: Bahamas | B15: 1 | C15: 2 | D15: 0 | E15: 4 | F15: 1 | G15: 1 | H15: 3 | I15: 2 | J15: 4 | K15: 1 | L15: -0.75 | O15: 1 | P15: 4 | Q15: -3
A16: Bahrain | B16: 96 | C16: 225 | D16: 167 | E16: 145 | F16: 27 | G16: 44 | H16: 29 | I16: 100 | J16: 34 | K16: 66 | L16: 0.94117647 | O16: 66 | P16: 34 | Q16: 32
A17: Bangladesh | B17: 139 | C17: 182 | D17: 209 | E17: 219 | F17: 341 | G17: 266 | H17: 306 | I17: 312 | J17: 492 | K17: 434 | L17: -0.11788618 | O17: 434 | P17: 492 | Q17: -58
A18: Barbados | B18: 3 | C18: 1 | D18: 1 | E18: 2 | F18: 0 | G18: 0 | H18: 0 | I18: 0 | J18: 0 | K18: 0 | L18: #DIV/0! | O18: 0 | P18: 0 | Q18: 0
A19: Belarus | B19: 352 | C19: 341 | D19: 362 | E19: 447 | F19: 476 | G19: 575 | H19: 0 | I19: 0 | J19: 1485 | K19: 459 | L19: -0.69090909 | O19: 459 | P19: 1485 | Q19: -1026
A20: Belgium | B20: 1629 | C20: 942 | D20: 530 | E20: 2454 | F20: 1236 | G20: 1329 | H20: 1045 | I20: 1313 | J20: 1487 | K20: 973 | L20: -0.34566241 | O20: 973 | P20: 1487 | Q20: -514
A21: Belize | B21: 1 | C21: 4 | D21: 0 | E21: 0 | F21: 0 | G21: 0 | H21: 0 | I21: 0 | J21: 0 | K21: 0 | L21: #DIV/0! | O21: 0 | P21: 0 | Q21: 0
A22: Benin | B22: 0 | C22: 0 | D22: 0 | E22: 0 | F22: 2 | G22: 0 | H22: 0 | I22: 0 | J22: 17 | K22: 0 | L22: -1 | O22: 0 | P22: 17 | Q22: -17
A23: Bermuda | B23: 7 | C23: 0 | D23: 0 | E23: 24 | F23: 2 | G23: 0 | H23: 3 | I23: 0 | J23: 0 | K23: 12 | L23: #DIV/0! | O23: 12 | P23: 0 | Q23: 12
A24: Bhutan | B24: 0 | C24: 0 | D24: 0 | E24: 0 | F24: 0 | G24: 0 | H24: 0 | I24: 0 | J24: 1 | K24: 0 | L24: -1 | O24: 0 | P24: 1 | Q24: -1
A25: Bolivia | B25: 30 | C25: 24 | D25: 43 | E25: 44 | F25: 24 | G25: 28 | H25: 27 | I25: 44 | J25: 34 | K25: 11 | L25: -0.67647059 | O25: 11 | P25: 34 | Q25: -23
A26: Bonaire, Saint Eustatius and Saba | B26: 1 | C26: 1 | D26: 0 | E26: 0 | F26: 0 | G26: 0 | H26: 0 | I26: 1 | J26: 0 | K26: 1 | L26: #DIV/0! | O26: 1 | P26: 0 | Q26: 1
A27: Bosnia_and_Herzegovina | B27: 59 | C27: 21 | D27: 45 | E27: 27 | F27: 52 | G27: 58 | H27: 44 | I27: 15 | J27: 31 | K27: 40 | L27: 0.29032258 | O27: 40 | P27: 31 | Q27: 9
A28: Botswana | B28: 0 | C28: 0 | D28: 0 | E28: 0 | F28: 2 | G28: 0 | H28: 0 | I28: 5 | J28: 0 | K28: 0 | L28: #DIV/0! | O28: 0 | P28: 0 | Q28: 0
A29: Brazil | B29: 1442 | C29: 1261 | D29: 1832 | E29: 3058 | F29: 2105 | G29: 3257 | H29: 2917 | I29: 2055 | J29: 1927 | K29: 2498 | L29: 0.29631552 | O29: 2498 | P29: 1927 | Q29: 571
A30: British_Virgin_Islands | B30: 0 | C30: 0 | D30: 0 | E30: 0 | F30: 0 | G30: 0 | H30: 0 | I30: 1 | J30: 1 | K30: 0 | L30: -1 | O30: 0 | P30: 1 | Q30: -1
A31: Brunei_Darussalam | B31: 0 | C31: 0 | D31: 0 | E31: 0 | F31: 0 | G31: 0 | H31: 1 | I31: 1 | J31: 0 | K31: 0 | L31: #DIV/0! | O31: 0 | P31: 0 | Q31: 0
A32: Bulgaria | B32: 14 | C32: 10 | D32: 28 | E32: 34 | F32: 53 | G32: 46 | H32: 32 | I32: 37 | J32: 14 | K32: 46 | L32: 2.2857143 | O32: 46 | P32: 14 | Q32: 32
A33: Burkina_Faso | B33: 13 | C33: 18 | D33: 13 | E33: 14 | F33: 1 | G33: 14 | H33: 8 | I33: 11 | J33: 5 | K33: 19 | L33: 2.8 | O33: 19 | P33: 5 | Q33: 14
A34: Burundi | B34: 0 | C34: 0 | D34: 0 | E34: 0 | F34: 0 | G34: 1 | H34: 0 | I34: 0 | J34: 0 | K34: 0 | L34: #DIV/0! | O34: 0 | P34: 0 | Q34: 0
A35: Cambodia | B35: 0 | C35: 0 | D35: 0 | E35: 0 | F35: 0 | G35: 0 | H35: 0 | I35: 0 | J35: 0 | K35: 0 | L35: #DIV/0! | O35: 0 | P35: 0 | Q35: 0
A36: Cameroon | B36: 0 | C36: 0 | D36: 35 | E36: 0 | F36: 0 | G36: 161 | H36: 0 | I36: 0 | J36: 1 | K36: 146 | L36: 145 | O36: 146 | P36: 1 | Q36: 145
A37: Canada | B37: 1064 | C37: 1298 | D37: 1383 | E37: 1318 | F37: 1717 | G37: 1791 | H37: 1469 | I37: 1436 | J37: 2046 | K37: 1590 | L37: -0.2228739 | O37: 1590 | P37: 2046 | Q37: -456
A38: Cape_Verde | B38: 2 | C38: 0 | D38: 1 | E38: 44 | F38: 0 | G38: 1 | H38: 2 | I38: 3 | J38: 6 | K38: 0 | L38: -1 | O38: 0 | P38: 6 | Q38: -6
A39: Cases_on_an_international_conveyance_Japan | B39: 0 | C39: 0 | D39: 0 | E39: 0 | F39: 0 | G39: 0 | H39: 0 | I39: 0 | J39: 0 | K39: 0 | L39: #DIV/0! | O39: 0 | P39: 0 | Q39: 0
A40: Cayman_Islands | B40: 0 | C40: 0 | D40: 1 | E40: 6 | F40: 1 | G40: 0 | H40: 0 | I40: 0 | J40: 5 | K40: 0 | L40: -1 | O40: 0 | P40: 5 | Q40: -5
...

Sheet Selected time span and country
B1: < Begin typing country name | N1: ="e9:e"&COUNT(E9:E700)+8 -> e9:e19 | O1: Unit
A3: {=_xlfn._xlws.FILTER(_xlfn.ANCHORARRAY('Last 10 days by country'!A2),(LEFT(_xlfn.ANCHORARRAY('Last 10 days by country'!A2),1)=LEFT(O1,1))*(ISNUMBER(SEARCH(O1,_xlfn.ANCHORARRAY('Last 10 days by country'!A2)))))} -> United_Arab_Emirates | C3: 43931 | D3: Enter start date | H3: Case totals by selected country and time span
A4: United_Kingdom | C4: 43941 | D4: Enter end date | H4: Select any dates between Dec 31 2019 and yesterday
A5: United_Republic_of_Tanzania | C5: =C4-C3+1 -> 11 | D5: Days in span
A6: United_States_of_America
A7: United_States_Virgin_Islands
C8: Total | D8: Date | E8: Number
C9: =SUM(_xlfn.ANCHORARRAY(E9)) -> 4275 | D9: {=_xlfn._xlws.SORT(_xlfn.UNIQUE(_xlfn._xlws.FILTER(date,(date>=C3)*(date<=C4))))} -> 43931 | E9: {=SUMIFS(cases,country,A3,revdate,_xlfn.ANCHORARRAY(D9))} -> 370
D10: 43932 | E10: 376
D11: 43933 | E11: 387
D12: 43934 | E12: 398
D13: 43935 | E13: 412
D14: 43936 | E14: 432
D15: 43937 | E15: 460
D16: 43938 | E16: 0
D17: 43939 | E17: 477
D18: 43940 | E18: 479
D19: 43941 | E19: 484

Sheet Sheet3
C6: {=_xlfn._xlws.SORT(_xlfn.UNIQUE(revdate),,-1)} -> 43942
C7: 43941
C8: 43940
C9: 43939
C10: 43938
C11: 43937
C12: 43936
C13: 43935
C14: 43934
C15: 43933
C16: 43932
C17: 43931
C18: 43930
... C119: 43829

Sheet Source data
A1: day | B1: month | C1: year | D1: cases | E1: deaths | F1: countriesAndTerritories | G1: continentExp | H1: Date | I1: Revdate | K1: Source: | L1: https://www.ecdc.europa.eu/en/geographical-distribution-2019-ncov-cases
A2: 22 | B2: 4 | C2: 2020 | D2: 61 | E2: 1 | F2: Afghanistan | G2: Asia | H2: =DATE(C2,B2,A2) -> 43943 | I2: =H2-1 -> 43942
A3: 21 | B3: 4 | C3: 2020 | D3: 35 | E3: 2 | F3: Afghanistan | G3: Asia | H3: =DATE(C3,B3,A3) -> 43942 | I3: =H3-1 -> 43941 | K3: Auto-complete filter | L3: https://www.youtube.com/watch?v=xBRkCv6RWcE&t=198s
A4: 20 | B4: 4 | C4: 2020 | D4: 88 | E4: 3 | F4: Afghanistan | G4: Asia | H4: =DATE(C4,B4,A4) -> 43941 | I4: =H4-1 -> 43940
A5: 19 | B5: 4 | C5: 2020 | D5: 63 | E5: 0 | F5: Afghanistan | G5: Asia | H5: =DATE(C5,B5,A5) -> 43940 | I5: =H5-1 -> 43939
A6: 18 | B6: 4 | C6: 2020 | D6: 51 | E6: 1 | F6: Afghanistan | G6: Asia | H6: =DATE(C6,B6,A6) -> 43939 | I6: =H6-1 -> 43938
A7: 17 | B7: 4 | C7: 2020 | D7: 10 | E7: 4 | F7: Afghanistan | G7: Asia | H7: =DATE(C7,B7,A7) -> 43938 | I7: =H7-1 -> 43937
A8: 16 | B8: 4 | C8: 2020 | D8: 70 | E8: 2 | F8: Afghanistan | G8: Asia | H8: =DATE(C8,B8,A8) -> 43937 | I8: =H8-1 -> 43936
A9: 15 | B9: 4 | C9: 2020 | D9: 49 | E9: 2 | F9: Afghanistan | G9: Asia | H9: =DATE(C9,B9,A9) -> 43936 | I9: =H9-1 -> 43935
A10: 14 | B10: 4 | C10: 2020 | D10: 58 | E10: 3 | F10: Afghanistan | G10: Asia | H10: =DATE(C10,B10,A10) -> 43935 | I10: =H10-1 -> 43934
A11: 13 | B11: 4 | C11: 2020 | D11: 52 | E11: 0 | F11: Afghanistan | G11: Asia | H11: =DATE(C11,B11,A11) -> 43934 | I11: =H11-1 -> 43933
A12: 12 | B12: 4 | C12: 2020 | D12: 34 | E12: 3 | F12: Afghanistan | G12: Asia | H12: =DATE(C12,B12,A12) -> 43933 | I12: =H12-1 -> 43932
A13: 11 | B13: 4 | C13: 2020 | D13: 37 | E13: 0 | F13: Afghanistan | G13: Asia | H13: =DATE(C13,B13,A13) -> 43932 | I13: =H13-1 -> 43931
A14: 10 | B14: 4 | C14: 2020 | D14: 61 | E14: 1 | F14: Afghanistan | G14: Asia | H14: =DATE(C14,B14,A14) -> 43931 | I14: =H14-1 -> 43930
A15: 9 | B15: 4 | C15: 2020 | D15: 56 | E15: 3 | F15: Afghanistan | G15: Asia | H15: =DATE(C15,B15,A15) -> 43930 | I15: =H15-1 -> 43929
... A10153: 12 | B10153: 4 | C10153: 2020 | D10153: 2 | E10153: 0 | F10153: Sierra_Leone | G10153: Africa | H10153: =DATE(C10153,B10153,A10153) -> 43933 | I10153: =H10153-1 -> 43932
A10154: 11 | B10154: 4 | C10154: 2020 | D10154: 1 | E10154: 0 | F10154: Sierra_Leone | G10154: Africa | H10154: =DATE(C10154,B10154,A10154) -> 43932 | I10154: =H10154-1 -> 43931 | L10154: =SUMIF(revdate,I9974,cases) -> 81008
A10155: 10 | B10155: 4 | C10155: 2020 | D10155: 0 | E10155: 0 | F10155: Sierra_Leone | G10155: Africa | H10155: =DATE(C10155,B10155,A10155) -> 43931 | I10155: =H10155-1 -> 43930
A10156: 9 | B10156: 4 | C10156: 2020 | D10156: 1 | E10156: 0 | F10156: Sierra_Leone | G10156: Africa | H10156: =DATE(C10156,B10156,A10156) -> 43930 | I10156: =H10156-1 -> 43929
A10157: 8 | B10157: 4 | C10157: 2020 | D10157: 0 | E10157: 0 | F10157: Sierra_Leone | G10157: Africa | H10157: =DATE(C10157,B10157,A10157) -> 43929 | I10157: =H10157-1 -> 43928
A10158: 7 | B10158: 4 | C10158: 2020 | D10158: 0 | E10158: 0 | F10158: Sierra_Leone | G10158: Africa | H10158: =DATE(C10158,B10158,A10158) -> 43928 | I10158: =H10158-1 -> 43927
A10159: 6 | B10159: 4 | C10159: 2020 | D10159: 2 | E10159: 0 | F10159: Sierra_Leone | G10159: Africa | H10159: =DATE(C10159,B10159,A10159) -> 43927 | I10159: =H10159-1 -> 43926
A10160: 5 | B10160: 4 | C10160: 2020 | D10160: 2 | E10160: 0 | F10160: Sierra_Leone | G10160: Africa | H10160: =DATE(C10160,B10160,A10160) -> 43926 | I10160: =H10160-1 -> 43925
A10161: 4 | B10161: 4 | C10161: 2020 | D10161: 0 | E10161: 0 | F10161: Sierra_Leone | G10161: Africa | H10161: =DATE(C10161,B10161,A10161) -> 43925 | I10161: =H10161-1 -> 43924
A10162: 3 | B10162: 4 | C10162: 2020 | D10162: 1 | E10162: 0 | F10162: Sierra_Leone | G10162: Africa | H10162: =DATE(C10162,B10162,A10162) -> 43924 | I10162: =H10162-1 -> 43923
A10163: 2 | B10163: 4 | C10163: 2020 | D10163: 0 | E10163: 0 | F10163: Sierra_Leone | G10163: Africa | H10163: =DATE(C10163,B10163,A10163) -> 43923 | I10163: =H10163-1 -> 43922
A10164: 1 | B10164: 4 | C10164: 2020 | D10164: 1 | E10164: 0 | F10164: Sierra_Leone | G10164: Africa | H10164: =DATE(C10164,B10164,A10164) -> 43922 | I10164: =H10164-1 -> 43921
A10165: 22 | B10165: 4 | C10165: 2020 | D10165: 2537 | E10165: 0 | F10165: Singapore | G10165: Asia | H10165: =DATE(C10165,B10165,A10165) -> 43943 | I10165: =H10165-1 -> 43942
A10166: 21 | B10166: 4 | C10166: 2020 | D10166: 0 | E10166: 0 | F10166: Singapore | G10166: Asia | H10166: =DATE(C10166,B10166,A10166) -> 43942 | I10166: =H10166-1 -> 43941
... A10182: 5 | B10182: 4 | C10182: 2020 | D10182: 75 | E10182: 1 | F10182: Singapore | G10182: Asia | H10182: =DATE(C10182,B10182,A10182) -> 43926 | I10182: =H10182-1 -> 43925
A10183: 4 | B10183: 4 | C10183: 2020 | D10183: 65 | E10183: 0 | F10183: Singapore | G10183: Asia | H10183: =DATE(C10183,B10183,A10183) -> 43925 | I10183: =H10183-1 -> 43924 | L10183: =SUMIFS(cases,revdate,I9715) -> 89349
A10184: 3 | B10184: 4 | C10184: 2020 | D10184: 49 | E10184: 1 | F10184: Singapore | G10184: Asia | H10184: =DATE(C10184,B10184,A10184) -> 43924 | I10184: =H10184-1 -> 43923
A10185: 2 | B10185: 4 | C10185: 2020 | D10185: 121 | E10185: 1 | F10185: Singapore | G10185: Asia | H10185: =DATE(C10185,B10185,A10185) -> 43923 | I10185: =H10185-1 -> 43922
A10186: 1 | B10186: 4 | C10186: 2020 | D10186: 35 | E10186: 0 | F10186: Singapore | G10186: Asia | H10186: =DATE(C10186,B10186,A10186) -> 43922 | I10186: =H10186-1 -> 43921
A10187: 31 | B10187: 3 | C10187: 2020 | D10187: 0 | E10187: 0 | F10187: Singapore | G10187: Asia | H10187: =DATE(C10187,B10187,A10187) -> 43921 | I10187: =H10187-1 -> 43920
A10188: 30 | B10188: 3 | C10188: 2020 | D10188: 41 | E10188: 0 | F10188: Singapore | G10188: Asia | H10188: =DATE(C10188,B10188,A10188) -> 43920 | I10188: =H10188-1 -> 43919
A10189: 29 | B10189: 3 | C10189: 2020 | D10189: 71 | E10189: 1 | F10189: Singapore | G10189: Asia | H10189: =DATE(C10189,B10189,A10189) -> 43919 | I10189: =H10189-1 -> 43918
A10190: 28 | B10190: 3 | C10190: 2020 | D10190: 138 | E10190: 0 | F10190: Singapore | G10190: Asia | H10190: =DATE(C10190,B10190,A10190) -> 43918 | I10190: =H10190-1 -> 43917
A10191: 27 | B10191: 3 | C10191: 2020 | D10191: 26 | E10191: 0 | F10191: Singapore | G10191: Asia | H10191: =DATE(C10191,B10191,A10191) -> 43917 | I10191: =H10191-1 -> 43916
A10192: 26 | B10192: 3 | C10192: 2020 | D10192: 10 | E10192: 0 | F10192: Singapore | G10192: Asia | H10192: =DATE(C10192,B10192,A10192) -> 43916 | I10192: =H10192-1 -> 43915
...
