Workbook
Name Afghanistan: 'Last 10 days by country'!$B$3:$D$205
Name Albania: 'Last 10 days by country'!$B$4:$D$4
Name Algeria: 'Last 10 days by country'!$B$6:$D$6
Name Andorra: 'Last 10 days by country'!$B$5:$D$5
Name Angola: 'Last 10 days by country'!$B$3:$D$3
Name Anguilla: 'Last 10 days by country'!$B$7:$D$7
Name Antigua_and_Barbuda: 'Last 10 days by country'!$B$8:$D$8
Name Argentina: 'Last 10 days by country'!$B$9:$D$9
Name Armenia: 'Last 10 days by country'!$B$10:$D$10
Name Aruba: 'Last 10 days by country'!$B$11:$D$11
Name Australia: 'Last 10 days by country'!$B$12:$D$12
Name Austria: 'Last 10 days by country'!$B$13:$D$13
Name Azerbaijan: 'Last 10 days by country'!$B$14:$D$14
Name Bahamas: 'Last 10 days by country'!$B$15:$D$15
Name Bahrain: 'Last 10 days by country'!$B$16:$D$16
Name Bangladesh: 'Last 10 days by country'!$B$17:$D$17
Name Barbados: 'Last 10 days by country'!$B$18:$D$18
Name Belarus: 'Last 10 days by country'!$B$19:$D$19
Name Belgium: 'Last 10 days by country'!$B$20:$D$20
Name Belize: 'Last 10 days by country'!$B$21:$D$21
Name Benin: 'Last 10 days by country'!$B$22:$D$22
Name Bermuda: 'Last 10 days by country'!$B$23:$D$23
Name Bhutan: 'Last 10 days by country'!$B$24:$D$24
Name Bolivia: 'Last 10 days by country'!$B$25:$D$25
Name Bonaire__Saint_Eustatius_and_Saba: 'Last 10 days by country'!$B$26:$D$26
Name Bosnia_and_Herzegovina: 'Last 10 days by country'!$B$27:$D$27
Name Botswana: 'Last 10 days by country'!$B$28:$D$28
Name Brazil: 'Last 10 days by country'!$B$29:$D$29
Name British_Virgin_Islands: 'Last 10 days by country'!$B$30:$D$30
Name Brunei_Darussalam: 'Last 10 days by country'!$B$31:$D$31
Name Bulgaria: 'Last 10 days by country'!$B$32:$D$32
Name Burkina_Faso: 'Last 10 days by country'!$B$33:$D$33
Name Burundi: 'Last 10 days by country'!$B$34:$D$34
Name Cambodia: 'Last 10 days by country'!$B$35:$D$35
Name Cameroon: 'Last 10 days by country'!$B$36:$D$36
Name Canada: 'Last 10 days by country'!$B$37:$D$37
Name Cape_Verde: 'Last 10 days by country'!$B$38:$D$38
Name cases: 'Source data'!$D$2:$D$12393
Name Cases_on_an_international_conveyance_Japan: 'Last 10 days by country'!$B$39:$D$39
Name Cayman_Islands: 'Last 10 days by country'!$B$40:$D$40
Name Central_African_Republic: 'Last 10 days by country'!$B$41:$D$41
Name Chad: 'Last 10 days by country'!$B$42:$D$42
Name Chile: 'Last 10 days by country'!$B$43:$D$43
Name China: 'Last 10 days by country'!$B$44:$D$44
Name Colombia: 'Last 10 days by country'!$B$45:$D$45
Name Congo: 'Last 10 days by country'!$B$46:$D$46
Name continent: 'Source data'!$G$2:$G$12393
Name Costa_Rica: 'Last 10 days by country'!$B$47:$D$47
Name Cote_dIvoire: 'Last 10 days by country'!$B$48:$D$48
Name country: 'Source data'!$F$2:$F$12393
Name Croatia: 'Last 10 days by country'!$B$49:$D$49
Name Cuba: 'Last 10 days by country'!$B$50:$D$50
Name Curaçao: 'Last 10 days by country'!$B$51:$D$51
Name Cyprus: 'Last 10 days by country'!$B$52:$D$52
Name Czech_Republic: 'Last 10 days by country'!$B$53:$D$53
Name date: 'Source data'!$H$2:$H$12393
Name Democratic_Republic_of_the_Congo: 'Last 10 days by country'!$B$54:$D$54
Name Denmark: 'Last 10 days by country'!$B$55:$D$55
Name Djibouti: 'Last 10 days by country'!$B$56:$D$56
Name Dominica: 'Last 10 days by country'!$B$57:$D$57

Sheet Worldwide totals
K1: Source: | L1: https://www.ecdc.europa.eu/en/geographical-distribution-2019-ncov-cases
A4: New case totals worldwide, last 10 days
A7: {=SUMIFS(cases,revdate,_xlfn.ANCHORARRAY('Last 10 days by country'!B1))} -> 72390 | B7: 66386 | C7: 75233 | D7: 81008 | E7: 84339 | F7: 83324 | G7: 84121 | H7: 74139 | I7: 75852 | J7: 93110
A8: {=_xlfn.ANCHORARRAY('Last 10 days by country'!B1)} -> 43933 | B8: 43934 | C8: 43935 | D8: 43936 | E8: 43937 | F8: 43938 | G8: 43939 | H8: 43940 | I8: 43941 | J8: 43942
B9: {=(B7:J7-A7:I7)/(A7:I7)} -> -0.082939633 | C9: 0.13326605 | D9: 0.076761528 | E9: 0.041119396 | F9: -0.012034764 | G9: 0.0095650713 | H9: -0.1186624 | I9: 0.023105248 | J9: 0.22752202
B10: %Change from previous day
C15: Count of countries with fewer cases from previous day | H15: ='Last 10 days by country'!R2 -> 75
C16: Count of countries with more cases from previous day | H16: ='Last 10 days by country'!R3 -> 80
C17: Count of countries with no change | H17: ='Last 10 days by country'!R4 -> 52

Sheet By continent
E5: Source: | F5: https://www.ecdc.europa.eu/en/geographical-distribution-2019-ncov-cases
A6: New case totals by continent, last 10 days
B8: {=_xlfn.ANCHORARRAY('Last 10 days by country'!B1)} -> 43933 | C8: 43934 | D8: 43935 | E8: 43936 | F8: 43937 | G8: 43938 | H8: 43939 | I8: 43940 | J8: 43941 | K8: 43942 | M8: 10-day total | N8: Pct. of Worldwide Cases | O8: 10-day by continent
A9: {=_xlfn._xlws.SORT(_xlfn.UNIQUE(continent))} -> Africa | B9: {=SUMIFS(cases,continent,_xlfn.ANCHORARRAY(A9),revdate,_xlfn.ANCHORARRAY(B8))} -> 856 | C9: 769 | D9: 990 | E9: 962 | F9: 1086 | G9: 1568 | H9: 1160 | I9: 1246 | J9: 964 | K9: 1353 | M9: =SUM(B9:K9) -> 10954 | N9: =M9/SUM(M$9:M$13) -> 0.013867543
A10: America | B10: 32513 | C10: 28929 | D10: 34485 | E10: 37655 | F10: 38762 | G10: 39264 | H10: 40774 | I10: 31995 | J10: 35304 | K10: 44927 | M10: =SUM(B10:K10) -> 364608 | N10: =M10/SUM(M$9:M$13) -> 0.46158637
A11: Asia | B11: 11422 | C11: 11669 | D11: 11093 | E11: 11308 | F11: 12876 | G11: 11702 | H11: 12204 | I11: 12232 | J11: 12659 | K11: 14592 | M11: =SUM(B11:K11) -> 121757 | N11: =M11/SUM(M$9:M$13) -> 0.15414191
A12: Europe | B12: 27549 | C12: 24964 | D12: 28606 | E12: 31035 | F12: 31568 | G12: 30744 | H12: 29926 | I12: 28633 | J12: 26908 | K12: 32209 | M12: =SUM(B12:K12) -> 292142 | N12: =M12/SUM(M$9:M$13) -> 0.36984588
A13: Oceania | B13: 50 | C13: 55 | D13: 59 | E13: 48 | F13: 47 | G13: 46 | H13: 57 | I13: 33 | J13: 17 | K13: 29 | M13: =SUM(B13:K13) -> 441 | N13: =M13/SUM(M$9:M$13) -> 0.00055829711
A14: Other | B14: 0 | C14: 0 | D14: 0 | E14: 0 | F14: 0 | G14: 0 | H14: 0 | I14: 0 | J14: 0 | K14: 0 | M14: =SUM(B14:K14) -> 0 | N14: =M14/SUM(M$9:M$13) -> 0

Sheet Last 10 days by country
A1: Country | B1: {=LARGE(_xlfn.UNIQUE(revdate),{10,9,8,7,6,5,4,3,2,1})} -> 43933 | C1: 43934 | D1: 43935 | E1: 43936 | F1: 43937 | G1: 43938 | H1: 43939 | I1: 43940 | J1: 43941 | K1: 43942 | L1: % Change fr. previous day | M1: 10-day tracking
A2: {=_xlfn.UNIQUE(country)} -> Afghanistan | B2: {=SUMIFS(cases,country,_xlfn.ANCHORARRAY(A2),revdate,_xlfn.ANCHORARRAY(B1))} -> 52 | C2: 58 | D2: 49 | E2: 70 | F2: 10 | G2: 51 | H2: 63 | I2: 88 | J2: 35 | K2: 61 | L2: {=((K2:K210)-(J2:J210))/(J2:J210)} -> 0.74285714 | O2: {=VLOOKUP(_xlfn.ANCHORARRAY(A2),_xlfn.ANCHORARRAY(A2):_xlfn.ANCHORARRAY(B2),11,FALSE)} -> 61 | P2: {=VLOOKUP(_xlfn.ANCHORARRAY(A2),_xlfn.ANCHORARRAY(A2):_xlfn.ANCHORARRAY(B2),10,FALSE)} -> 35 | Q2: {=_xlfn.ANCHORARRAY(O2)-_xlfn.ANCHORARRAY(P2)} -> 26 | R2: =COUNTIF(_xlfn.ANCHORARRAY(Q2),"<"&0) -> 75
A3: Albania | B3: 13 | C3: 21 | D3: 8 | E3: 19 | F3: 24 | G3: 21 | H3: 9 | I3: 14 | J3: 22 | K3: 25 | L3: 0.13636364 | O3: 25 | P3: 22 | Q3: 3 | R3: =COUNTIF(_xlfn.ANCHORARRAY(Q2),">"&0) -> 80
A4: Algeria | B4: 89 | C4: 69 | D4: 87 | E4: 90 | F4: 108 | G4: 150 | H4: 117 | I4: 94 | J4: 89 | K4: 93 | L4: 0.04494382 | O4: 93 | P4: 89 | Q4: 4 | R4: =COUNTIF(_xlfn.ANCHORARRAY(Q2),0) -> 52
A5: Andorra | B5: 16 | C5: 8 | D5: 13 | E5: 14 | F5: 9 | G5: 14 | H5: 8 | I5: 9 | J5: 4 | K5: 0 | L5: -1 | O5: 0 | P5: 4 | Q5: -4
A6: Angola | B6: 0 | C6: 0 | D6: 0 | E6: 0 | F6: 0 | G6: 0 | H6: 5 | I6: 0 | J6: 0 | K6: 0 | L6: #DIV/0! | O6: 0 | P6: 0 | Q6: 0
A7: Anguilla | B7: 0 | C7: 0 | D7: 0 | E7: 0 | F7: 0 | G7: 0 | H7: 0 | I7: 0 | J7: 0 | K7: 0 | L7: #DIV/0! | O7: 0 | P7: 0 | Q7: 0
A8: Antigua_and_Barbuda | B8: 0 | C8: 2 | D8: 0 | E8: 0 | F8: 0 | G8: 0 | H8: 0 | I8: 0 | J8: 0 | K8: 1 | L8: #DIV/0! | O8: 1 | P8: 0 | Q8: 1
A9: Argentina | B9: 66 | C9: 69 | D9: 160 | E9: 0 | F9: 128 | G9: 98 | H9: 170 | I9: 102 | J9: 90 | K9: 112 | L9: 0.24444444 | O9: 112 | P9: 90 | Q9: 22
A10: Armenia | B10: 46 | C10: 26 | D10: 72 | E10: 48 | F10: 42 | G10: 47 | H10: 43 | I10: 48 | J10: 62 | K10: 72 | L10: 0.16129032 | O10: 72 | P10: 62 | Q10: 10
A11: Aruba | B11: 0 | C11: 0 | D11: 0 | E11: 1 | F11: 2 | G11: 1 | H11: 0 | I11: 1 | J11: 0 | K11: 0 | L11: #DIV/0! | O11: 0 | P11: 0 | Q11: 0
A12: Australia | B12: 33 | C12: 44 | D12: 50 | E12: 42 | F12: 39 | G12: 36 | H12: 53 | I12: 26 | J12: 13 | K12: 22 | L12: 0.69230769 | O12: 22 | P12: 13 | Q12: 9
A13: Austria | B13: 130 | C13: 106 | D13: 191 | E13: 136 | F13: 78 | G13: 155 | H13: 59 | I13: 48 | J13: 73 | K13: 50 | L13: -0.31506849 | O13: 50 | P13: 73 | Q13: -23
A14: Azerbaijan | B14: 40 | C14: 50 | D14: 49 | E14: 56 | F14: 30 | G14: 57 | H14: 33 | I14: 25 | J14: 38 | K14: 44 | L14: 0.15789474 | O14: 44 | P14: 38 | Q14: 6
A15: Bahamas | B15: 1 | C15: 2 | D15: 0 | E15: 4 | F15: 1 | G15: 1 | H15: 3 | I15: 2 | J15: 4 | K15: 1 | L15: -0.75 | O15: 1 | P15: 4 | Q15: -3
A16: Bahrain | B16: 96 | C16: 225 | D16: 167 | E16: 145 | F16: 27 | G16: 44 | H16: 29 | I16: 100 | J16: 34 | K16: 66 | L16: 0.94117647 | O16: 66 | P16: 34 | Q16: 32
A17: Bangladesh | B17: 139 | C17: 182 | D17: 209 | E17: 219 | F17: 341 | G17: 266 | H17: 306 | I17: 312 | J17: 492 | K17: 434 | L17: -0.11788618 | O17: 434 | P17: 492 | Q17: -58
A18: Barbados | B18: 3 | C18: 1 | D18: 1 | E18: 2 | F18: 0 | G18: 0 | H18: 0 | I18: 0 | J18: 0 | K18: 0 | L18: #DIV/0! | O18: 0 | P18: 0 | Q18: 0
A19: Belarus | B19: 352 | C19: 341 | D19: 362 | E19: 447 | F19: 476 | G19: 575 | H19: 0 | I19: 0 | J19: 1485 | K19: 459 | L19: -0.69090909 | O19: 459 | P19: 1485 | Q19: -1026
A20: Belgium | B20: 1629 | C20: 942 | D20: 530 | E20: 2454 | F20: 1236 | G20: 1329 | H20: 1045 | I20: 1313 | J20: 1487 | K20: 973 | L20: -0.34566241 | O20: 973 | P20: 1487 | Q20: -514
A21: Belize | B21: 1 | C21: 4 | D21: 0 | E21: 0 | F21: 0 | G21: 0 | H21: 0 | I21: 0 | J21: 0 | K21: 0 | L21: #DIV/0! | O21: 0 | P21: 0 | Q21: 0
A22: Benin | B22: 0 | C22: 0 | D22: 0 | E22: 0 | F22: 2 | G22: 0 | H22: 0 | I22: 0 | J22: 17 | K22: 0 | L22: -1 | O22: 0 | P22: 17 | Q22: -17
A23: Bermuda | B23: 7 | C23: 0 | D23: 0 | E23: 24 | F23: 2 | G23: 0 | H23: 3 | I23: 0 | J23: 0 | K23: 12 | L23: #DIV/0! | O23: 12 | P23: 0 | Q23: 12
A24: Bhutan | B24: 0 | C24: 0 | D24: 0 | E24: 0 | F24: 0 | G24: 0 | H24: 0 | I24: 0 | J24: 1 | K24: 0 | L24: -1 | O24: 0 | P24: 1 | Q24: -1
A25: Bolivia | B25: 30 | C25: 24 | D25: 43 | E25: 44 | F25: 24 | G25: 28 | H25: 27 | I25: 44 | J25: 34 | K25: 11 | L25: -0.67647059 | O25: 11 | P25: 34 | Q25: -23
A26: Bonaire, Saint Eustatius and Saba | B26: 1 | C26: 1 | D26: 0 | E26: 0 | F26: 0 | G26: 0 | H26: 0 | I26: 1 | J26: 0 | K26: 1 | L26: #DIV/0! | O26: 1 | P26: 0 | Q26: 1
A27: Bosnia_and_Herzegovina | B27: 59 | C27: 21 | D27: 45 | E27: 27 | F27: 52 | G27: 58 | H27: 44 | I27: 15 | J27: 31 | K27: 40 | L27: 0.29032258 | O27: 40 | P27: 31 | Q27: 9
A28: Botswana | B28: 0 | C28: 0 | D28: 0 | E28: 0 | F28: 2 | G28: 0 | H28: 0 | I28: 5 | J28: 0 | K28: 0 | L28: #DIV/0! | O28: 0 | P28: 0 | Q28: 0
A29: Brazil | B29: 1442 | C29: 1261 | D29: 1832 | E29: 3058 | F29: 2105 | G29: 3257 | H29: 2917 | I29: 2055 | J29: 1927 | K29: 2498 | L29: 0.29631552 | O29: 2498 | P29: 1927 | Q29: 571
A30: British_Virgin_Islands | B30: 0 | C30: 0 | D30: 0 | E30: 0 | F30: 0 | G30: 0 | H30: 0 | I30: 1 | J30: 1 | K30: 0 | L30: -1 | O30: 0 | P30: 1 | Q30: -1
A31: Brunei_Darussalam | B31: 0 | C31: 0 | D31: 0 | E31: 0 | F31: 0 | G31: 0 | H31: 1 | I31: 1 | J31: 0 | K31: 0 | L31: #DIV/0! | O31: 0 | P31: 0 | Q31: 0
A32: Bulgaria | B32: 14 | C32: 10 | D32: 28 | E32: 34 | F32: 53 | G32: 46 | H32: 32 | I32: 37 | J32: 14 | K32: 46 | L32: 2.2857143 | O32: 46 | P32: 14 | Q32: 32
A33: Burkina_Faso | B33: 13 | C33: 18 | D33: 13 | E33: 14 | F33: 1 | G33: 14 | H33: 8 | I33: 11 | J33: 5 | K33: 19 | L33: 2.8 | O33: 19 | P33: 5 | Q33: 14
A34: Burundi | B34: 0 | C34: 0 | D34: 0 | E34: 0 | F34: 0 | G34: 1 | H34: 0 | I34: 0 | J34: 0 | K34: 0 | L34: #DIV/0! | O34: 0 | P34: 0 | Q34: 0
A35: Cambodia | B35: 0 | C35: 0 | D35: 0 | E35: 0 | F35: 0 | G35: 0 | H35: 0 | I35: 0 | J35: 0 | K35: 0 | L35: #DIV/0! | O35: 0 | P35: 0 | Q35: 0
A36: Cameroon | B36: 0 | C36: 0 | D36: 35 | E36: 0 | F36: 0 | G36: 161 | H36: 0 | I36: 0 | J36: 1 | K36: 146 | L36: 145 | O36: 146 | P36: 1 | Q36: 145
A37: Canada | B37: 1064 | C37: 1298 | D37: 1383 | E37: 1318 | F37: 1717 | G37: 1791 | H37: 1469 | I37: 1436 | J37: 2046 | K37: 1590 | L37: -0.2228739 | O37: 1590 | P37: 2046 | Q37: -456
A38: Cape_Verde | B38: 2 | C38: 0 | D38: 1 | E38: 44 | F38: 0 | G38: 1 | H38: 2 | I38: 3 | J38: 6 | K38: 0 | L38: -1 | O38: 0 | P38: 6 | Q38: -6
A39: Cases_on_an_international_conveyance_Japan | B39: 0 | C39: 0 | D39: 0 | E39: 0 | F39: 0 | G39: 0 | H39: 0 | I39: 0 | J39: 0 | K39: 0 | L39: #DIV/0! | O39: 0 | P39: 0 | Q39: 0
A40: Cayman_Islands | B40: 0 | C40: 0 | D40: 1 | E40: 6 | F40: 1 | G40: 0 | H40: 0 | I40: 0 | J40: 5 | K40: 0 | L40: -1 | O40: 0 | P40: 5 | Q40: -5
A41: Central_African_Republic | B41: 0 | C41: 0 | D41: 0 | E41: 0 | F41: 1 | G41: 0 | H41: 0 | I41: 0 | J41: 0 | K41: 2 | L41: #DIV/0! | O41: 2 | P41: 0 | Q41: 2
A42: Chad | B42: 4 | C42: 8 | D42: 0 | E42: 4 | F42: 0 | G42: 6 | H42: 0 | I42: 0 | J42: 0 | K42: 1 | L42: #DIV/0! | O42: 1 | P42: 0 | Q42: 1
A43: Chile | B43: 286 | C43: 312 | D43: 392 | E43: 356 | F43: 534 | G43: 445 | H43: 478 | I43: 358 | J43: 419 | K43: 325 | L43: -0.22434368 | O43: 325 | P43: 419 | Q43: -94
A44: China | B44: 112 | C44: 94 | D44: 49 | E44: 50 | F44: 352 | G44: 31 | H44: 18 | I44: 14 | J44: 32 | K44: 15 | L44: -0.53125 | O44: 15 | P44: 32 | Q44: -17
A45: Colombia | B45: 67 | C45: 76 | D45: 127 | E45: 126 | F45: 128 | G45: 206 | H45: 182 | I45: 171 | J45: 185 | K45: 172 | L45: -0.07027027 | O45: 172 | P45: 185 | Q45: -13
A46: Congo | B46: 10 | C46: 0 | D46: 4 | E46: 43 | F46: 0 | G46: 26 | H46: 0 | I46: 17 | J46: 0 | K46: 5 | L46: #DIV/0! | O46: 5 | P46: 0 | Q46: 5
A47: Costa_Rica | B47: 18 | C47: 17 | D47: 6 | E47: 8 | F47: 16 | G47: 7 | H47: 6 | I47: 5 | J47: 2 | K47: 7 | L47: 2.5 | O47: 7 | P47: 2 | Q47: 5
A48: Cote_dIvoire | B48: 41 | C48: 52 | D48: 0 | E48: 28 | F48: 34 | G48: 54 | H48: 59 | I48: 46 | J48: 32 | K48: 37 | L48: 0.15625 | O48: 37 | P48: 32 | Q48: 5
A49: Croatia | B49: 66 | C49: 50 | D49: 54 | E49: 37 | F49: 50 | G49: 23 | H49: 18 | I49: 39 | J49: 10 | K49: 27 | L49: 1.7 | O49: 27 | P49: 10 | Q49: 17
A50: Cuba | B50: 49 | C50: 57 | D50: 40 | E50: 48 | F50: 48 | G50: 61 | H50: 63 | I50: 49 | J50: 52 | K50: 50 | L50: -0.038461538 | O50: 50 | P50: 52 | Q50: -2
A51: Curaçao | B51: 0 | C51: 0 | D51: 0 | E51: 0 | F51: 0 | G51: 0 | H51: 0 | I51: 0 | J51: 0 | K51: 0 | L51: #DIV/0! | O51: 0 | P51: 0 | Q51: 0
A52: Cyprus | B52: 17 | C52: 29 | D52: 33 | E52: 20 | F52: 20 | G52: 0 | H52: 26 | I52: 6 | J52: 5 | K52: 12 | L52: 1.4 | O52: 12 | P52: 5 | Q52: 7
A53: Czechia | B53: 89 | C53: 68 | D53: 82 | E53: 162 | F53: 130 | G53: 116 | H53: 105 | I53: 133 | J53: 127 | K53: 127 | L53: 0 | O53: 127 | P53: 127 | Q53: 0
A54: Democratic_Republic_of_the_Congo | B54: 0 | C54: 1 | D54: 19 | E54: 13 | F54: 20 | G54: 20 | H54: 20 | I54: 5 | J54: 18 | K54: 9 | L54: -0.5 | O54: 9 | P54: 18 | Q54: -9
A55: Denmark | B55: 178 | C55: 144 | D55: 193 | E55: 170 | F55: 198 | G55: 194 | H55: 169 | I55: 142 | J55: 131 | K55: 180 | L55: 0.3740458 | O55: 180 | P55: 131 | Q55: 49
A56: Djibouti | B56: 27 | C56: 84 | D56: 65 | E56: 72 | F56: 156 | G56: 141 | H56: 0 | I56: 114 | J56: 0 | K56: 99 | L56: #DIV/0! | O56: 99 | P56: 0 | Q56: 99
A57: Dominica | B57: 0 | C57: 0 | D57: 0 | E57: 0 | F57: 0 | G57: 0 | H57: 0 | I57: 0 | J57: 0 | K57: 0 | L57: #DIV/0! | O57: 0 | P57: 0 | Q57: 0
A58: Dominican_Republic | B58: 208 | C58: 200 | D58: 119 | E58: 328 | F58: 141 | G58: 371 | H58: 209 | I58: 345 | J58: 284 | K58: 80 | L58: -0.71830986 | O58: 80 | P58: 284 | Q58: -204
A59: Ecuador | B59: 209 | C59: 63 | D59: 74 | E59: 255 | F59: 367 | G59: 225 | H59: 572 | I59: 446 | J59: 660 | K59: 270 | L59: -0.59090909 | O59: 270 | P59: 660 | Q59: -390
A60: Egypt | B60: 126 | C60: 125 | D60: 160 | E60: 155 | F60: 168 | G60: 171 | H60: 188 | I60: 112 | J60: 189 | K60: 157 | L60: -0.16931217 | O60: 157 | P60: 189 | Q60: -32
A61: El_Salvador | B61: 7 | C61: 24 | D61: 10 | E61: 0 | F61: 5 | G61: 13 | H61: 13 | I61: 11 | J61: 17 | K61: 7 | L61: -0.58823529 | O61: 7 | P61: 17 | Q61: -10
A62: Equatorial_Guinea | B62: 3 | C62: 0 | D62: 20 | E62: 10 | F62: 0 | G62: 28 | H62: 0 | I62: 0 | J62: 0 | K62: 0 | L62: #DIV/0! | O62: 0 | P62: 0 | Q62: 0
A63: Eritrea | B63: 0 | C63: 0 | D63: 1 | E63: 0 | F63: 0 | G63: 0 | H63: 0 | I63: 4 | J63: 0 | K63: 0 | L63: #DIV/0! | O63: 0 | P63: 0 | Q63: 0
A64: Estonia | B64: 5 | C64: 23 | D64: 41 | E64: 29 | F64: 32 | G64: 25 | H64: 53 | I64: 16 | J64: 7 | K64: 17 | L64: 1.4285714 | O64: 17 | P64: 7 | Q64: 10
A65: Eswatini | B65: 0 | C65: 1 | D65: 0 | E65: 1 | F65: 0 | G65: 3 | H65: 0 | I65: 3 | J65: 2 | K65: 0 | L65: -1 | O65: 0 | P65: 2 | Q65: -2
A66: Ethiopia | B66: 2 | C66: 3 | D66: 8 | E66: 3 | F66: 7 | G66: 4 | H66: 9 | I66: 3 | J66: 3 | K66: 3 | L66: 0 | O66: 3 | P66: 3 | Q66: 0
A67: Falkland_Islands_(Malvinas) | B67: 0 | C67: 0 | D67: 6 | E67: 0 | F67: 0 | G67: 0 | H67: 0 | I67: 0 | J67: 0 | K67: 1 | L67: #DIV/0! | O67: 1 | P67: 0 | Q67: 1
A68: Faroe_Islands | B68: 0 | C68: 0 | D68: 0 | E68: 0 | F68: 0 | G68: 0 | H68: 0 | I68: 1 | J68: 0 | K68: 0 | L68: #DIV/0! | O68: 0 | P68: 0 | Q68: 0
A69: Fiji | B69: 0 | C69: 0 | D69: 0 | E69: 0 | F69: 1 | G69: 0 | H69: 0 | I69: 0 | J69: 1 | K69: 0 | L69: -1 | O69: 0 | P69: 1 | Q69: -1
A70: Finland | B70: 69 | C70: 90 | D70: 97 | E70: 76 | F70: 132 | G70: 120 | H70: 192 | I70: 102 | J70: 85 | K70: 146 | L70: 0.71764706 | O70: 146 | P70: 85 | Q70: 61
A71: France | B71: 1613 | C71: 2673 | D71: 5497 | E71: 2633 | F71: 2641 | G71: 405 | H71: 2569 | I71: 785 | J71: 2051 | K71: 2667 | L71: 0.3003413 | O71: 2667 | P71: 2051 | Q71: 616
A72: French_Polynesia | B72: 2 | C72: 2 | D72: 0 | E72: 0 | F72: 0 | G72: 0 | H72: 0 | I72: 0 | J72: 1 | K72: 1 | L72: 0 | O72: 1 | P72: 1 | Q72: 0
A73: Gabon | B73: 8 | C73: 0 | D73: 18 | E73: 12 | F73: 8 | G73: 13 | H73: 1 | I73: 0 | J73: 11 | K73: 36 | L73: 2.2727273 | O73: 36 | P73: 11 | Q73: 25
A74: Gambia | B74: 0 | C74: 0 | D74: 0 | E74: 0 | F74: 0 | G74: 0 | H74: 0 | I74: 1 | J74: 0 | K74: 0 | L74: #DIV/0! | O74: 0 | P74: 0 | Q74: 0
A75: Georgia | B75: 15 | C75: 15 | D75: 28 | E75: 6 | F75: 42 | G75: 22 | H75: 18 | I75: 6 | J75: 8 | K75: 6 | L75: -0.25 | O75: 6 | P75: 8 | Q75: -2
A76: Germany | B76: 2537 | C76: 2082 | D76: 2486 | E76: 2866 | F76: 3380 | G76: 3609 | H76: 2458 | I76: 1775 | J76: 1785 | K76: 2237 | L76: 0.25322129 | O76: 2237 | P76: 1785 | Q76: 452
A77: Ghana | B77: 158 | C77: 0 | D77: 70 | E77: 5 | F77: 0 | G77: 0 | H77: 193 | I77: 208 | J77: 0 | K77: 0 | L77: #DIV/0! | O77: 0 | P77: 0 | Q77: 0
A78: Gibraltar | B78: 0 | C78: 0 | D78: 0 | E78: 2 | F78: 2 | G78: 0 | H78: 0 | I78: 0 | J78: 0 | K78: 0 | L78: #DIV/0! | O78: 0 | P78: 0 | Q78: 0
A79: Greece | B79: 33 | C79: 31 | D79: 25 | E79: 22 | F79: 15 | G79: 0 | H79: 0 | I79: 28 | J79: 10 | K79: 156 | L79: 14.6 | O79: 156 | P79: 10 | Q79: 146
A80: Greenland | B80: 0 | C80: 0 | D80: 0 | E80: 0 | F80: 0 | G80: 0 | H80: 0 | I80: 0 | J80: 0 | K80: 0 | L80: #DIV/0! | O80: 0 | P80: 0 | Q80: 0
A81: Grenada | B81: 0 | C81: 0 | D81: 0 | E81: 0 | F81: 0 | G81: 0 | H81: 0 | I81: 0 | J81: 0 | K81: 0 | L81: #DIV/0! | O81: 0 | P81: 0 | Q81: 0
A82: Guam | B82: 0 | C82: 1 | D82: 1 | E82: 0 | F82: 0 | G82: 1 | H82: 0 | I82: 0 | J82: 0 | K82: 0 | L82: #DIV/0! | O82: 0 | P82: 0 | Q82: 0
A83: Guatemala | B83: 3 | C83: 11 | D83: 13 | E83: 16 | F83: 18 | G83: 21 | H83: 22 | I83: 32 | J83: 5 | K83: 22 | L83: 3.4 | O83: 22 | P83: 5 | Q83: 17
A84: Guernsey | B84: 9 | C84: 1 | D84: 4 | E84: 0 | F84: 11 | G84: 0 | H84: 5 | I84: 0 | J84: 0 | K84: 0 | L84: #DIV/0! | O84: 0 | P84: 0 | Q84: 0
A85: Guinea | B85: 0 | C85: 69 | D85: 44 | E85: 41 | F85: 34 | G85: 39 | H85: 0 | I85: 102 | J85: 43 | K85: 66 | L85: 0.53488372 | O85: 66 | P85: 43 | Q85: 23
A86: Guinea_Bissau | B86: 1 | C86: 0 | D86: 1 | E86: 3 | F86: 3 | G86: 4 | H86: 0 | I86: 0 | J86: 0 | K86: 0 | L86: #DIV/0! | O86: 0 | P86: 0 | Q86: 0
A87: Guyana | B87: 0 | C87: 2 | D87: 1 | E87: 7 | F87: 2 | G87: 6 | H87: 0 | I87: 2 | J87: 1 | K87: 1 | L87: 0 | O87: 1 | P87: 1 | Q87: 0
A88: Haiti | B88: 0 | C88: 7 | D88: 0 | E88: 1 | F88: 2 | G88: 1 | H88: 0 | I88: 3 | J88: 10 | K88: 1 | L88: -0.9 | O88: 1 | P88: 10 | Q88: -9
A89: Holy_See | B89: 0 | C89: 0 | D89: 0 | E89: 0 | F89: 0 | G89: 0 | H89: 0 | I89: 0 | J89: 1 | K89: 0 | L89: -1 | O89: 0 | P89: 1 | Q89: -1
A90: Honduras | B90: 4 | C90: 10 | D90: 12 | E90: 7 | F90: 16 | G90: 15 | H90: 15 | I90: 5 | J90: 17 | K90: 16 | L90: -0.058823529 | O90: 16 | P90: 17 | Q90: -1
A91: Hungary | B91: 48 | C91: 54 | D91: 67 | E91: 73 | F91: 111 | G91: 71 | H91: 82 | I91: 68 | J91: 114 | K91: 70 | L91: -0.38596491 | O91: 70 | P91: 114 | Q91: -44
A92: Iceland | B92: 12 | C92: 10 | D92: 9 | E92: 7 | F92: 12 | G92: 15 | H92: 6 | I92: 11 | J92: 2 | K92: 5 | L92: 1.5 | O92: 5 | P92: 2 | Q92: 3
A93: India | B93: 796 | C93: 1211 | D93: 1075 | E93: 942 | F93: 1007 | G93: 991 | H93: 1334 | I93: 1553 | J93: 1335 | K93: 1384 | L93: 0.03670412 | O93: 1384 | P93: 1335 | Q93: 49
A94: Indonesia | B94: 399 | C94: 316 | D94: 282 | E94: 297 | F94: 380 | G94: 407 | H94: 325 | I94: 327 | J94: 185 | K94: 375 | L94: 1.027027 | O94: 375 | P94: 185 | Q94: 190
A95: Iran | B95: 1657 | C95: 1617 | D95: 1574 | E95: 1512 | F95: 1606 | G95: 1499 | H95: 1374 | I95: 1343 | J95: 1294 | K95: 1297 | L95: 0.0023183926 | O95: 1297 | P95: 1294 | Q95: 3
A96: Iraq | B96: 34 | C96: 26 | D96: 22 | E96: 15 | F96: 19 | G96: 48 | H96: 0 | I96: 57 | J96: 35 | K96: 28 | L96: -0.2 | O96: 28 | P96: 35 | Q96: -7
A97: Ireland | B97: 727 | C97: 992 | D97: 832 | E97: 1068 | F97: 724 | G97: 709 | H97: 778 | I97: 493 | J97: 401 | K97: 388 | L97: -0.032418953 | O97: 388 | P97: 401 | Q97: -13
A98: Isle_of_Man | B98: 2 | C98: 14 | D98: 0 | E98: 12 | F98: 30 | G98: 5 | H98: 8 | I98: 1 | J98: 2 | K98: 7 | L98: 2.5 | O98: 7 | P98: 2 | Q98: 5
... A102: Japan | B102: 507 | C102: 390 | D102: 455 | E102: 482 | F102: 585 | G102: 628 | H102: 566 | I102: 390 | J102: 367 | K102: 378 | L102: 0.029972752 | O102: 378 | P102: 367 | Q102: 11
A103: Jersey | B103: 15 | C103: 4 | D103: 0 | E103: 0 | F103: 6 | G103: 1 | H103: 21 | I103: 4 | J103: 0 | K103: 6 | L103: #DIV/0! | O103: 6 | P103: 0 | Q103: 6
...

Sheet Selected time span and country
B1: < Begin typing country name | N1: ="e9:e"&COUNT(E9:E700)+8 -> e9:e19 | O1: Unit
A3: {=_xlfn._xlws.FILTER(_xlfn.ANCHORARRAY('Last 10 days by country'!A2),(LEFT(_xlfn.ANCHORARRAY('Last 10 days by country'!A2),1)=LEFT(O1,1))*(ISNUMBER(SEARCH(O1,_xlfn.ANCHORARRAY('Last 10 days by country'!A2)))))} -> United_Arab_Emirates | C3: 43931 | D3: Enter start date | H3: Case totals by selected country and time span
A4: United_Kingdom | C4: 43941 | D4: Enter end date | H4: Select any dates between Dec 31 2019 and yesterday
A5: United_Republic_of_Tanzania | C5: =C4-C3+1 -> 11 | D5: Days in span
A6: United_States_of_America
A7: United_States_Virgin_Islands
C8: Total | D8: Date | E8: Number
C9: =SUM(_xlfn.ANCHORARRAY(E9)) -> 4275 | D9: {=_xlfn._xlws.SORT(_xlfn.UNIQUE(_xlfn._xlws.FILTER(date,(date>=C3)*(date<=C4))))} -> 43931 | E9: {=SUMIFS(cases,country,A3,revdate,_xlfn.ANCHORARRAY(D9))} -> 370
D10: 43932 | E10: 376
D11: 43933 | E11: 387
D12: 43934 | E12: 398
D13: 43935 | E13: 412
D14: 43936 | E14: 432
D15: 43937 | E15: 460
D16: 43938 | E16: 0
D17: 43939 | E17: 477
D18: 43940 | E18: 479
D19: 43941 | E19: 484

Sheet Sheet3
C6: {=_xlfn._xlws.SORT(_xlfn.UNIQUE(revdate),,-1)} -> 43942
C7: 43941
C8: 43940
C9: 43939
C10: 43938
C11: 43937
C12: 43936
C13: 43935
C14: 43934
C15: 43933
C16: 43932
C17: 43931
C18: 43930
... C119: 43829

Sheet Source data
A1: day | B1: month | C1: year | D1: cases | E1: deaths | F1: countriesAndTerritories | G1: continentExp | H1: Date | I1: Revdate | K1: Source: | L1: https://www.ecdc.europa.eu/en/geographical-distribution-2019-ncov-cases
A2: 22 | B2: 4 | C2: 2020 | D2: 61 | E2: 1 | F2: Afghanistan | G2: Asia | H2: =DATE(C2,B2,A2) -> 43943 | I2: =H2-1 -> 43942
A3: 21 | B3: 4 | C3: 2020 | D3: 35 | E3: 2 | F3: Afghanistan | G3: Asia | H3: =DATE(C3,B3,A3) -> 43942 | I3: =H3-1 -> 43941 | K3: Auto-complete filter | L3: https://www.youtube.com/watch?v=xBRkCv6RWcE&t=198s
A4: 20 | B4: 4 | C4: 2020 | D4: 88 | E4: 3 | F4: Afghanistan | G4: Asia | H4: =DATE(C4,B4,A4) -> 43941 | I4: =H4-1 -> 43940
A5: 19 | B5: 4 | C5: 2020 | D5: 63 | E5: 0 | F5: Afghanistan | G5: Asia | H5: =DATE(C5,B5,A5) -> 43940 | I5: =H5-1 -> 43939
A6: 18 | B6: 4 | C6: 2020 | D6: 51 | E6: 1 | F6: Afghanistan | G6: Asia | H6: =DATE(C6,B6,A6) -> 43939 | I6: =H6-1 -> 43938
A7: 17 | B7: 4 | C7: 2020 | D7: 10 | E7: 4 | F7: Afghanistan | G7: Asia | H7: =DATE(C7,B7,A7) -> 43938 | I7: =H7-1 -> 43937
A8: 16 | B8: 4 | C8: 2020 | D8: 70 | E8: 2 | F8: Afghanistan | G8: Asia | H8: =DATE(C8,B8,A8) -> 43937 | I8: =H8-1 -> 43936
A9: 15 | B9: 4 | C9: 2020 | D9: 49 | E9: 2 | F9: Afghanistan | G9: Asia | H9: =DATE(C9,B9,A9) -> 43936 | I9: =H9-1 -> 43935
A10: 14 | B10: 4 | C10: 2020 | D10: 58 | E10: 3 | F10: Afghanistan | G10: Asia | H10: =DATE(C10,B10,A10) -> 43935 | I10: =H10-1 -> 43934
A11: 13 | B11: 4 | C11: 2020 | D11: 52 | E11: 0 | F11: Afghanistan | G11: Asia | H11: =DATE(C11,B11,A11) -> 43934 | I11: =H11-1 -> 43933
A12: 12 | B12: 4 | C12: 2020 | D12: 34 | E12: 3 | F12: Afghanistan | G12: Asia | H12: =DATE(C12,B12,A12) -> 43933 | I12: =H12-1 -> 43932
A13: 11 | B13: 4 | C13: 2020 | D13: 37 | E13: 0 | F13: Afghanistan | G13: Asia | H13: =DATE(C13,B13,A13) -> 43932 | I13: =H13-1 -> 43931
A14: 10 | B14: 4 | C14: 2020 | D14: 61 | E14: 1 | F14: Afghanistan | G14: Asia | H14: =DATE(C14,B14,A14) -> 43931 | I14: =H14-1 -> 43930
A15: 9 | B15: 4 | C15: 2020 | D15: 56 | E15: 3 | F15: Afghanistan | G15: Asia | H15: =DATE(C15,B15,A15) -> 43930 | I15: =H15-1 -> 43929
... A10153: 12 | B10153: 4 | C10153: 2020 | D10153: 2 | E10153: 0 | F10153: Sierra_Leone | G10153: Africa | H10153: =DATE(C10153,B10153,A10153) -> 43933 | I10153: =H10153-1 -> 43932
A10154: 11 | B10154: 4 | C10154: 2020 | D10154: 1 | E10154: 0 | F10154: Sierra_Leone | G10154: Africa | H10154: =DATE(C10154,B10154,A10154) -> 43932 | I10154: =H10154-1 -> 43931 | L10154: =SUMIF(revdate,I9974,cases) -> 81008
A10155: 10 | B10155: 4 | C10155: 2020 | D10155: 0 | E10155: 0 | F10155: Sierra_Leone | G10155: Africa | H10155: =DATE(C10155,B10155,A10155) -> 43931 | I10155: =H10155-1 -> 43930
A10156: 9 | B10156: 4 | C10156: 2020 | D10156: 1 | E10156: 0 | F10156: Sierra_Leone | G10156: Africa | H10156: =DATE(C10156,B10156,A10156) -> 43930 | I10156: =H10156-1 -> 43929
A10157: 8 | B10157: 4 | C10157: 2020 | D10157: 0 | E10157: 0 | F10157: Sierra_Leone | G10157: Africa | H10157: =DATE(C10157,B10157,A10157) -> 43929 | I10157: =H10157-1 -> 43928
A10158: 7 | B10158: 4 | C10158: 2020 | D10158: 0 | E10158: 0 | F10158: Sierra_Leone | G10158: Africa | H10158: =DATE(C10158,B10158,A10158) -> 43928 | I10158: =H10158-1 -> 43927
A10159: 6 | B10159: 4 | C10159: 2020 | D10159: 2 | E10159: 0 | F10159: Sierra_Leone | G10159: Africa | H10159: =DATE(C10159,B10159,A10159) -> 43927 | I10159: =H10159-1 -> 43926
A10160: 5 | B10160: 4 | C10160: 2020 | D10160: 2 | E10160: 0 | F10160: Sierra_Leone | G10160: Africa | H10160: =DATE(C10160,B10160,A10160) -> 43926 | I10160: =H10160-1 -> 43925
A10161: 4 | B10161: 4 | C10161: 2020 | D10161: 0 | E10161: 0 | F10161: Sierra_Leone | G10161: Africa | H10161: =DATE(C10161,B10161,A10161) -> 43925 | I10161: =H10161-1 -> 43924
A10162: 3 | B10162: 4 | C10162: 2020 | D10162: 1 | E10162: 0 | F10162: Sierra_Leone | G10162: Africa | H10162: =DATE(C10162,B10162,A10162) -> 43924 | I10162: =H10162-1 -> 43923
A10163: 2 | B10163: 4 | C10163: 2020 | D10163: 0 | E10163: 0 | F10163: Sierra_Leone | G10163: Africa | H10163: =DATE(C10163,B10163,A10163) -> 43923 | I10163: =H10163-1 -> 43922
A10164: 1 | B10164: 4 | C10164: 2020 | D10164: 1 | E10164: 0 | F10164: Sierra_Leone | G10164: Africa | H10164: =DATE(C10164,B10164,A10164) -> 43922 | I10164: =H10164-1 -> 43921
A10165: 22 | B10165: 4 | C10165: 2020 | D10165: 2537 | E10165: 0 | F10165: Singapore | G10165: Asia | H10165: =DATE(C10165,B10165,A10165) -> 43943 | I10165: =H10165-1 -> 43942
A10166: 21 | B10166: 4 | C10166: 2020 | D10166: 0 | E10166: 0 | F10166: Singapore | G10166: Asia | H10166: =DATE(C10166,B10166,A10166) -> 43942 | I10166: =H10166-1 -> 43941
... A10182: 5 | B10182: 4 | C10182: 2020 | D10182: 75 | E10182: 1 | F10182: Singapore | G10182: Asia | H10182: =DATE(C10182,B10182,A10182) -> 43926 | I10182: =H10182-1 -> 43925
A10183: 4 | B10183: 4 | C10183: 2020 | D10183: 65 | E10183: 0 | F10183: Singapore | G10183: Asia | H10183: =DATE(C10183,B10183,A10183) -> 43925 | I10183: =H10183-1 -> 43924 | L10183: =SUMIFS(cases,revdate,I9715) -> 89349
A10184: 3 | B10184: 4 | C10184: 2020 | D10184: 49 | E10184: 1 | F10184: Singapore | G10184: Asia | H10184: =DATE(C10184,B10184,A10184) -> 43924 | I10184: =H10184-1 -> 43923
A10185: 2 | B10185: 4 | C10185: 2020 | D10185: 121 | E10185: 1 | F10185: Singapore | G10185: Asia | H10185: =DATE(C10185,B10185,A10185) -> 43923 | I10185: =H10185-1 -> 43922
A10186: 1 | B10186: 4 | C10186: 2020 | D10186: 35 | E10186: 0 | F10186: Singapore | G10186: Asia | H10186: =DATE(C10186,B10186,A10186) -> 43922 | I10186: =H10186-1 -> 43921
A10187: 31 | B10187: 3 | C10187: 2020 | D10187: 0 | E10187: 0 | F10187: Singapore | G10187: Asia | H10187: =DATE(C10187,B10187,A10187) -> 43921 | I10187: =H10187-1 -> 43920
A10188: 30 | B10188: 3 | C10188: 2020 | D10188: 41 | E10188: 0 | F10188: Singapore | G10188: Asia | H10188: =DATE(C10188,B10188,A10188) -> 43920 | I10188: =H10188-1 -> 43919
A10189: 29 | B10189: 3 | C10189: 2020 | D10189: 71 | E10189: 1 | F10189: Singapore | G10189: Asia | H10189: =DATE(C10189,B10189,A10189) -> 43919 | I10189: =H10189-1 -> 43918
A10190: 28 | B10190: 3 | C10190: 2020 | D10190: 138 | E10190: 0 | F10190: Singapore | G10190: Asia | H10190: =DATE(C10190,B10190,A10190) -> 43918 | I10190: =H10190-1 -> 43917
A10191: 27 | B10191: 3 | C10191: 2020 | D10191: 26 | E10191: 0 | F10191: Singapore | G10191: Asia | H10191: =DATE(C10191,B10191,A10191) -> 43917 | I10191: =H10191-1 -> 43916
A10192: 26 | B10192: 3 | C10192: 2020 | D10192: 10 | E10192: 0 | F10192: Singapore | G10192: Asia | H10192: =DATE(C10192,B10192,A10192) -> 43916 | I10192: =H10192-1 -> 43915
A10193: 25 | B10193: 3 | C10193: 2020 | D10193: 49 | E10193: 0 | F10193: Singapore | G10193: Asia | H10193: =DATE(C10193,B10193,A10193) -> 43915 | I10193: =H10193-1 -> 43914
A10194: 24 | B10194: 3 | C10194: 2020 | D10194: 54 | E10194: 0 | F10194: Singapore | G10194: Asia | H10194: =DATE(C10194,B10194,A10194) -> 43914 | I10194: =H10194-1 -> 43913
A10195: 23 | B10195: 3 | C10195: 2020 | D10195: 23 | E10195: 0 | F10195: Singapore | G10195: Asia | H10195: =DATE(C10195,B10195,A10195) -> 43913 | I10195: =H10195-1 -> 43912
... A12393: 21 | B12393: 3 | C12393: 2020 | D12393: 1 | E12393: 0 | F12393: Zimbabwe | G12393: Africa | H12393: =DATE(C12393,B12393,A12393) -> 43911 | I12393: =H12393-1 -> 43910
